CCSD3ZF0000100000001NJPL3IF0PDSX00000001
PDS_VERSION_ID = PDS3
DATA_SET_ID = 'MGN-V-RDRS-5-C-BIDR-V1.0'
PRODUCT_ID = 'IM204760;03'
SOURCE_PRODUCT_ID = 'C-BIDR.4756-4760;3'
/* PHYSICAL DESCRIPTION OF THE FILE
RECORD_TYPE = FIXED_LENGTH
RECORD_BYTES = 32500
FILE_RECORDS = 213
/* LOCATION OF OBJECTS WITHIN THE FILE
^IMAGE = 'IM2.DAT'
/* GENERAL PARAMETERS
SPACECRAFT_NAME = 'MAGELLAN'
MISSION_PHASE_NAME = 'PRIMARY MISSION'
INSTRUMENT_NAME = 'RADAR SYSTEM'
TARGET_NAME = 'VENUS'
ORBIT_NUMBER = 4760
START_TIME = 1992-05-03T01:26:43.406
STOP_TIME = 1992-05-03T01:45:42.633
SPACECRAFT_CLOCK_START_COUNT = '01571700.22.6.0'
SPACECRAFT_CLOCK_STOP_COUNT = '01571720.16.2.0'
NOTE = 'SINUSOIDAL_IMAGE_FILE'
DESCRIPTION = "This is the Sinusoidal Image File consisting of a set of logical image data records, each containing multi-look image data in the sinusoidal projection. The image data will include all available data between 89 degrees N and 89 degrees S latitude. For more information, refer to IDPS-101, Compressed Resolution Basic Image Data Record, JPL, MIPL, February 14, 1990, and to SDPS-101, Full Resolution Basic Image Data Record, J. Gilbert, JPL, 1990."
CONFIDENCE_LEVEL_NOTE = "The following errors were noted by the software that generated this PDS label: gap 41 lines between lat 42.4222 and 42.2056 block 7 gap 23 lines between lat 42.2056 and 42.0323 block 8 gap 3 lines between lat 34.6417 and 34.5444 block 305 gap 11 lines between lat 31.0333 and 30.9083 block 452 gap 7 lines between lat 28.2751 and 28.1643 block 593 gap 3 lines between lat 22.0114 and 21.9347 block 923 gap 174 lines between lat 20.7971 and 20.361 block 986 gap 5 lines between lat 12.5869 and 12.5152 block 1484 gap 7 lines between lat 2.92586 and 2.83993 block 2139 gap 2 lines between lat 2.3201 and 2.2434 block 2165 gap 14 lines between lat -0.539012 and -0.651218 block 2334 gap 153 lines between lat -2.28743 and -2.70216 block 2413 gap 831 lines between lat -10.8449 and -12.724 block 2796 gap 16 lines between lat -15.7152 and -15.8856 block 2891 gap 8 lines between lat -17.6368 and -17.7973 block 2946 gap 23 lines between lat -18.1297 and -18.3172 block 2952 gap 96 lines between lat -24.1973 and -24.5751 block 3108 gap 56 lines between lat -26.7759 and -27.0664 block 3152 gap 21 lines between lat -28.1955 and -28.427 block 3168 gap 193 lines between lat -28.5144 and -29.1201 block 3172 gap 40 lines between lat -29.1201 and -29.3957 block 3173 gap 60 lines between lat -29.417 and -29.7366 block 3175 gap 37 lines between lat -29.89 and -30.1343 block 3178 gap 52 lines between lat -32.5801 and -32.8726 block 3215 gap 10 lines between lat -33.3925 and -33.6084 block 3222 gap 285 lines between lat -35.4427 and -36.2729 block 3245 gap 34 lines between lat -37.385 and -37.6648 block 3265 gap 220 lines between lat -38.0866 and -38.8153 block 3270 gap 97 lines between lat -40.4003 and -40.8577 block 3292 gap 102 lines between lat -40.977 and -41.44 block 3295 gap 140 lines between lat -41.4933 and -42.0451 block 3297 gap 34 lines between lat -42.8057 and -43.17 block 3303"
/* DESCRIPTION OF OBJECTS WITHIN THE FILE
OBJECT = IMAGE
  SFDU_FORMAT_ID = 'NJPL1I000111'
  INTERCHANGE_FORMAT = BINARY
  BYTES = 6922500
  FILE_RECORDS = 3306
  ^STRUCTURE = 'CBIDRIM.FMT'
  COLUMNS = 16
  LINE_SAMPLES = 171
  LINES = 37886
  LINE_PREFIX_BYTES = 4
  SAMPLE_TYPE = MSB_UNSIGNED_INTEGER
  SAMPLE_BITS = 8
  SCALING_FACTOR = 0.2
  OFFSET = -20.2
  MISSING = 0
  DESCRIPTION = "This file consists of varying-length logical data records. Each record contains a 92-byte header, followed by a rectangular pixel array. Each line of the pixel array begins with a pair of 2-byte integers defining the start and end of valid pixels in that line. The 8-bit integer pixel values (DN) are related to the normalized radar cross-section (SIGMA-N) by DN = 1+INT((MIN(MAX(RV,-20),30)+20)*5)."
END_OBJECT = IMAGE
OBJECT = IMAGE_MAP_PROJECTION
  OBJECT = DATA_SET_MAP_PROJECTION
    DATA_SET_ID = 'MGN-V-RDRS-5-C-BIDR-V1.0'
    ^STRUCTURE = 'DSMAPCB.LBL'
  END_OBJECT = DATA_SET_MAP_PROJECTION
  IMAGE_ID = 'IM204760;03'
  MAP_PROJECTION_TYPE = SINUSOIDAL
  MAP_RESOLUTION = 469.1
  MAP_SCALE = 225
  LINE_PROJECTION_OFFSET = 20003
  SAMPLE_PROJECTION_OFFSET = 704
  A_AXIS_RADIUS = 6051.92
  B_AXIS_RADIUS = 6051.92
  C_AXIS_RADIUS = 6051.92
  FIRST_STANDARD_PARALLEL = 0.0
  SECOND_STANDARD_PARALLEL = 'N/A'
  POSITIVE_LONGITUDE_DIRECTION = EAST
  CENTER_LATITUDE = 0.0
  CENTER_LONGITUDE = 131.121
  MAP_PROJECTION_ROTATION = 0.0
  LINE_FIRST_PIXEL = 'N/A'
  LINE_LAST_PIXEL = 'N/A'
  MAXIMUM_LATITUDE = 'N/A'
  MAXIMUM_LONGITUDE = 'N/A'
  MINIMUM_LATITUDE = 'N/A'
  MINIMUM_LONGITUDE = 'N/A'
  REFERENCE_LATITUDE = 'N/A'
  REFERENCE_LONGITUDE = 'N/A'
  SAMPLE_FIRST_PIXEL = 'N/A'
  SAMPLE_LAST_PIXEL = 'N/A'
END_OBJECT = IMAGE_MAP_PROJECTION
END
