CCSD3ZF0000100000001NJPL3IF0PDSX00000001
PDS_VERSION_ID = PDS3
DATA_SET_ID = 'MGN-V-RDRS-5-C-BIDR-V1.0'
PRODUCT_ID = 'IM204762;01'
SOURCE_PRODUCT_ID = 'C-BIDR.4761-4765;1'
/* PHYSICAL DESCRIPTION OF THE FILE
RECORD_TYPE = FIXED_LENGTH
RECORD_BYTES = 32500
FILE_RECORDS = 157
/* LOCATION OF OBJECTS WITHIN THE FILE
^IMAGE = 'IM2.DAT'
/* GENERAL PARAMETERS
SPACECRAFT_NAME = 'MAGELLAN'
MISSION_PHASE_NAME = 'PRIMARY MISSION'
INSTRUMENT_NAME = 'RADAR SYSTEM'
TARGET_NAME = 'VENUS'
ORBIT_NUMBER = 4762
START_TIME = 1992-05-03T08:04:10.632
STOP_TIME = 1992-05-03T08:17:54.626
SPACECRAFT_CLOCK_START_COUNT = '01572087.03.5.0'
SPACECRAFT_CLOCK_STOP_COUNT = '01572106.88.1.0'
NOTE = 'SINUSOIDAL_IMAGE_FILE'
DESCRIPTION = "This is the Sinusoidal Image File consisting of a set of logical image data records, each containing multi-look image data in the sinusoidal projection. The image data will include all available data between 89 degrees N and 89 degrees S latitude. For more information, refer to IDPS-101, Compressed Resolution Basic Image Data Record, JPL, MIPL, February 14, 1990, and to SDPS-101, Full Resolution Basic Image Data Record, J. Gilbert, JPL, 1990."
CONFIDENCE_LEVEL_NOTE = "The following errors were noted by the software that generated this PDS label: gap 58 lines between lat 16.9586 and 16.7705 block 4 gap 32 lines between lat 16.7705 and 16.6369 block 5 gap 22 lines between lat 16.5837 and 16.4722 block 7 gap 202 lines between lat 16.4722 and 15.9779 block 8 gap 18 lines between lat 15.931 and 15.8274 block 10 gap 95 lines between lat 15.8274 and 15.566 block 11 gap 43 lines between lat 15.566 and 15.4155 block 12 gap 9 lines between lat 15.4155 and 15.3359 block 13 gap 8 lines between lat 15.3359 and 15.2564 block 14 gap 10 lines between lat 15.2564 and 15.174 block 15 gap 47 lines between lat 15.174 and 15.0149 block 16 gap 17 lines between lat 15.0149 and 14.9155 block 17 gap 18 lines between lat 14.9155 and 14.8161 block 18 gap 27 lines between lat 14.7692 and 14.6485 block 20 gap 13 lines between lat 14.5697 and 14.4809 block 23 gap 70 lines between lat 14.4511 and 14.2423 block 25 gap 60 lines between lat 14.1741 and 13.9866 block 28 gap 5 lines between lat 13.9589 and 13.8872 block 31 gap 9 lines between lat 13.8595 and 13.7793 block 33 gap 9 lines between lat 13.7793 and 13.6997 block 34 gap 51 lines between lat 13.6401 and 13.4725 block 37 gap 18 lines between lat 13.187 and 13.089 block 46 gap 2 lines between lat 13.0592 and 12.9896 block 48 gap 10 lines between lat 12.8788 and 12.7964 block 52 gap 51 lines between lat 12.6856 and 12.5152 block 56 gap 10 lines between lat 12.3959 and 12.3135 block 60 gap 8 lines between lat 12.2347 and 12.1544 block 65 gap 5 lines between lat 11.8114 and 11.7397 block 77 gap 3 lines between lat 11.3796 and 11.3079 block 91 gap 32 lines between lat 11.2269 and 11.0948 block 95 gap 12 lines between lat 9.86769 and 9.77963 block 143 gap 3 lines between lat 8.30107 and 8.22579 block 218 gap 12 lines between lat 8.06388 and 7.97014 block 230 gap 7 lines between lat 7.74644 and 7.66335 block 240 gap 6 lines between lat 4.43354 and 4.354 block 428 gap 154 lines between lat -2.30163 and -2.71637 block 891 gap 95 lines between lat -24.2002 and -24.5751 block 2231"
/* DESCRIPTION OF OBJECTS WITHIN THE FILE
OBJECT = IMAGE
  SFDU_FORMAT_ID = 'NJPL1I000111'
  INTERCHANGE_FORMAT = BINARY
  BYTES = 5102500
  FILE_RECORDS = 3036
  ^STRUCTURE = 'CBIDRIM.FMT'
  COLUMNS = 16
  LINE_SAMPLES = 171
  LINES = 27470
  LINE_PREFIX_BYTES = 4
  SAMPLE_TYPE = MSB_UNSIGNED_INTEGER
  SAMPLE_BITS = 8
  SCALING_FACTOR = 0.2
  OFFSET = -20.2
  MISSING = 0
  DESCRIPTION = "This file consists of varying-length logical data records. Each record contains a 92-byte header, followed by a rectangular pixel array. Each line of the pixel array begins with a pair of 2-byte integers defining the start and end of valid pixels in that line. The 8-bit integer pixel values (DN) are related to the normalized radar cross-section (SIGMA-N) by DN = 1+INT((MIN(MAX(RV,-20),30)+20)*5)."
END_OBJECT = IMAGE
OBJECT = IMAGE_MAP_PROJECTION
  OBJECT = DATA_SET_MAP_PROJECTION
    DATA_SET_ID = 'MGN-V-RDRS-5-C-BIDR-V1.0'
    ^STRUCTURE = 'DSMAPCB.LBL'
  END_OBJECT = DATA_SET_MAP_PROJECTION
  IMAGE_ID = 'IM204762;01'
  MAP_PROJECTION_TYPE = SINUSOIDAL
  MAP_RESOLUTION = 469.1
  MAP_SCALE = 225
  LINE_PROJECTION_OFFSET = 8016
  SAMPLE_PROJECTION_OFFSET = 168
  A_AXIS_RADIUS = 6051.92
  B_AXIS_RADIUS = 6051.92
  C_AXIS_RADIUS = 6051.92
  FIRST_STANDARD_PARALLEL = 0.0
  SECOND_STANDARD_PARALLEL = 'N/A'
  POSITIVE_LONGITUDE_DIRECTION = EAST
  CENTER_LATITUDE = 0.0
  CENTER_LONGITUDE = 131.522
  MAP_PROJECTION_ROTATION = 0.0
  LINE_FIRST_PIXEL = 'N/A'
  LINE_LAST_PIXEL = 'N/A'
  MAXIMUM_LATITUDE = 'N/A'
  MAXIMUM_LONGITUDE = 'N/A'
  MINIMUM_LATITUDE = 'N/A'
  MINIMUM_LONGITUDE = 'N/A'
  REFERENCE_LATITUDE = 'N/A'
  REFERENCE_LONGITUDE = 'N/A'
  SAMPLE_FIRST_PIXEL = 'N/A'
  SAMPLE_LAST_PIXEL = 'N/A'
END_OBJECT = IMAGE_MAP_PROJECTION
END
