CCSD3ZF0000100000001NJPL3IF0PDSX00000001
PDS_VERSION_ID = PDS3
DATA_SET_ID = 'MGN-V-RDRS-5-C-BIDR-V1.0'
PRODUCT_ID = 'IM204768;02'
SOURCE_PRODUCT_ID = 'C-BIDR.4766-4770;2'
/* PHYSICAL DESCRIPTION OF THE FILE
RECORD_TYPE = FIXED_LENGTH
RECORD_BYTES = 32500
FILE_RECORDS = 113
/* LOCATION OF OBJECTS WITHIN THE FILE
^IMAGE = 'IM2.DAT'
/* GENERAL PARAMETERS
SPACECRAFT_NAME = 'MAGELLAN'
MISSION_PHASE_NAME = 'PRIMARY MISSION'
INSTRUMENT_NAME = 'RADAR SYSTEM'
TARGET_NAME = 'VENUS'
ORBIT_NUMBER = 4768
START_TIME = 1992-05-04T03:31:08.011
STOP_TIME = 1992-05-04T03:40:54.141
SPACECRAFT_CLOCK_START_COUNT = '01573247.37.1.0'
SPACECRAFT_CLOCK_STOP_COUNT = '01573267.30.7.0'
NOTE = 'SINUSOIDAL_IMAGE_FILE'
DESCRIPTION = "This is the Sinusoidal Image File consisting of a set of logical image data records, each containing multi-look image data in the sinusoidal projection. The image data will include all available data between 89 degrees N and 89 degrees S latitude. For more information, refer to IDPS-101, Compressed Resolution Basic Image Data Record, JPL, MIPL, February 14, 1990, and to SDPS-101, Full Resolution Basic Image Data Record, J. Gilbert, JPL, 1990."
CONFIDENCE_LEVEL_NOTE = "The following errors were noted by the software that generated this PDS label: gap 3 lines between lat 35.4747 and 35.3539 block 248 gap 6 lines between lat 32.6504 and 32.5531 block 344 gap 37 lines between lat 32.1078 and 31.9366 block 362 gap 14 lines between lat 31.7449 and 31.6157 block 367 gap 4 lines between lat 31.1278 and 31.0163 block 385 gap 7 lines between lat 23.8216 and 23.7329 block 727 gap 164 lines between lat 20.7907 and 20.3809 block 875 gap 16 lines between lat 20.2659 and 20.1679 block 880 gap 2 lines between lat 20.0635 and 20.0003 block 887 gap 7 lines between lat 19.947 and 19.8724 block 890 gap 2 lines between lat 18.891 and 18.8242 block 937 gap 27 lines between lat 18.7901 and 18.6708 block 939 gap 5 lines between lat 18.6602 and 18.5828 block 941 gap 2 lines between lat 18.0161 and 17.9465 block 972 gap 6 lines between lat 17.4991 and 17.421 block 997 gap 26 lines between lat 16.9309 and 16.8102 block 1022 gap 8 lines between lat 14.5349 and 14.4582 block 1149 gap 4 lines between lat 13.1032 and 13.035 block 1216 gap 3 lines between lat 12.0592 and 11.9896 block 1270 gap 2 lines between lat 11.0331 and 10.9613 block 1324 gap 8 lines between lat 10.7973 and 10.7142 block 1335 gap 31 lines between lat 9.92592 and 9.79667 block 1373 gap 12 lines between lat 8.69521 and 8.6036 block 1413 gap 3 lines between lat 8.50986 and 8.43884 block 1420 gap 4 lines between lat 8.39623 and 8.32522 block 1423 gap 7 lines between lat 7.70099 and 7.6179 block 1446 gap 7 lines between lat 6.53987 and 6.45607 block 1492 gap 25 lines between lat 6.25155 and 6.1294 block 1503 gap 15 lines between lat 5.42634 and 5.32266 block 1532 gap 44 lines between lat 4.95408 and 4.79146 block 1545 gap 58 lines between lat 4.79146 and 4.60113 block 1546 gap 11 lines between lat 4.47117 and 4.37956 block 1551 gap 4 lines between lat 3.54796 and 3.47056 block 1585 gap 13 lines between lat 3.37255 and 3.27171 block 1589 gap 98 lines between lat 2.88822 and 2.607 block 1602 gap 12 lines between lat 2.59848 and 2.49906 block 1604 gap 43 lines between lat 2.43727 and 2.2718 block 1607 gap 18 lines between lat 2.16528 and 2.05308 block 1611 gap 28 lines between lat 1.85281 and 1.71788 block 1616 gap 7 lines between lat 1.6987 and 1.60709 block 1618 gap 27 lines between lat 1.60709 and 1.47358 block 1619 gap 26 lines between lat 1.40541 and 1.2719 block 1621 gap 2 lines between lat 1.20798 and 1.12987 block 1624 gap 20 lines between lat 0.209497 and 0.0901904 block 1647 gap 127 lines between lat -0.0994225 and -0.446691 block 1652 gap 26 lines between lat -0.499953 and -0.634174 block 1655 gap 54 lines between lat -0.634174 and -0.827338 block 1656 gap 15 lines between lat -1.30457 and -1.41535 block 1673 gap 57 lines between lat -1.426 and -1.63124 block 1675 gap 57 lines between lat -1.73563 and -1.94087 block 1679 gap 425 lines between lat -2.27749 and -3.27597 block 1687 gap 100 lines between lat -3.27597 and -3.57424 block 1688"
/* DESCRIPTION OF OBJECTS WITHIN THE FILE
OBJECT = IMAGE
  SFDU_FORMAT_ID = 'NJPL1I000111'
  INTERCHANGE_FORMAT = BINARY
  BYTES = 3672500
  FILE_RECORDS = 1690
  ^STRUCTURE = 'CBIDRIM.FMT'
  COLUMNS = 16
  LINE_SAMPLES = 171
  LINES = 20110
  LINE_PREFIX_BYTES = 4
  SAMPLE_TYPE = MSB_UNSIGNED_INTEGER
  SAMPLE_BITS = 8
  SCALING_FACTOR = 0.2
  OFFSET = -20.2
  MISSING = 0
  DESCRIPTION = "This file consists of varying-length logical data records. Each record contains a 92-byte header, followed by a rectangular pixel array. Each line of the pixel array begins with a pair of 2-byte integers defining the start and end of valid pixels in that line. The 8-bit integer pixel values (DN) are related to the normalized radar cross-section (SIGMA-N) by DN = 1+INT((MIN(MAX(RV,-20),30)+20)*5)."
END_OBJECT = IMAGE
OBJECT = IMAGE_MAP_PROJECTION
  OBJECT = DATA_SET_MAP_PROJECTION
    DATA_SET_ID = 'MGN-V-RDRS-5-C-BIDR-V1.0'
    ^STRUCTURE = 'DSMAPCB.LBL'
  END_OBJECT = DATA_SET_MAP_PROJECTION
  IMAGE_ID = 'IM204768;02'
  MAP_PROJECTION_TYPE = SINUSOIDAL
  MAP_RESOLUTION = 469.1
  MAP_SCALE = 225
  LINE_PROJECTION_OFFSET = 19971
  SAMPLE_PROJECTION_OFFSET = 698
  A_AXIS_RADIUS = 6051.92
  B_AXIS_RADIUS = 6051.92
  C_AXIS_RADIUS = 6051.92
  FIRST_STANDARD_PARALLEL = 0.0
  SECOND_STANDARD_PARALLEL = 'N/A'
  POSITIVE_LONGITUDE_DIRECTION = EAST
  CENTER_LATITUDE = 0.0
  CENTER_LONGITUDE = 132.728
  MAP_PROJECTION_ROTATION = 0.0
  LINE_FIRST_PIXEL = 'N/A'
  LINE_LAST_PIXEL = 'N/A'
  MAXIMUM_LATITUDE = 'N/A'
  MAXIMUM_LONGITUDE = 'N/A'
  MINIMUM_LATITUDE = 'N/A'
  MINIMUM_LONGITUDE = 'N/A'
  REFERENCE_LATITUDE = 'N/A'
  REFERENCE_LONGITUDE = 'N/A'
  SAMPLE_FIRST_PIXEL = 'N/A'
  SAMPLE_LAST_PIXEL = 'N/A'
END_OBJECT = IMAGE_MAP_PROJECTION
END
