CCSD3ZF0000100000001NJPL3IF0PDSX00000001
PDS_VERSION_ID = PDS3
DATA_SET_ID = 'MGN-V-RDRS-5-C-BIDR-V1.0'
PRODUCT_ID = 'IM204783;01'
SOURCE_PRODUCT_ID = 'C-BIDR.4781-4785;2'
/* PHYSICAL DESCRIPTION OF THE FILE
RECORD_TYPE = FIXED_LENGTH
RECORD_BYTES = 32500
FILE_RECORDS = 87
/* LOCATION OF OBJECTS WITHIN THE FILE
^IMAGE = 'IM2.DAT'
/* GENERAL PARAMETERS
SPACECRAFT_NAME = 'MAGELLAN'
MISSION_PHASE_NAME = 'PRIMARY MISSION'
INSTRUMENT_NAME = 'RADAR SYSTEM'
TARGET_NAME = 'VENUS'
ORBIT_NUMBER = 4783
START_TIME = 1992-05-06T04:24:08.106
STOP_TIME = 1992-05-06T04:41:00.838
SPACECRAFT_CLOCK_START_COUNT = '01576148.30.3.0'
SPACECRAFT_CLOCK_STOP_COUNT = '01576168.23.9.0'
NOTE = 'SINUSOIDAL_IMAGE_FILE'
DESCRIPTION = "This is the Sinusoidal Image File consisting of a set of logical image data records, each containing multi-look image data in the sinusoidal projection. The image data will include all available data between 89 degrees N and 89 degrees S latitude. For more information, refer to IDPS-101, Compressed Resolution Basic Image Data Record, JPL, MIPL, February 14, 1990, and to SDPS-101, Full Resolution Basic Image Data Record, J. Gilbert, JPL, 1990."
CONFIDENCE_LEVEL_NOTE = "The following errors were noted by the software that generated this PDS label: gap 6562 lines between lat 34.4563 and 20.3809 block 516 gap 4400 lines between lat 12.3575 and 2.91947 block 1220 gap 12 lines between lat 2.79803 and 2.69506 block 1225 gap 48 lines between lat 2.69506 and 2.5161 block 1226 gap 48 lines between lat 2.5161 and 2.33714 block 1227 gap 27 lines between lat 2.33714 and 2.20079 block 1228 gap 12 lines between lat 2.20079 and 2.09853 block 1229 gap 38 lines between lat 2.09853 and 1.94229 block 1230 gap 26 lines between lat 1.94229 and 1.80878 block 1231 gap 74 lines between lat 1.80878 and 1.57585 block 1232 gap 5 lines between lat 1.53111 and 1.44518 block 1234 gap 27 lines between lat 1.42387 and 1.29178 block 1237 gap 53 lines between lat 0.921079 and 0.732176 block 1246 gap 63 lines between lat 0.713002 and 0.499243 block 1248 gap 27 lines between lat 0.409763 and 0.274832 block 1252 gap 16 lines between lat 0.210918 and 0.0958717 block 1254 gap 5 lines between lat -0.100133 and -0.191033 block 1259 gap 27 lines between lat -0.250687 and -0.387038 block 1261 gap 11 lines between lat -0.480779 and -0.583042 block 1265 gap 15 lines between lat -0.755611 and -0.869947 block 1270 gap 39 lines between lat -1.6561 and -1.82156 block 1294 gap 3135 lines between lat -2.22422 and -8.98851 block 1306 gap 5224 lines between lat -13.3283 and -24.578 block 1565"
/* DESCRIPTION OF OBJECTS WITHIN THE FILE
OBJECT = IMAGE
  SFDU_FORMAT_ID = 'NJPL1I000111'
  INTERCHANGE_FORMAT = BINARY
  BYTES = 2827500
  FILE_RECORDS = 1909
  ^STRUCTURE = 'CBIDRIM.FMT'
  COLUMNS = 16
  LINE_SAMPLES = 171
  LINES = 15011
  LINE_PREFIX_BYTES = 4
  SAMPLE_TYPE = MSB_UNSIGNED_INTEGER
  SAMPLE_BITS = 8
  SCALING_FACTOR = 0.2
  OFFSET = -20.2
  MISSING = 0
  DESCRIPTION = "This file consists of varying-length logical data records. Each record contains a 92-byte header, followed by a rectangular pixel array. Each line of the pixel array begins with a pair of 2-byte integers defining the start and end of valid pixels in that line. The 8-bit integer pixel values (DN) are related to the normalized radar cross-section (SIGMA-N) by DN = 1+INT((MIN(MAX(RV,-20),30)+20)*5)."
END_OBJECT = IMAGE
OBJECT = IMAGE_MAP_PROJECTION
  OBJECT = DATA_SET_MAP_PROJECTION
    DATA_SET_ID = 'MGN-V-RDRS-5-C-BIDR-V1.0'
    ^STRUCTURE = 'DSMAPCB.LBL'
  END_OBJECT = DATA_SET_MAP_PROJECTION
  IMAGE_ID = 'IM204783;01'
  MAP_PROJECTION_TYPE = SINUSOIDAL
  MAP_RESOLUTION = 469.1
  MAP_SCALE = 225
  LINE_PROJECTION_OFFSET = 20003
  SAMPLE_PROJECTION_OFFSET = 712
  A_AXIS_RADIUS = 6051.92
  B_AXIS_RADIUS = 6051.92
  C_AXIS_RADIUS = 6051.92
  FIRST_STANDARD_PARALLEL = 0.0
  SECOND_STANDARD_PARALLEL = 'N/A'
  POSITIVE_LONGITUDE_DIRECTION = EAST
  CENTER_LATITUDE = 0.0
  CENTER_LONGITUDE = 135.742
  MAP_PROJECTION_ROTATION = 0.0
  LINE_FIRST_PIXEL = 'N/A'
  LINE_LAST_PIXEL = 'N/A'
  MAXIMUM_LATITUDE = 'N/A'
  MAXIMUM_LONGITUDE = 'N/A'
  MINIMUM_LATITUDE = 'N/A'
  MINIMUM_LONGITUDE = 'N/A'
  REFERENCE_LATITUDE = 'N/A'
  REFERENCE_LONGITUDE = 'N/A'
  SAMPLE_FIRST_PIXEL = 'N/A'
  SAMPLE_LAST_PIXEL = 'N/A'
END_OBJECT = IMAGE_MAP_PROJECTION
END
