CCSD3ZF0000100000001NJPL3IF0PDSX00000001
PDS_VERSION_ID = PDS3
DATA_SET_ID = 'MGN-V-RDRS-5-C-BIDR-V1.0'
PRODUCT_ID = 'IM204785;02'
SOURCE_PRODUCT_ID = 'C-BIDR.4781-4785;2'
/* PHYSICAL DESCRIPTION OF THE FILE
RECORD_TYPE = FIXED_LENGTH
RECORD_BYTES = 32500
FILE_RECORDS = 149
/* LOCATION OF OBJECTS WITHIN THE FILE
^IMAGE = 'IM2.DAT'
/* GENERAL PARAMETERS
SPACECRAFT_NAME = 'MAGELLAN'
MISSION_PHASE_NAME = 'PRIMARY MISSION'
INSTRUMENT_NAME = 'RADAR SYSTEM'
TARGET_NAME = 'VENUS'
ORBIT_NUMBER = 4785
START_TIME = 'UNK'
STOP_TIME = 'UNK'
SPACECRAFT_CLOCK_START_COUNT = '01576535.11.1.0'
SPACECRAFT_CLOCK_STOP_COUNT = '01576555.04.7.0'
NOTE = 'SINUSOIDAL_IMAGE_FILE'
DESCRIPTION = "This is the Sinusoidal Image File consisting of a set of logical image data records, each containing multi-look image data in the sinusoidal projection. The image data will include all available data between 89 degrees N and 89 degrees S latitude. For more information, refer to IDPS-101, Compressed Resolution Basic Image Data Record, JPL, MIPL, February 14, 1990, and to SDPS-101, Full Resolution Basic Image Data Record, J. Gilbert, JPL, 1990."
CONFIDENCE_LEVEL_NOTE = "The following errors were noted by the software that generated this PDS label: gap 157 lines between lat 20.7658 and 20.3724 block 1386 gap 2621 lines between lat -2.29595 and -7.96019 block 3214 gap 9 lines between lat -16.1775 and -16.3174 block 3613 gap 38 lines between lat -16.5155 and -16.7179 block 3619 gap 2 lines between lat -16.8393 and -16.965 block 3622 gap 171 lines between lat -17.5268 and -18.0246 block 3630 gap 7 lines between lat -18.0246 and -18.1723 block 3631 gap 124 lines between lat -18.1723 and -18.5672 block 3632 gap 22 lines between lat -18.5672 and -18.7518 block 3633 gap 47 lines between lat -18.8413 and -19.0927 block 3635 gap 201 lines between lat -19.0927 and -19.6693 block 3636 gap 104 lines between lat -19.6864 and -20.0443 block 3638 gap 7 lines between lat -20.0443 and -20.1977 block 3639 gap 15 lines between lat -20.2616 and -20.4306 block 3642 gap 184 lines between lat -20.5286 and -21.0556 block 3645 gap 188 lines between lat -21.0556 and -21.6066 block 3646 gap 244 lines between lat -21.7941 and -22.4588 block 3649 gap 1230 lines between lat -22.4588 and -25.2427 block 3650 gap 52 lines between lat -25.2427 and -25.5069 block 3651 gap 2986 lines between lat -25.5069 and -32.0489 block 3652 gap 4111 lines between lat -32.0489 and -40.9969 block 3653 gap 113 lines between lat -40.9969 and -41.4627 block 3654 gap 353 lines between lat -41.5096 and -42.5507 block 3656 gap 409 lines between lat -42.5507 and -43.7154 block 3657"
/* DESCRIPTION OF OBJECTS WITHIN THE FILE
OBJECT = IMAGE
  SFDU_FORMAT_ID = 'NJPL1I000111'
  INTERCHANGE_FORMAT = BINARY
  BYTES = 4842500
  FILE_RECORDS = 3658
  ^STRUCTURE = 'CBIDRIM.FMT'
  COLUMNS = 16
  LINE_SAMPLES = 171
  LINES = 25762
  LINE_PREFIX_BYTES = 4
  SAMPLE_TYPE = MSB_UNSIGNED_INTEGER
  SAMPLE_BITS = 8
  SCALING_FACTOR = 0.2
  OFFSET = -20.2
  MISSING = 0
  DESCRIPTION = "This file consists of varying-length logical data records. Each record contains a 92-byte header, followed by a rectangular pixel array. Each line of the pixel array begins with a pair of 2-byte integers defining the start and end of valid pixels in that line. The 8-bit integer pixel values (DN) are related to the normalized radar cross-section (SIGMA-N) by DN = 1+INT((MIN(MAX(RV,-20),30)+20)*5)."
END_OBJECT = IMAGE
OBJECT = IMAGE_MAP_PROJECTION
  OBJECT = DATA_SET_MAP_PROJECTION
    DATA_SET_ID = 'MGN-V-RDRS-5-C-BIDR-V1.0'
    ^STRUCTURE = 'DSMAPCB.LBL'
  END_OBJECT = DATA_SET_MAP_PROJECTION
  IMAGE_ID = 'IM204785;02'
  MAP_PROJECTION_TYPE = SINUSOIDAL
  MAP_RESOLUTION = 469.1
  MAP_SCALE = 225
  LINE_PROJECTION_OFFSET = 18468
  SAMPLE_PROJECTION_OFFSET = 658
  A_AXIS_RADIUS = 6051.92
  B_AXIS_RADIUS = 6051.92
  C_AXIS_RADIUS = 6051.92
  FIRST_STANDARD_PARALLEL = 0.0
  SECOND_STANDARD_PARALLEL = 'N/A'
  POSITIVE_LONGITUDE_DIRECTION = EAST
  CENTER_LATITUDE = 0.0
  CENTER_LONGITUDE = 136.144
  MAP_PROJECTION_ROTATION = 0.0
  LINE_FIRST_PIXEL = 'N/A'
  LINE_LAST_PIXEL = 'N/A'
  MAXIMUM_LATITUDE = 'N/A'
  MAXIMUM_LONGITUDE = 'N/A'
  MINIMUM_LATITUDE = 'N/A'
  MINIMUM_LONGITUDE = 'N/A'
  REFERENCE_LATITUDE = 'N/A'
  REFERENCE_LONGITUDE = 'N/A'
  SAMPLE_FIRST_PIXEL = 'N/A'
  SAMPLE_LAST_PIXEL = 'N/A'
END_OBJECT = IMAGE_MAP_PROJECTION
END
