CCSD3ZF0000100000001NJPL3IF0PDSX00000001
PDS_VERSION_ID = PDS3
DATA_SET_ID = 'MGN-V-RDRS-5-C-BIDR-V1.0'
PRODUCT_ID = 'IM204901;02'
SOURCE_PRODUCT_ID = 'C-BIDR.4901-4905;2'
/* PHYSICAL DESCRIPTION OF THE FILE
RECORD_TYPE = FIXED_LENGTH
RECORD_BYTES = 32500
FILE_RECORDS = 217
/* LOCATION OF OBJECTS WITHIN THE FILE
^IMAGE = 'IM2.DAT'
/* GENERAL PARAMETERS
SPACECRAFT_NAME = 'MAGELLAN'
MISSION_PHASE_NAME = 'PRIMARY MISSION'
INSTRUMENT_NAME = 'RADAR SYSTEM'
TARGET_NAME = 'VENUS'
ORBIT_NUMBER = 4901
START_TIME = 1992-05-22T04:59:06.951
STOP_TIME = 1992-05-22T05:18:22.881
SPACECRAFT_CLOCK_START_COUNT = '01598968.76.3.0'
SPACECRAFT_CLOCK_STOP_COUNT = '01598988.69.9.0'
NOTE = 'SINUSOIDAL_IMAGE_FILE'
DESCRIPTION = "This is the Sinusoidal Image File consisting of a set of logical image data records, each containing multi-look image data in the sinusoidal projection. The image data will include all available data between 89 degrees N and 89 degrees S latitude. For more information, refer to IDPS-101, Compressed Resolution Basic Image Data Record, JPL, MIPL, February 14, 1990, and to SDPS-101, Full Resolution Basic Image Data Record, J. Gilbert, JPL, 1990."
CONFIDENCE_LEVEL_NOTE = "The following errors were noted by the software that generated this PDS label: gap 536 lines between lat 40.673 and 39.4161 block 1 gap 54 lines between lat 39.3394 and 39.1235 block 3 gap 36 lines between lat 39.0468 and 38.8678 block 5 gap 71 lines between lat 38.838 and 38.5752 block 7 gap 35 lines between lat 38.5752 and 38.3934 block 8 gap 47 lines between lat 38.3806 and 38.1633 block 10 gap 51 lines between lat 38.044 and 37.8139 block 14 gap 115 lines between lat 37.7969 and 37.4333 block 16 gap 128 lines between lat 37.4333 and 37.0669 block 17 gap 21 lines between lat 37.0242 and 36.8765 block 19 gap 21 lines between lat 36.7892 and 36.6436 block 24 gap 77 lines between lat 36.6436 and 36.3766 block 25 gap 103 lines between lat 36.3766 and 36.0499 block 26 gap 58 lines between lat 35.8582 and 35.6238 block 32 gap 98 lines between lat 35.496 and 35.2006 block 35 gap 44 lines between lat 35.0301 and 34.8426 block 40 gap 43 lines between lat 34.8426 and 34.658 block 41 gap 72 lines between lat 34.4961 and 34.2461 block 47 gap 4 lines between lat 33.739 and 33.6212 block 61 gap 73 lines between lat 33.4166 and 33.1809 block 68 gap 39 lines between lat 33.1276 and 32.9593 block 72 gap 5 lines between lat 32.7974 and 32.6979 block 81 gap 16 lines between lat 32.5744 and 32.4508 block 85 gap 2 lines between lat 32.2157 and 32.1156 block 91 gap 13 lines between lat 31.0078 and 30.9027 block 120 gap 4 lines between lat 30.8345 and 30.7549 block 123 gap 2 lines between lat 29.2622 and 29.1642 block 178 gap 156 lines between lat 20.9618 and 20.5457 block 651 gap 152 lines between lat -2.1525 and -2.55729 block 2659 gap 96 lines between lat -24.0666 and -24.453 block 4146"
/* DESCRIPTION OF OBJECTS WITHIN THE FILE
OBJECT = IMAGE
  SFDU_FORMAT_ID = 'NJPL1I000111'
  INTERCHANGE_FORMAT = BINARY
  BYTES = 7052500
  FILE_RECORDS = 5098
  ^STRUCTURE = 'CBIDRIM.FMT'
  COLUMNS = 16
  LINE_SAMPLES = 171
  LINES = 37589
  LINE_PREFIX_BYTES = 4
  SAMPLE_TYPE = MSB_UNSIGNED_INTEGER
  SAMPLE_BITS = 8
  SCALING_FACTOR = 0.2
  OFFSET = -20.2
  MISSING = 0
  DESCRIPTION = "This file consists of varying-length logical data records. Each record contains a 92-byte header, followed by a rectangular pixel array. Each line of the pixel array begins with a pair of 2-byte integers defining the start and end of valid pixels in that line. The 8-bit integer pixel values (DN) are related to the normalized radar cross-section (SIGMA-N) by DN = 1+INT((MIN(MAX(RV,-20),30)+20)*5)."
END_OBJECT = IMAGE
OBJECT = IMAGE_MAP_PROJECTION
  OBJECT = DATA_SET_MAP_PROJECTION
    DATA_SET_ID = 'MGN-V-RDRS-5-C-BIDR-V1.0'
    ^STRUCTURE = 'DSMAPCB.LBL'
  END_OBJECT = DATA_SET_MAP_PROJECTION
  IMAGE_ID = 'IM204901;02'
  MAP_PROJECTION_TYPE = SINUSOIDAL
  MAP_RESOLUTION = 469.1
  MAP_SCALE = 225
  LINE_PROJECTION_OFFSET = 19091
  SAMPLE_PROJECTION_OFFSET = 661
  A_AXIS_RADIUS = 6051.92
  B_AXIS_RADIUS = 6051.92
  C_AXIS_RADIUS = 6051.92
  FIRST_STANDARD_PARALLEL = 0.0
  SECOND_STANDARD_PARALLEL = 'N/A'
  POSITIVE_LONGITUDE_DIRECTION = EAST
  CENTER_LATITUDE = 0.0
  CENTER_LONGITUDE = 159.441
  MAP_PROJECTION_ROTATION = 0.0
  LINE_FIRST_PIXEL = 'N/A'
  LINE_LAST_PIXEL = 'N/A'
  MAXIMUM_LATITUDE = 'N/A'
  MAXIMUM_LONGITUDE = 'N/A'
  MINIMUM_LATITUDE = 'N/A'
  MINIMUM_LONGITUDE = 'N/A'
  REFERENCE_LATITUDE = 'N/A'
  REFERENCE_LONGITUDE = 'N/A'
  SAMPLE_FIRST_PIXEL = 'N/A'
  SAMPLE_LAST_PIXEL = 'N/A'
END_OBJECT = IMAGE_MAP_PROJECTION
END
