CCSD3ZF0000100000001NJPL3IF0PDSX00000001
PDS_VERSION_ID = PDS3
DATA_SET_ID = 'MGN-V-RDRS-5-C-BIDR-V1.0'
PRODUCT_ID = 'IM204933;01'
SOURCE_PRODUCT_ID = 'C-BIDR.4931-4935;1'
/* PHYSICAL DESCRIPTION OF THE FILE
RECORD_TYPE = FIXED_LENGTH
RECORD_BYTES = 32500
FILE_RECORDS = 84
/* LOCATION OF OBJECTS WITHIN THE FILE
^IMAGE = 'IM2.DAT'
/* GENERAL PARAMETERS
SPACECRAFT_NAME = 'MAGELLAN'
MISSION_PHASE_NAME = 'PRIMARY MISSION'
INSTRUMENT_NAME = 'RADAR SYSTEM'
TARGET_NAME = 'VENUS'
ORBIT_NUMBER = 4933
START_TIME = 1992-05-26T13:23:53.172
STOP_TIME = 1992-05-26T13:35:42.267
SPACECRAFT_CLOCK_START_COUNT = '01605157.36.9.0'
SPACECRAFT_CLOCK_STOP_COUNT = '01605177.30.5.0'
NOTE = 'SINUSOIDAL_IMAGE_FILE'
DESCRIPTION = "This is the Sinusoidal Image File consisting of a set of logical image data records, each containing multi-look image data in the sinusoidal projection. The image data will include all available data between 89 degrees N and 89 degrees S latitude. For more information, refer to IDPS-101, Compressed Resolution Basic Image Data Record, JPL, MIPL, February 14, 1990, and to SDPS-101, Full Resolution Basic Image Data Record, J. Gilbert, JPL, 1990."
CONFIDENCE_LEVEL_NOTE = "The following errors were noted by the software that generated this PDS label: gap 3451 lines between lat 29.8715 and 22.4319 block 1 gap 1980 lines between lat 22.4319 and 18.134 block 2 gap 1206 lines between lat 18.134 and 15.5007 block 3 gap 750 lines between lat 15.5007 and 13.8219 block 4 gap 103 lines between lat 13.8219 and 13.5208 block 5 gap 483 lines between lat 13.5208 and 12.4101 block 6 gap 672 lines between lat 12.4101 and 10.8988 block 7 gap 26 lines between lat 10.8988 and 10.7568 block 8 gap 766 lines between lat 10.7568 and 9.0439 block 9 gap 33 lines between lat 9.0439 and 8.89335 block 10 gap 228 lines between lat 8.89335 and 8.32238 block 11 gap 524 lines between lat 8.32238 and 7.12078 block 12 gap 54 lines between lat 7.12078 and 6.9191 block 13 gap 20 lines between lat 6.9191 and 6.78843 block 14 gap 578 lines between lat 6.78843 and 5.47037 block 15 gap 224 lines between lat 5.47037 and 4.90508 block 16 gap 35 lines between lat 4.87739 and 4.71476 block 18 gap 339 lines between lat 4.71476 and 3.90517 block 19 gap 82 lines between lat 3.90517 and 3.64384 block 20 gap 106 lines between lat 3.64384 and 3.33136 block 21 gap 616 lines between lat 3.33136 and 1.93093 block 22 gap 93 lines between lat 1.93093 and 1.66107 block 23 gap 259 lines between lat 1.66107 and 1.0134 block 24 gap 396 lines between lat 1.0134 and 0.0759872 block 25 gap 497 lines between lat 0.0759872 and -1.08015 block 26 gap 639 lines between lat -1.08015 and -2.54025 block 27 gap 10 lines between lat -2.54025 and -2.64251 block 28 gap 48 lines between lat -2.7469 and -2.95214 block 32 gap 153 lines between lat -2.98836 and -3.418 block 34 gap 8 lines between lat -3.43931 and -3.54583 block 36 gap 26 lines between lat -3.76314 and -3.9208 block 40 gap 47 lines between lat -3.9208 and -4.1026 block 41 gap 62 lines between lat -4.18356 and -4.42075 block 44 gap 11 lines between lat -4.56989 and -4.67925 block 47 gap 34 lines between lat -4.78364 and -4.96047 block 50 gap 72 lines between lat -5.16926 and -5.40646 block 58 gap 259 lines between lat -5.41711 and -6.05128 block 60 gap 3578 lines between lat -6.05128 and -13.7636 block 61 gap 102 lines between lat -23.926 and -24.328 block 547 gap 1314 lines between lat -34.1708 and -37.2131 block 1064"
/* DESCRIPTION OF OBJECTS WITHIN THE FILE
OBJECT = IMAGE
  SFDU_FORMAT_ID = 'NJPL1I000111'
  INTERCHANGE_FORMAT = BINARY
  BYTES = 2730000
  FILE_RECORDS = 1354
  ^STRUCTURE = 'CBIDRIM.FMT'
  COLUMNS = 16
  LINE_SAMPLES = 171
  LINES = 14736
  LINE_PREFIX_BYTES = 4
  SAMPLE_TYPE = MSB_UNSIGNED_INTEGER
  SAMPLE_BITS = 8
  SCALING_FACTOR = 0.2
  OFFSET = -20.2
  MISSING = 0
  DESCRIPTION = "This file consists of varying-length logical data records. Each record contains a 92-byte header, followed by a rectangular pixel array. Each line of the pixel array begins with a pair of 2-byte integers defining the start and end of valid pixels in that line. The 8-bit integer pixel values (DN) are related to the normalized radar cross-section (SIGMA-N) by DN = 1+INT((MIN(MAX(RV,-20),30)+20)*5)."
END_OBJECT = IMAGE
OBJECT = IMAGE_MAP_PROJECTION
  OBJECT = DATA_SET_MAP_PROJECTION
    DATA_SET_ID = 'MGN-V-RDRS-5-C-BIDR-V1.0'
    ^STRUCTURE = 'DSMAPCB.LBL'
  END_OBJECT = DATA_SET_MAP_PROJECTION
  IMAGE_ID = 'IM204933;01'
  MAP_PROJECTION_TYPE = SINUSOIDAL
  MAP_RESOLUTION = 469.1
  MAP_SCALE = 225
  LINE_PROJECTION_OFFSET = 14021
  SAMPLE_PROJECTION_OFFSET = 474
  A_AXIS_RADIUS = 6051.92
  B_AXIS_RADIUS = 6051.92
  C_AXIS_RADIUS = 6051.92
  FIRST_STANDARD_PARALLEL = 0.0
  SECOND_STANDARD_PARALLEL = 'N/A'
  POSITIVE_LONGITUDE_DIRECTION = EAST
  CENTER_LATITUDE = 0.0
  CENTER_LONGITUDE = 165.866
  MAP_PROJECTION_ROTATION = 0.0
  LINE_FIRST_PIXEL = 'N/A'
  LINE_LAST_PIXEL = 'N/A'
  MAXIMUM_LATITUDE = 'N/A'
  MAXIMUM_LONGITUDE = 'N/A'
  MINIMUM_LATITUDE = 'N/A'
  MINIMUM_LONGITUDE = 'N/A'
  REFERENCE_LATITUDE = 'N/A'
  REFERENCE_LONGITUDE = 'N/A'
  SAMPLE_FIRST_PIXEL = 'N/A'
  SAMPLE_LAST_PIXEL = 'N/A'
END_OBJECT = IMAGE_MAP_PROJECTION
END
