CCSD3ZF0000100000001NJPL3IF0PDSX00000001
PDS_VERSION_ID = PDS3
DATA_SET_ID = 'MGN-V-RDRS-5-C-BIDR-V1.0'
PRODUCT_ID = 'IM204954;01'
SOURCE_PRODUCT_ID = 'C-BIDR.4951-4955;2'
/* PHYSICAL DESCRIPTION OF THE FILE
RECORD_TYPE = FIXED_LENGTH
RECORD_BYTES = 32500
FILE_RECORDS = 133
/* LOCATION OF OBJECTS WITHIN THE FILE
^IMAGE = 'IM2.DAT'
/* GENERAL PARAMETERS
SPACECRAFT_NAME = 'MAGELLAN'
MISSION_PHASE_NAME = 'PRIMARY MISSION'
INSTRUMENT_NAME = 'RADAR SYSTEM'
TARGET_NAME = 'VENUS'
ORBIT_NUMBER = 4954
START_TIME = 1992-05-29T09:47:08.293
STOP_TIME = 1992-05-29T10:02:02.206
SPACECRAFT_CLOCK_START_COUNT = '01609218.58.3.0'
SPACECRAFT_CLOCK_STOP_COUNT = '01609238.51.9.0'
NOTE = 'SINUSOIDAL_IMAGE_FILE'
DESCRIPTION = "This is the Sinusoidal Image File consisting of a set of logical image data records, each containing multi-look image data in the sinusoidal projection. The image data will include all available data between 89 degrees N and 89 degrees S latitude. For more information, refer to IDPS-101, Compressed Resolution Basic Image Data Record, JPL, MIPL, February 14, 1990, and to SDPS-101, Full Resolution Basic Image Data Record, J. Gilbert, JPL, 1990."
CONFIDENCE_LEVEL_NOTE = "The following errors were noted by the software that generated this PDS label: gap 31 lines between lat 20.4803 and 20.3525 block 1 gap 6 lines between lat 20.3099 and 20.236 block 4 gap 6 lines between lat 20.236 and 20.1622 block 5 gap 41 lines between lat 19.9385 and 19.7645 block 12 gap 10 lines between lat 18.3754 and 18.293 block 98 gap 10 lines between lat 16.6355 and 16.5546 block 171 gap 5 lines between lat 16.5546 and 16.4835 block 172 gap 28 lines between lat 16.4068 and 16.2875 block 177 gap 20 lines between lat 16.2875 and 16.1654 block 178 gap 89 lines between lat 16.127 and 15.8529 block 181 gap 14 lines between lat 15.7251 and 15.6171 block 184 gap 10 lines between lat 14.5945 and 14.4923 block 218 gap 4 lines between lat 13.7295 and 13.6372 block 249 gap 70 lines between lat 13.4455 and 13.214 block 257 gap 4 lines between lat 13.1841 and 13.0918 block 259 gap 42 lines between lat 13.062 and 12.8901 block 262 gap 2810 lines between lat 12.8901 and 6.82252 block 263 gap 403 lines between lat 6.82252 and 5.87942 block 264 gap 40 lines between lat 5.61524 and 5.4448 block 270 gap 1996 lines between lat 5.31484 and 0.976471 block 274 gap 12 lines between lat 0.976471 and 0.854324 block 275 gap 33 lines between lat 0.854324 and 0.689566 block 276 gap 59 lines between lat 0.689566 and 0.467996 block 277 gap 16 lines between lat 0.293296 and 0.161207 block 282 gap 147 lines between lat -1.86062 and -2.25334 block 409 gap 48 lines between lat -3.0331 and -3.2362 block 458 gap 16 lines between lat -4.46549 and -4.58551 block 518 gap 55 lines between lat -4.71547 and -4.93775 block 527 gap 426 lines between lat -4.93775 and -5.92629 block 528 gap 57 lines between lat -6.04773 and -6.25581 block 532 gap 4 lines between lat -6.44755 and -6.54555 block 540 gap 110 lines between lat -23.7556 and -24.1746 block 1350"
/* DESCRIPTION OF OBJECTS WITHIN THE FILE
OBJECT = IMAGE
  SFDU_FORMAT_ID = 'NJPL1I000111'
  INTERCHANGE_FORMAT = BINARY
  BYTES = 4322500
  FILE_RECORDS = 2055
  ^STRUCTURE = 'CBIDRIM.FMT'
  COLUMNS = 16
  LINE_SAMPLES = 171
  LINES = 23504
  LINE_PREFIX_BYTES = 4
  SAMPLE_TYPE = MSB_UNSIGNED_INTEGER
  SAMPLE_BITS = 8
  SCALING_FACTOR = 0.2
  OFFSET = -20.2
  MISSING = 0
  DESCRIPTION = "This file consists of varying-length logical data records. Each record contains a 92-byte header, followed by a rectangular pixel array. Each line of the pixel array begins with a pair of 2-byte integers defining the start and end of valid pixels in that line. The 8-bit integer pixel values (DN) are related to the normalized radar cross-section (SIGMA-N) by DN = 1+INT((MIN(MAX(RV,-20),30)+20)*5)."
END_OBJECT = IMAGE
OBJECT = IMAGE_MAP_PROJECTION
  OBJECT = DATA_SET_MAP_PROJECTION
    DATA_SET_ID = 'MGN-V-RDRS-5-C-BIDR-V1.0'
    ^STRUCTURE = 'DSMAPCB.LBL'
  END_OBJECT = DATA_SET_MAP_PROJECTION
  IMAGE_ID = 'IM204954;01'
  MAP_PROJECTION_TYPE = SINUSOIDAL
  MAP_RESOLUTION = 469.1
  MAP_SCALE = 225
  LINE_PROJECTION_OFFSET = 9613
  SAMPLE_PROJECTION_OFFSET = 272
  A_AXIS_RADIUS = 6051.92
  B_AXIS_RADIUS = 6051.92
  C_AXIS_RADIUS = 6051.92
  FIRST_STANDARD_PARALLEL = 0.0
  SECOND_STANDARD_PARALLEL = 'N/A'
  POSITIVE_LONGITUDE_DIRECTION = EAST
  CENTER_LATITUDE = 0.0
  CENTER_LONGITUDE = 170.085
  MAP_PROJECTION_ROTATION = 0.0
  LINE_FIRST_PIXEL = 'N/A'
  LINE_LAST_PIXEL = 'N/A'
  MAXIMUM_LATITUDE = 'N/A'
  MAXIMUM_LONGITUDE = 'N/A'
  MINIMUM_LATITUDE = 'N/A'
  MINIMUM_LONGITUDE = 'N/A'
  REFERENCE_LATITUDE = 'N/A'
  REFERENCE_LONGITUDE = 'N/A'
  SAMPLE_FIRST_PIXEL = 'N/A'
  SAMPLE_LAST_PIXEL = 'N/A'
END_OBJECT = IMAGE_MAP_PROJECTION
END
