CCSD3ZF0000100000001NJPL3IF0PDSX00000001
PDS_VERSION_ID = PDS3
DATA_SET_ID = 'MGN-V-RDRS-5-C-BIDR-V1.0'
PRODUCT_ID = 'IM205197;01'
SOURCE_PRODUCT_ID = 'C-BIDR.5196-5200;2'
/* PHYSICAL DESCRIPTION OF THE FILE
RECORD_TYPE = FIXED_LENGTH
RECORD_BYTES = 32500
FILE_RECORDS = 109
/* LOCATION OF OBJECTS WITHIN THE FILE
^IMAGE = 'IM2.DAT'
/* GENERAL PARAMETERS
SPACECRAFT_NAME = 'MAGELLAN'
MISSION_PHASE_NAME = 'PRIMARY MISSION'
INSTRUMENT_NAME = 'RADAR SYSTEM'
TARGET_NAME = 'VENUS'
ORBIT_NUMBER = 5197
START_TIME = 1992-07-01T09:48:22.606
STOP_TIME = 1992-07-01T10:01:25.369
SPACECRAFT_CLOCK_START_COUNT = '01656222.77.1.0'
SPACECRAFT_CLOCK_STOP_COUNT = '01656235.74.7.0'
NOTE = 'SINUSOIDAL_IMAGE_FILE'
DESCRIPTION = "This is the Sinusoidal Image File consisting of a set of logical image data records, each containing multi-look image data in the sinusoidal projection. The image data will include all available data between 89 degrees N and 89 degrees S latitude. For more information, refer to IDPS-101, Compressed Resolution Basic Image Data Record, JPL, MIPL, February 14, 1990, and to SDPS-101, Full Resolution Basic Image Data Record, J. Gilbert, JPL, 1990."
CONFIDENCE_LEVEL_NOTE = "The following errors were noted by the software that generated this PDS label: gap 32 lines between lat 0.920369 and 0.74922 block 2 gap 32 lines between lat 0.612869 and 0.433908 block 7 gap 3 lines between lat 0.261339 and 0.110075 block 11 gap 75 lines between lat 0.110075 and -0.196715 block 12 gap 184 lines between lat -0.422546 and -0.958007 block 17 gap 397 lines between lat -1.16466 and -2.14824 block 21 gap 34 lines between lat -2.14824 and -2.35844 block 22 gap 24 lines between lat -2.39466 and -2.58854 block 24 gap 34 lines between lat -2.8868 and -3.09701 block 29 gap 21 lines between lat -3.25893 and -3.45777 block 39 gap 108 lines between lat -4.06283 and -4.44632 block 51 gap 32 lines between lat -4.46549 and -4.68777 block 53 gap 382 lines between lat -4.68777 and -5.65075 block 54 gap 762 lines between lat -5.65075 and -7.42331 block 55 gap 133 lines between lat -7.42331 and -7.86929 block 56 gap 54 lines between lat -7.86929 and -8.142 block 57 gap 105 lines between lat -8.142 and -8.53969 block 58 gap 63 lines between lat -8.6526 and -8.9601 block 60 gap 2077 lines between lat -8.9601 and -13.5591 block 61 gap 55 lines between lat -26.9811 and -27.3646 block 537 gap 467 lines between lat -39.6192 and -41.0054 block 928"
/* DESCRIPTION OF OBJECTS WITHIN THE FILE
OBJECT = IMAGE
  SFDU_FORMAT_ID = 'NJPL1I000111'
  INTERCHANGE_FORMAT = BINARY
  BYTES = 3542500
  FILE_RECORDS = 1239
  ^STRUCTURE = 'CBIDRIM.FMT'
  COLUMNS = 16
  LINE_SAMPLES = 171
  LINES = 19446
  LINE_PREFIX_BYTES = 4
  SAMPLE_TYPE = MSB_UNSIGNED_INTEGER
  SAMPLE_BITS = 8
  SCALING_FACTOR = 0.2
  OFFSET = -20.2
  MISSING = 0
  DESCRIPTION = "This file consists of varying-length logical data records. Each record contains a 92-byte header, followed by a rectangular pixel array. Each line of the pixel array begins with a pair of 2-byte integers defining the start and end of valid pixels in that line. The 8-bit integer pixel values (DN) are related to the normalized radar cross-section (SIGMA-N) by DN = 1+INT((MIN(MAX(RV,-20),30)+20)*5)."
END_OBJECT = IMAGE
OBJECT = IMAGE_MAP_PROJECTION
  OBJECT = DATA_SET_MAP_PROJECTION
    DATA_SET_ID = 'MGN-V-RDRS-5-C-BIDR-V1.0'
    ^STRUCTURE = 'DSMAPCB.LBL'
  END_OBJECT = DATA_SET_MAP_PROJECTION
  IMAGE_ID = 'IM205197;01'
  MAP_PROJECTION_TYPE = SINUSOIDAL
  MAP_RESOLUTION = 469.1
  MAP_SCALE = 225
  LINE_PROJECTION_OFFSET = 451
  SAMPLE_PROJECTION_OFFSET = -1035
  A_AXIS_RADIUS = 6051.92
  B_AXIS_RADIUS = 6051.92
  C_AXIS_RADIUS = 6051.92
  FIRST_STANDARD_PARALLEL = 0.0
  SECOND_STANDARD_PARALLEL = 'N/A'
  POSITIVE_LONGITUDE_DIRECTION = EAST
  CENTER_LATITUDE = 0.0
  CENTER_LONGITUDE = 218.962
  MAP_PROJECTION_ROTATION = 0.0
  LINE_FIRST_PIXEL = 'N/A'
  LINE_LAST_PIXEL = 'N/A'
  MAXIMUM_LATITUDE = 'N/A'
  MAXIMUM_LONGITUDE = 'N/A'
  MINIMUM_LATITUDE = 'N/A'
  MINIMUM_LONGITUDE = 'N/A'
  REFERENCE_LATITUDE = 'N/A'
  REFERENCE_LONGITUDE = 'N/A'
  SAMPLE_FIRST_PIXEL = 'N/A'
  SAMPLE_LAST_PIXEL = 'N/A'
END_OBJECT = IMAGE_MAP_PROJECTION
END
