CCSD3ZF0000100000001NJPL3IF0PDSX00000001
PDS_VERSION_ID = PDS3
DATA_SET_ID = 'MGN-V-RDRS-5-C-BIDR-V1.0'
PRODUCT_ID = 'IM205722;01'
SOURCE_PRODUCT_ID = 'C-BIDR.5721-5725;1'
/* PHYSICAL DESCRIPTION OF THE FILE
RECORD_TYPE = FIXED_LENGTH
RECORD_BYTES = 32500
FILE_RECORDS = 142
/* LOCATION OF OBJECTS WITHIN THE FILE
^IMAGE = 'IM2.DAT'
/* GENERAL PARAMETERS
SPACECRAFT_NAME = 'MAGELLAN'
MISSION_PHASE_NAME = 'PRIMARY MISSION'
INSTRUMENT_NAME = 'RADAR SYSTEM'
TARGET_NAME = 'VENUS'
ORBIT_NUMBER = 5722
START_TIME = 1992-09-10T16:45:38.992
STOP_TIME = 1992-09-10T16:58:40.506
SPACECRAFT_CLOCK_START_COUNT = '01757751.16.7.0'
SPACECRAFT_CLOCK_STOP_COUNT = '01757765.02.3.0'
NOTE = 'SINUSOIDAL_IMAGE_FILE'
DESCRIPTION = "This is the Sinusoidal Image File consisting of a set of logical image data records, each containing multi-look image data in the sinusoidal projection. The image data will include all available data between 89 degrees N and 89 degrees S latitude. For more information, refer to IDPS-101, Compressed Resolution Basic Image Data Record, JPL, MIPL, February 14, 1990, and to SDPS-101, Full Resolution Basic Image Data Record, J. Gilbert, JPL, 1990."
CONFIDENCE_LEVEL_NOTE = "The following errors were noted by the software that generated this PDS label: gap 140 lines between lat 1.31238 and 0.871367 block 564 gap 5 lines between lat 0.453793 and 0.303239 block 575 gap 5 lines between lat 0.0965819 and -0.0546824 block 579 gap 23 lines between lat -0.0546824 and -0.242165 block 580 gap 120 lines between lat -0.242165 and -0.637014 block 581 gap 15 lines between lat -0.879889 and -1.05459 block 587 gap 105 lines between lat -14.2544 and -14.667 block 1074 gap 57 lines between lat -28.8219 and -29.2281 block 1477 gap 44 lines between lat -29.2814 and -29.6684 block 1479"
/* DESCRIPTION OF OBJECTS WITHIN THE FILE
OBJECT = IMAGE
  SFDU_FORMAT_ID = 'NJPL1I000111'
  INTERCHANGE_FORMAT = BINARY
  BYTES = 4615000
  FILE_RECORDS = 1817
  ^STRUCTURE = 'CBIDRIM.FMT'
  COLUMNS = 16
  LINE_SAMPLES = 171
  LINES = 25366
  LINE_PREFIX_BYTES = 4
  SAMPLE_TYPE = MSB_UNSIGNED_INTEGER
  SAMPLE_BITS = 8
  SCALING_FACTOR = 0.2
  OFFSET = -20.2
  MISSING = 0
  DESCRIPTION = "This file consists of varying-length logical data records. Each record contains a 92-byte header, followed by a rectangular pixel array. Each line of the pixel array begins with a pair of 2-byte integers defining the start and end of valid pixels in that line. The 8-bit integer pixel values (DN) are related to the normalized radar cross-section (SIGMA-N) by DN = 1+INT((MIN(MAX(RV,-20),30)+20)*5)."
END_OBJECT = IMAGE
OBJECT = IMAGE_MAP_PROJECTION
  OBJECT = DATA_SET_MAP_PROJECTION
    DATA_SET_ID = 'MGN-V-RDRS-5-C-BIDR-V1.0'
    ^STRUCTURE = 'DSMAPCB.LBL'
  END_OBJECT = DATA_SET_MAP_PROJECTION
  IMAGE_ID = 'IM205722;01'
  MAP_PROJECTION_TYPE = SINUSOIDAL
  MAP_RESOLUTION = 469.1
  MAP_SCALE = 225
  LINE_PROJECTION_OFFSET = 5915
  SAMPLE_PROJECTION_OFFSET = -547
  A_AXIS_RADIUS = 6051.92
  B_AXIS_RADIUS = 6051.92
  C_AXIS_RADIUS = 6051.92
  FIRST_STANDARD_PARALLEL = 0.0
  SECOND_STANDARD_PARALLEL = 'N/A'
  POSITIVE_LONGITUDE_DIRECTION = EAST
  CENTER_LATITUDE = 0.0
  CENTER_LONGITUDE = 324.511
  MAP_PROJECTION_ROTATION = 0.0
  LINE_FIRST_PIXEL = 'N/A'
  LINE_LAST_PIXEL = 'N/A'
  MAXIMUM_LATITUDE = 'N/A'
  MAXIMUM_LONGITUDE = 'N/A'
  MINIMUM_LATITUDE = 'N/A'
  MINIMUM_LONGITUDE = 'N/A'
  REFERENCE_LATITUDE = 'N/A'
  REFERENCE_LONGITUDE = 'N/A'
  SAMPLE_FIRST_PIXEL = 'N/A'
  SAMPLE_LAST_PIXEL = 'N/A'
END_OBJECT = IMAGE_MAP_PROJECTION
END
