CCSD3ZF0000100000001NJPL3IF0PDSX00000001
PDS_VERSION_ID = PDS3
DATA_SET_ID = 'MGN-V-RDRS-5-C-BIDR-V1.0'
PRODUCT_ID = 'IM205725;01'
SOURCE_PRODUCT_ID = 'C-BIDR.5721-5725;1'
/* PHYSICAL DESCRIPTION OF THE FILE
RECORD_TYPE = FIXED_LENGTH
RECORD_BYTES = 32500
FILE_RECORDS = 132
/* LOCATION OF OBJECTS WITHIN THE FILE
^IMAGE = 'IM2.DAT'
/* GENERAL PARAMETERS
SPACECRAFT_NAME = 'MAGELLAN'
MISSION_PHASE_NAME = 'PRIMARY MISSION'
INSTRUMENT_NAME = 'RADAR SYSTEM'
TARGET_NAME = 'VENUS'
ORBIT_NUMBER = 5725
START_TIME = 1992-09-11T02:31:50.457
STOP_TIME = 1992-09-11T02:45:48.124
SPACECRAFT_CLOCK_START_COUNT = '01758331.77.5.0'
SPACECRAFT_CLOCK_STOP_COUNT = '01758345.63.1.0'
NOTE = 'SINUSOIDAL_IMAGE_FILE'
DESCRIPTION = "This is the Sinusoidal Image File consisting of a set of logical image data records, each containing multi-look image data in the sinusoidal projection. The image data will include all available data between 89 degrees N and 89 degrees S latitude. For more information, refer to IDPS-101, Compressed Resolution Basic Image Data Record, JPL, MIPL, February 14, 1990, and to SDPS-101, Full Resolution Basic Image Data Record, J. Gilbert, JPL, 1990."
CONFIDENCE_LEVEL_NOTE = "The following errors were noted by the software that generated this PDS label: gap 29 lines between lat 9.05242 and 8.88482 block 235 gap 19 lines between lat 8.78682 and 8.63485 block 238 gap 18 lines between lat 8.63485 and 8.48713 block 239 gap 49 lines between lat 8.18034 and 7.94741 block 245 gap 100 lines between lat 6.87152 and 6.52993 block 267 gap 7 lines between lat 5.79491 and 5.65217 block 281 gap 9 lines between lat 4.90011 and 4.75453 block 297 gap 9 lines between lat 4.43069 and 4.28866 block 305 gap 23 lines between lat 0.159786 and -0.0319572 block 400 gap 127 lines between lat -0.935282 and -1.34433 block 416 gap 82 lines between lat -1.86843 and -2.17948 block 427 gap 3 lines between lat -3.02742 and -3.18791 block 443 gap 4 lines between lat -3.56714 and -3.72763 block 451 gap 30 lines between lat -4.08556 and -4.31281 block 459 gap 32 lines between lat -5.263 and -5.49736 block 479 gap 31 lines between lat -8.18176 and -8.42038 block 534 gap 29 lines between lat -8.88908 and -9.12202 block 545 gap 32 lines between lat -12.045 and -12.2922 block 592 gap 47 lines between lat -12.2922 and -12.5734 block 593 gap 3071 lines between lat -16.1121 and -22.8594 block 659 gap 32 lines between lat -29.3637 and -29.7224 block 816 gap 24 lines between lat -30.7812 and -31.1398 block 844"
/* DESCRIPTION OF OBJECTS WITHIN THE FILE
OBJECT = IMAGE
  SFDU_FORMAT_ID = 'NJPL1I000111'
  INTERCHANGE_FORMAT = BINARY
  BYTES = 4290000
  FILE_RECORDS = 1193
  ^STRUCTURE = 'CBIDRIM.FMT'
  COLUMNS = 16
  LINE_SAMPLES = 171
  LINES = 23750
  LINE_PREFIX_BYTES = 4
  SAMPLE_TYPE = MSB_UNSIGNED_INTEGER
  SAMPLE_BITS = 8
  SCALING_FACTOR = 0.2
  OFFSET = -20.2
  MISSING = 0
  DESCRIPTION = "This file consists of varying-length logical data records. Each record contains a 92-byte header, followed by a rectangular pixel array. Each line of the pixel array begins with a pair of 2-byte integers defining the start and end of valid pixels in that line. The 8-bit integer pixel values (DN) are related to the normalized radar cross-section (SIGMA-N) by DN = 1+INT((MIN(MAX(RV,-20),30)+20)*5)."
END_OBJECT = IMAGE
OBJECT = IMAGE_MAP_PROJECTION
  OBJECT = DATA_SET_MAP_PROJECTION
    DATA_SET_ID = 'MGN-V-RDRS-5-C-BIDR-V1.0'
    ^STRUCTURE = 'DSMAPCB.LBL'
  END_OBJECT = DATA_SET_MAP_PROJECTION
  IMAGE_ID = 'IM205725;01'
  MAP_PROJECTION_TYPE = SINUSOIDAL
  MAP_RESOLUTION = 469.1
  MAP_SCALE = 225
  LINE_PROJECTION_OFFSET = 6825
  SAMPLE_PROJECTION_OFFSET = -488
  A_AXIS_RADIUS = 6051.92
  B_AXIS_RADIUS = 6051.92
  C_AXIS_RADIUS = 6051.92
  FIRST_STANDARD_PARALLEL = 0.0
  SECOND_STANDARD_PARALLEL = 'N/A'
  POSITIVE_LONGITUDE_DIRECTION = EAST
  CENTER_LATITUDE = 0.0
  CENTER_LONGITUDE = 325.115
  MAP_PROJECTION_ROTATION = 0.0
  LINE_FIRST_PIXEL = 'N/A'
  LINE_LAST_PIXEL = 'N/A'
  MAXIMUM_LATITUDE = 'N/A'
  MAXIMUM_LONGITUDE = 'N/A'
  MINIMUM_LATITUDE = 'N/A'
  MINIMUM_LONGITUDE = 'N/A'
  REFERENCE_LATITUDE = 'N/A'
  REFERENCE_LONGITUDE = 'N/A'
  SAMPLE_FIRST_PIXEL = 'N/A'
  SAMPLE_LAST_PIXEL = 'N/A'
END_OBJECT = IMAGE_MAP_PROJECTION
END
