<?xml version="1.0" encoding="UTF-8" standalone="no"?>
<?xml-model href="https://pds.nasa.gov/pds4/pds/v1/PDS4_PDS_1K00.sch" schematypens="http://purl.oclc.org/dsdl/schematron"?>
<?xml-model href="https://pds.nasa.gov/pds4/cart/v1/PDS4_CART_1K00_1970.sch" schematypens="http://purl.oclc.org/dsdl/schematron"?>
<?xml-model href="https://pds.nasa.gov/pds4/disp/v1/PDS4_DISP_1K00_1510.sch" schematypens="http://purl.oclc.org/dsdl/schematron"?>
<?xml-model href="https://pds.nasa.gov/pds4/mission/mgn/v1/PDS4_MGN_1K00_1000.sch" schematypens="http://purl.oclc.org/dsdl/schematron"?>
<Product_Observational xmlns="http://pds.nasa.gov/pds4/pds/v1"
    xmlns:cart="http://pds.nasa.gov/pds4/cart/v1"
    xmlns:disp="http://pds.nasa.gov/pds4/disp/v1"
    xmlns:mgn="http://pds.nasa.gov/pds4/mission/mgn/v1"
    xmlns:xsi="http://www.w3.org/2001/XMLSchema-instance"
    xsi:schemaLocation="http://pds.nasa.gov/pds4/pds/v1 https://pds.nasa.gov/pds4/pds/v1/PDS4_PDS_1K00.xsd
                        http://pds.nasa.gov/pds4/cart/v1 https://pds.nasa.gov/pds4/cart/v1/PDS4_CART_1K00_1970.xsd
                        http://pds.nasa.gov/pds4/disp/v1 https://pds.nasa.gov/pds4/disp/v1/PDS4_DISP_1K00_1510.xsd
                        http://pds.nasa.gov/pds4/mission/mgn/v1 https://pds.nasa.gov/pds4/mission/mgn/v1/PDS4_MGN_1K00_1000.xsd">
  <Identification_Area>
    <logical_identifier>urn:nasa:pds:magellan_gravity:topo:topo</logical_identifier>
    <version_id>1.0</version_id>
    <title>Magellan Topographic Data: topo.dat</title>
    <information_model_version>1.20.0.0</information_model_version>
    <product_class>Product_Observational</product_class>
    <Citation_Information>
      <author_list>Rappaport, Nicole J.</author_list>
      <publication_year>1994</publication_year>
      <description>This file contains a digital map of Venus topography.</description>
    </Citation_Information>
    <Modification_History>
      <Modification_Detail>
        <modification_date>2023-09-06</modification_date>
        <version_id>1.0</version_id>
        <description>Product migrated to PDS4 from PDS3.</description>
      </Modification_Detail>
    </Modification_History>
  </Identification_Area>
  <Observation_Area>
    <Time_Coordinates>
      <start_date_time xsi:nil="true" nilReason="inapplicable"/>
      <stop_date_time xsi:nil="true" nilReason="inapplicable"/>
    </Time_Coordinates>
    <Investigation_Area>
      <name>Magellan</name>
      <type>Mission</type>
      <Internal_Reference>
        <lid_reference>urn:nasa:pds:context:investigation:mission.magellan</lid_reference>
        <reference_type>data_to_investigation</reference_type>
      </Internal_Reference>
    </Investigation_Area>
    <Observing_System>
      <Observing_System_Component>
        <name>Magellan</name>
        <type>Host</type>
        <Internal_Reference>
          <lid_reference>urn:nasa:pds:context:instrument_host:spacecraft.mgn</lid_reference>
          <reference_type>is_instrument_host</reference_type>
        </Internal_Reference>
      </Observing_System_Component>
      <Observing_System_Component>
        <name>Radio Science Subsystem</name>
        <type>Instrument</type>
        <Internal_Reference>
          <lid_reference>urn:nasa:pds:context:instrument:mgn.rss</lid_reference>
          <reference_type>is_instrument</reference_type>
        </Internal_Reference>
      </Observing_System_Component>
    </Observing_System>
    <Target_Identification>
      <name>Venus</name>
      <type>Planet</type>
      <Internal_Reference>
        <lid_reference>urn:nasa:pds:context:target:planet.venus</lid_reference>
        <reference_type>data_to_target</reference_type>
      </Internal_Reference>
    </Target_Identification>
    <Mission_Area>
      <mgn:Magellan_Parameters>
        <mgn:product_type>SHXDR</mgn:product_type>
        <mgn:start_orbit_number>376</mgn:start_orbit_number>
        <mgn:stop_orbit_number>5747</mgn:stop_orbit_number>
        <mgn:producer_institution_name>JET PROPULSION LABORATORY</mgn:producer_institution_name>
      </mgn:Magellan_Parameters>
    </Mission_Area>
    <Discipline_Area>
      <cart:Cartography>
        <Local_Internal_Reference>
          <local_identifier_reference>Image_Object</local_identifier_reference>
          <local_reference_type>cartography_parameters_to_image_object</local_reference_type>
        </Local_Internal_Reference>
        <cart:Spatial_Domain>
          <cart:Bounding_Coordinates>
            <cart:west_bounding_coordinate unit="deg">-120.0</cart:west_bounding_coordinate>
            <cart:east_bounding_coordinate unit="deg">240.0</cart:east_bounding_coordinate>
            <cart:north_bounding_coordinate unit="deg">90.0</cart:north_bounding_coordinate>
            <cart:south_bounding_coordinate unit="deg">-90.0</cart:south_bounding_coordinate>
          </cart:Bounding_Coordinates>
        </cart:Spatial_Domain>
        <cart:Spatial_Reference_Information>
          <cart:Horizontal_Coordinate_System_Definition>
            <cart:Planar>
              <cart:Map_Projection>
                <cart:map_projection_name>Equirectangular</cart:map_projection_name>
                <cart:Equirectangular>
                  <cart:latitude_of_projection_origin unit="deg">0</cart:latitude_of_projection_origin>
                  <cart:standard_parallel_1 unit="deg">0</cart:standard_parallel_1>
                  <cart:longitude_of_central_meridian unit="deg">0</cart:longitude_of_central_meridian>
                </cart:Equirectangular>
              </cart:Map_Projection>
              <cart:Planar_Coordinate_Information>
                <cart:planar_coordinate_encoding_method>Coordinate Pair</cart:planar_coordinate_encoding_method>
                <cart:Coordinate_Representation>
                  <cart:pixel_resolution_x unit="m/pixel">105623.83567219283</cart:pixel_resolution_x>
                  <cart:pixel_resolution_y unit="m/pixel">105623.83567219283</cart:pixel_resolution_y>
                  <cart:pixel_scale_x unit="pixel/deg">1.0</cart:pixel_scale_x>
                  <cart:pixel_scale_y unit="pixel/deg">1.0</cart:pixel_scale_y>
                </cart:Coordinate_Representation>
              </cart:Planar_Coordinate_Information>
              <cart:Geo_Transformation>
                <cart:upperleft_corner_x unit="m">-12674860.28066314</cart:upperleft_corner_x>
                <cart:upperleft_corner_y unit="m">9506145.210497355</cart:upperleft_corner_y>
              </cart:Geo_Transformation>
            </cart:Planar>
            <cart:Geodetic_Model>
              <cart:latitude_type>Planetocentric</cart:latitude_type>
              <cart:spheroid_name>Venus (2015) - Sphere</cart:spheroid_name>
              <cart:a_axis_radius unit="m">6051800</cart:a_axis_radius>
              <cart:b_axis_radius unit="m">6051800</cart:b_axis_radius>
              <cart:c_axis_radius unit="m">6051800</cart:c_axis_radius>
              <cart:longitude_direction>Positive East</cart:longitude_direction>
            </cart:Geodetic_Model>
          </cart:Horizontal_Coordinate_System_Definition>
        </cart:Spatial_Reference_Information>
      </cart:Cartography>
      <disp:Display_Settings>
        <Local_Internal_Reference>
          <local_identifier_reference>Image_Object</local_identifier_reference>
          <local_reference_type>display_settings_to_array</local_reference_type>
        </Local_Internal_Reference>
        <disp:Display_Direction>
          <disp:horizontal_display_axis>Sample</disp:horizontal_display_axis>
          <disp:horizontal_display_direction>Left to Right</disp:horizontal_display_direction>
          <disp:vertical_display_axis>Line</disp:vertical_display_axis>
          <disp:vertical_display_direction>Top to Bottom</disp:vertical_display_direction>
        </disp:Display_Direction>
      </disp:Display_Settings>
    </Discipline_Area>
  </Observation_Area>
  <File_Area_Observational>
    <File>
      <file_name>topo.dat</file_name>
      <creation_date_time>1994-07-13T12:34:56.789</creation_date_time>
      <comment>This file contains a digital 
map of Venus topography derived from Ford and Pettengill 
(JGR 97,E8,13103-13114, 1992) Magellan topography data completed
with Pioneer Venus Orbiter topography data. The observation is
topography in kilometers at the surface referenced to a sphere
of 6051.848 km radius. The map is produced by the Magellan Gravity
Science Team at JPL under the directions of W.L. Sjogren and
N.J. Rappaport.</comment>
    </File>
    <Header>
      <offset unit="byte">0</offset>
      <object_length unit="byte">5760</object_length>
      <parsing_standard_id>PDS3</parsing_standard_id>
    </Header>
    <Array_2D_Image>
      <local_identifier>Image_Object</local_identifier>
      <offset unit="byte">5760</offset>
      <axes>2</axes>
      <axis_index_order>Last Index Fastest</axis_index_order>
      <description>The Digital Map contains
values of OBSERVATION_TYPE. The values can be obtained
by multiplying the sample in the map by SCALING_FACTOR
and then adding OFFSET. When BANDS is an even number,
the even numbered maps (second, fourth, ...) will be
the error maps (one-sigma uncertainty) for the immediately
preceding odd-numbered maps (first, third, ..). The
uncertainty value can be obtained by multiplying the
sample in the error map by SCALING_FACTOR; the OFFSET
is not used in these cases.
OBSERVATION_TYPE = 'TOPOGRAPHY IN KILOMETERS'</description>
      <Element_Array>
        <data_type>IEEE754MSBDouble</data_type>
        <unit>kilometer</unit>
        <scaling_factor>1.0</scaling_factor>
        <value_offset>0.0</value_offset>
      </Element_Array>
      <Axis_Array>
        <axis_name>Line</axis_name>
        <elements>180</elements>
        <sequence_number>1</sequence_number>
      </Axis_Array>
      <Axis_Array>
        <axis_name>Sample</axis_name>
        <elements>360</elements>
        <sequence_number>2</sequence_number>
      </Axis_Array>
    </Array_2D_Image>
  </File_Area_Observational>
</Product_Observational>