PDS_VERSION_ID = PDS3
RECORD_TYPE = FIXED_LENGTH
FILE_RECORDS = 3600
RECORD_BYTES = 14400
^IMAGE = "GLOBAL_TI_DAY_2007.IMG"
DATA_SET_ID = "MGS-M-TES-5-TIMAP-V1.0"
PRODUCT_ID = "GLOBAL_TI_DAY_2007"
MISSION_NAME = "MARS GLOBAL SURVEYOR"
INSTRUMENT_HOST_NAME = "MARS GLOBAL SURVEYOR"
INSTRUMENT_NAME = "THERMAL EMISSION SPECTROMETER"
TARGET_NAME = "MARS"
START_TIME = "N/A"
STOP_TIME = "N/A"
SPACECRAFT_CLOCK_START_COUNT = "N/A"
SPACECRAFT_CLOCK_STOP_COUNT = "N/A"
PRODUCT_CREATION_TIME = 2007-01-30
PRODUCER_FULL_NAME = "NATHANIEL PUTZIG"
PRODUCER_INSTITUTION_NAME = "SOUTHWEST RESEARCH INSTITUTE"
OBJECT = IMAGE
  LINES = 3600
  LINE_SAMPLES = 7200
  SAMPLE_TYPE = MSB_INTEGER
  SAMPLE_BITS = 16
  DESCRIPTION = "This image contains the daytime TES-derived thermal inertia. Units are J/(m^2*K*sqrt(s))."
END_OBJECT = IMAGE
OBJECT = IMAGE_MAP_PROJECTION
  ^DATA_SET_MAP_PROJECTION = "DSMAP.CAT"
  MAP_PROJECTION_TYPE = "SIMPLE CYLINDRICAL"
  A_AXIS_RADIUS = 3396.0
  B_AXIS_RADIUS = 3396.0
  C_AXIS_RADIUS = 3396.0
  POSITIVE_LONGITUDE_DIRECTION = "EAST"
  CENTER_LATITUDE = 0.0
  CENTER_LONGITUDE = 0.0
  LINE_FIRST_PIXEL = 1
  LINE_LAST_PIXEL = 3600
  SAMPLE_FIRST_PIXEL = 1
  SAMPLE_LAST_PIXEL = 7200
  MAP_PROJECTION_ROTATION = 0.0
  MAP_RESOLUTION = 20.0
  MAP_SCALE = 2.96
  MAXIMUM_LATITUDE = 90.00
  MINIMUM_LATITUDE = -90.00
  WESTERNMOST_LONGITUDE = -180.0
  EASTERNMOST_LONGITUDE = 180.0
  LINE_PROJECTION_OFFSET = 1800.5
  SAMPLE_PROJECTION_OFFSET = 3600.5
  COORDINATE_SYSTEM_TYPE = "BODY-FIXED ROTATING"
  COORDINATE_SYSTEM_NAME = "PLANETOCENTRIC"
END_OBJECT = IMAGE_MAP_PROJECTION
END
