PDS_VERSION_ID = PDS3
RECORD_TYPE = UNDEFINED
LABEL_REVISION_NOTE = "2012-03-06, H. Taylor, F. Seelos (JHU/APL) Initial TER/MTRDR labels for CRISM Data Users' Workshop; 2014-01-09, G. Romeo, J. Aiello, F. Seelos (JHU/APL) Complete TER/MTRDR label set for preliminary PDS review; 2014-04-08, G. Romeo, J. Aiello, R. Espiritu, F. Seelos (JHU/APL) TER/MTRDR label set revisions completed for PDS peer review; 2014-08-14, G. Romeo, J. Aiello, F. Seelos (JHU/APL) PDS peer review TER/MTRDR label set liens retired;"
^PNG_DOCUMENT = "FRT00007C8B_07_BRTRUJ_MTR3.PNG"
^ENVI_HEADER = "FRT00007C8B_07_BRTRUJ_MTR3.HDR"
^IMAGE = "FRT00007C8B_07_BRTRUJ_MTR3.IMG"
/* Map-Projected Targeted RDR Browse Product Identification */
DATA_SET_ID = "MRO-M-CRISM-5-RDR-MPTARGETED-V1.0"
PRODUCT_ID = "FRT00007C8B_07_BRTRUJ_MTR3" /* cccnnnnnnnn_xx_ooaaas_MTRv */
/* ccc = Class Type */
/* nnnnnnnn = Observation ID, hexadecimal */
/* ooaaa = Image type, browse type */
/* xx = counter this observation (hex) */
/* s = Sensor ID (J for Joined) */
/* v = Version number */
INSTRUMENT_HOST_NAME = "MARS RECONNAISSANCE ORBITER"
SPACECRAFT_ID = MRO
INSTRUMENT_NAME = "COMPACT RECONNAISSANCE IMAGING SPECTROMETER FOR MARS"
INSTRUMENT_ID = CRISM
TARGET_NAME = MARS
PRODUCT_TYPE = MPTARGETED_BROWSE
PRODUCT_CREATION_TIME = 2015-07-01T12:14:34
START_TIME = 2007-09-20T04:49:59.538
STOP_TIME = 2007-09-20T04:51:43.272
SPACECRAFT_CLOCK_START_COUNT = "3/0874731019.09533"
SPACECRAFT_CLOCK_STOP_COUNT = "3/0874731122.57652"
ORBIT_NUMBER = 5387
OBSERVATION_TYPE = "FRT"
OBSERVATION_ID = "16#00007C8B#"
MRO:OBSERVATION_NUMBER = 16#07#
MRO:ACTIVITY_ID = "IF163"
MRO:SENSOR_ID = "J"
/* Detector and FPE temperature refer to IR component of observation */
MRO:DETECTOR_TEMPERATURE = -160.112
MRO:OPTICAL_BENCH_TEMPERATURE = -47.539
MRO:SPECTROMETER_HOUSING_TEMP = -70.102
MRO:SPHERE_TEMPERATURE = -47.794
MRO:FPE_TEMPERATURE = 0.827
PRODUCT_VERSION_ID = "3"
PRODUCER_INSTITUTION_NAME = "JOHNS HOPKINS UNIVERSITY APPLIED PHYSICS LABORATORY"
SOFTWARE_NAME = "mtrdr_pipeline"
SOFTWARE_VERSION_ID = "1.0"
/* Targeted RDR Observation and Processing Parameters */
SOLAR_DISTANCE = 217657693.989622
SOLAR_LONGITUDE = 316.972952
MRO:PHOTOMETRIC_CORR_FLAG = "ON"
MRO:ATMOSPHERIC_CORR_FLAG = "ON"
MRO:RATIO_SHIFT_CORR_FLAG = "ON"
MRO:EMPIRICAL_GEOM_NORM_FLAG = "ON"
MRO:EMPIRICAL_SMILE_CORR_FLAG = "ON"
MRO:SENSOR_SPACE_TRANSFORM_FLAG = "ON"
/* These parameters describe the browse image as a PDS document. */
/* The browse IMG and PNG products are identical in the RED, GREEN, */
/* and BLUE channels. The PNG product includes an additional ALPHA */
/* transparency channel in which the non-scene pixels are marked */
/* as transparent. */
OBJECT = PNG_DOCUMENT
  DOCUMENT_NAME = "FRT00007C8B_07_BRTRUJ_MTR3"
  DOCUMENT_FORMAT = PNG
  DOCUMENT_TOPIC_TYPE = "BROWSE IMAGE"
  INTERCHANGE_FORMAT = BINARY
  PUBLICATION_DATE = 2013-12-15
  DESCRIPTION = "An enhanced natural color representation of the scene with wavelengths selected across the visible spectrum."
END_OBJECT = PNG_DOCUMENT
/* ENVI header description */
/* The ENVI header is a separate ASCII file that includes basic image */
/* data file characteristics and allows the image data to be loaded */
/* directly into the ENVI image processing software available bands */
/* list. */
OBJECT = ENVI_HEADER
  HEADER_TYPE = "ENVI"
  INTERCHANGE_FORMAT = "ASCII"
  BYTES = 1381
  DESCRIPTION = "This text file can be used by ENVI image processing software to read in the image."
END_OBJECT = ENVI_HEADER
/* This Map-Projected Targeted RDR label describes a multiple-band */
/* image file containing a byte scaled browse product derived from */
/* selected refined spectral summary parameters. */
OBJECT = IMAGE
  LINES = 555
  LINE_SAMPLES = 695
  SAMPLE_TYPE = LSB_UNSIGNED_INTEGER
  SAMPLE_BITS = 8
  DESCRIPTION = "TRU_BROWSE_PRODUCT"
  BANDS = 3
  BAND_STORAGE_TYPE = BAND_SEQUENTIAL
  BAND_SEQUENCE = "(RED, GREEN, BLUE)"
  BAND_NAME = ( "R600", "R530", "R440")
  /* The following information to scale from real numbers to an */
  /* 8-bit integer for this type of browse image. */
  DERIVED_MINIMUM = ( 0, 0, 0)
  DERIVED_MAXIMUM = ( 254, 254, 254 )
  OFFSET = ( 1.6493E-01, 9.1899E-02, 5.2484E-02)
  SCALING_FACTOR = ( 1.1572E-04, 5.8785E-05, 3.2063E-05)
END_OBJECT = IMAGE
/* Map projection information about this RDR is in the */
/* IMAGE_MAP_PROJECTION object below. */
OBJECT = IMAGE_MAP_PROJECTION
  ^DATA_SET_MAP_PROJECTION = "MTR_MAP.CAT"
  MAP_PROJECTION_TYPE = "EQUIRECTANGULAR"
  A_AXIS_RADIUS = 3387.887700000000
  B_AXIS_RADIUS = 3387.887700000000
  C_AXIS_RADIUS = 3387.887700000000
  POSITIVE_LONGITUDE_DIRECTION = EAST
  CENTER_LATITUDE = -40.0000000
  CENTER_LONGITUDE = 0.0000000
  LINE_FIRST_PIXEL = 1
  LINE_LAST_PIXEL = 555
  SAMPLE_FIRST_PIXEL = 1
  SAMPLE_LAST_PIXEL = 695
  MAP_PROJECTION_ROTATION = 0.0000000
  MAP_RESOLUTION = 3284.9886140
  MAP_SCALE = 0.0180000
  MINIMUM_LATITUDE = -41.8753490
  MAXIMUM_LATITUDE = -41.7067030
  WESTERNMOST_LONGITUDE = -97.8698800
  EASTERNMOST_LONGITUDE = -97.5940950
  LINE_PROJECTION_OFFSET = -137005.0444444
  SAMPLE_PROJECTION_OFFSET = 246285.3888889
  COORDINATE_SYSTEM_TYPE = "BODY-FIXED ROTATING"
  COORDINATE_SYSTEM_NAME = "PLANETOCENTRIC"
END_OBJECT = IMAGE_MAP_PROJECTION
END
