<?xml version="1.0" encoding="utf-8" standalone="no"?>
<?xml-model href="https://pds.nasa.gov/pds4/pds/v1/PDS4_PDS_1M00.sch" schematypens="http://purl.oclc.org/dsdl/schematron"?>
<?xml-model href="https://pds.nasa.gov/pds4/cart/v1/PDS4_CART_1M00_1970.sch" schematypens="http://purl.oclc.org/dsdl/schematron"?>
<?xml-model href="https://pds.nasa.gov/pds4/disp/v1/PDS4_DISP_1M00_1510.sch" schematypens="http://purl.oclc.org/dsdl/schematron"?>
<?xml-model href="https://pds.nasa.gov/pds4/proc/v1/PDS4_PROC_1M00_1300.sch" schematypens="http://purl.oclc.org/dsdl/schematron"?>
<?xml-model href="https://pds.nasa.gov/pds4/geom/v1/PDS4_GEOM_1M00_1970.sch" schematypens="http://purl.oclc.org/dsdl/schematron"?>
<?xml-model href="https://pds.nasa.gov/pds4/mission/mro/v1/PDS4_MRO_1M00_1320.sch" schematypens="http://purl.oclc.org/dsdl/schematron"?>
<Product_Observational xmlns="http://pds.nasa.gov/pds4/pds/v1" 
    xmlns:cart="http://pds.nasa.gov/pds4/cart/v1" 
    xmlns:disp="http://pds.nasa.gov/pds4/disp/v1" 
    xmlns:geom="http://pds.nasa.gov/pds4/geom/v1" 
    xmlns:img="http://pds.nasa.gov/pds4/img/v1" 
    xmlns:mro="http://pds.nasa.gov/pds4/mission/mro/v1" 
    xmlns:proc="http://pds.nasa.gov/pds4/proc/v1" 
    xmlns:xsi="http://www.w3.org/2001/XMLSchema-instance" 
    xsi:schemaLocation="http://pds.nasa.gov/pds4/pds/v1       https://pds.nasa.gov/pds4/pds/v1/PDS4_PDS_1M00.xsd      http://pds.nasa.gov/pds4/cart/v1       https://pds.nasa.gov/pds4/cart/v1/PDS4_CART_1M00_1970.xsd      http://pds.nasa.gov/pds4/disp/v1       https://pds.nasa.gov/pds4/disp/v1/PDS4_DISP_1M00_1510.xsd      http://pds.nasa.gov/pds4/proc/v1       https://pds.nasa.gov/pds4/proc/v1/PDS4_PROC_1M00_1300.xsd     http://pds.nasa.gov/pds4/geom/v1       https://pds.nasa.gov/pds4/geom/v1/PDS4_GEOM_1M00_1970.xsd     http://pds.nasa.gov/pds4/mission/mro/v1    https://pds.nasa.gov/pds4/mission/mro/v1/PDS4_MRO_1M00_1320.xsd     ">
  <Identification_Area>
    <logical_identifier>urn:nasa:pds:mro_crism_mtrdr:data_browse:frt00007e22_07_bricej_mtr3</logical_identifier>
    <version_id>1.0</version_id>
    <title>frt00007e22_07_bricej_mtr3</title>
    <information_model_version>1.22.0.0</information_model_version>
    <product_class>Product_Observational</product_class>
    <Alias_List>
      <Alias>
        <alternate_id>FRT00007E22_07_BRICEJ_MTR3</alternate_id>
        <comment>PDS3 PRODUCT_ID</comment>
      </Alias>
    </Alias_List>
    <Modification_History>
      <Modification_Detail>
        <modification_date>2024-01-01</modification_date>
        <version_id>1.0</version_id>
        <description>PDS4 conversion.</description>
      </Modification_Detail>
    </Modification_History>
  </Identification_Area>
  <Observation_Area>
    <Time_Coordinates>
      <start_date_time>2007-09-26T07:03:25.949Z</start_date_time>
      <stop_date_time>2007-09-26T07:05:33.675Z</stop_date_time>
      <solar_longitude unit="deg">320.441912</solar_longitude>
    </Time_Coordinates>
    <Investigation_Area>
      <name>MARS RECONNAISSANCE ORBITER</name>
      <type>Mission</type>
      <Internal_Reference>
        <lid_reference>urn:nasa:pds:context:investigation:mission.mars_reconnaissance_orbiter</lid_reference>
        <reference_type>data_to_investigation</reference_type>
      </Internal_Reference>
    </Investigation_Area>
    <Observing_System>
      <Observing_System_Component>
        <name>MARS RECONNAISSANCE ORBITER</name>
        <type>Host</type>
        <Internal_Reference>
          <lid_reference>urn:nasa:pds:context:instrument_host:spacecraft.mro</lid_reference>
          <reference_type>is_instrument_host</reference_type>
        </Internal_Reference>
      </Observing_System_Component>
      <Observing_System_Component>
        <name>COMPACT RECONNAISSANCE IMAGING SPECTROMETER FOR MARS</name>
        <type>Instrument</type>
        <Internal_Reference>
          <lid_reference>urn:nasa:pds:context:instrument:crism.mro</lid_reference>
          <reference_type>is_instrument</reference_type>
        </Internal_Reference>
      </Observing_System_Component>
    </Observing_System>
    <Target_Identification>
      <name>Mars</name>
      <type>Planet</type>
      <Internal_Reference>
        <lid_reference>urn:nasa:pds:context:target:planet.mars</lid_reference>
        <reference_type>data_to_target</reference_type>
      </Internal_Reference>
    </Target_Identification>
    <Mission_Area>
      <mro:MRO_Parameters>
        <mro:product_type>MTRDR_Browse</mro:product_type>
        <mro:product_version_id>3</mro:product_version_id>
        <mro:orbit_number>5465</mro:orbit_number>
        <mro:spacecraft_clock_start_count>3/0875257425:37040</mro:spacecraft_clock_start_count>
        <mro:spacecraft_clock_stop_count>3/0875257553:19111</mro:spacecraft_clock_stop_count>
        <mro:producer_institution_name>Johns Hopkins University Applied Physics Laboratory</mro:producer_institution_name>
        <mro:CRISM_Parameters>
          <mro:observation_type>FRT</mro:observation_type>
          <mro:observation_id>16#00007E22#</mro:observation_id>
          <mro:observation_number>16#07#</mro:observation_number>
          <mro:activity_id>IF166</mro:activity_id>
          <mro:sensor_id>J</mro:sensor_id>
          <mro:CRISM_Temperatures>
            <mro:detector_temperature unit="degC">-159.987</mro:detector_temperature>
            <mro:optical_bench_temperature unit="degC">-47.132</mro:optical_bench_temperature>
            <mro:spectrometer_housing_temperature unit="degC">-70.723</mro:spectrometer_housing_temperature>
            <mro:sphere_temperature unit="degC">-47.368</mro:sphere_temperature>
            <mro:fpe_temperature unit="degC">1.210</mro:fpe_temperature>
          </mro:CRISM_Temperatures>
        </mro:CRISM_Parameters>
      </mro:MRO_Parameters>
    </Mission_Area>
    <Discipline_Area>
      <disp:Display_Settings>
        <Local_Internal_Reference>
          <local_identifier_reference>browse_rgb</local_identifier_reference>
          <local_reference_type>display_settings_to_array</local_reference_type>
        </Local_Internal_Reference>
        <disp:Display_Direction>
          <disp:horizontal_display_axis>Sample</disp:horizontal_display_axis>
          <disp:horizontal_display_direction>Left to Right</disp:horizontal_display_direction>
          <disp:vertical_display_axis>Line</disp:vertical_display_axis>
          <disp:vertical_display_direction>Top to Bottom</disp:vertical_display_direction>
        </disp:Display_Direction>
      </disp:Display_Settings>
      <geom:Geometry>
        <geom:Geometry_Orbiter>
          <geom:geometry_start_time_utc>2007-09-26T07:03:25.949Z</geom:geometry_start_time_utc>
          <geom:geometry_stop_time_utc>2007-09-26T07:05:33.675Z</geom:geometry_stop_time_utc>
          <geom:Orbiter_Identification>
            <geom:Geometry_Target_Identification>
              <geom:name>Mars</geom:name>
            </geom:Geometry_Target_Identification>
          </geom:Orbiter_Identification>
          <geom:Distances>
            <geom:Distances_Specific>
              <geom:target_heliocentric_distance unit="km">218758505.152294</geom:target_heliocentric_distance>
            </geom:Distances_Specific>
          </geom:Distances>
          <geom:Surface_Geometry>
            <geom:Surface_Geometry_Min_Max>
              <geom:minimum_latitude unit="deg">25.7038650</geom:minimum_latitude>
              <geom:maximum_latitude unit="deg">25.9449320</geom:maximum_latitude>
              <geom:minimum_longitude unit="deg">283.657463</geom:minimum_longitude>
              <geom:maximum_longitude unit="deg">283.934184</geom:maximum_longitude>
            </geom:Surface_Geometry_Min_Max>
          </geom:Surface_Geometry>
        </geom:Geometry_Orbiter>
      </geom:Geometry>
      <cart:Cartography>
        <Local_Internal_Reference>
          <local_identifier_reference>browse_rgb</local_identifier_reference>
          <local_reference_type>cartography_parameters_to_image_object</local_reference_type>
        </Local_Internal_Reference>
        <cart:Spatial_Domain>
          <cart:Bounding_Coordinates>
            <cart:west_bounding_coordinate unit="deg">283.657463</cart:west_bounding_coordinate>
            <cart:east_bounding_coordinate unit="deg">283.934184</cart:east_bounding_coordinate>
            <cart:north_bounding_coordinate unit="deg">25.9449320</cart:north_bounding_coordinate>
            <cart:south_bounding_coordinate unit="deg">25.7038650</cart:south_bounding_coordinate>
          </cart:Bounding_Coordinates>
        </cart:Spatial_Domain>
        <cart:Spatial_Reference_Information>
          <cart:Horizontal_Coordinate_System_Definition>
            <cart:Planar>
              <cart:Map_Projection>
                <cart:map_projection_name>Equirectangular</cart:map_projection_name>
                <cart:Equirectangular>
                  <cart:latitude_of_projection_origin unit="deg">0</cart:latitude_of_projection_origin>
                  <cart:standard_parallel_1 unit="deg">25.0000000</cart:standard_parallel_1>
                  <cart:longitude_of_central_meridian unit="deg">0</cart:longitude_of_central_meridian>
                </cart:Equirectangular>
              </cart:Map_Projection>
              <cart:Planar_Coordinate_Information>
                <cart:planar_coordinate_encoding_method>Coordinate Pair</cart:planar_coordinate_encoding_method>
                <cart:Coordinate_Representation>
                  <cart:pixel_resolution_x unit="m/pixel">18.0</cart:pixel_resolution_x>
                  <cart:pixel_resolution_y unit="m/pixel">18.0</cart:pixel_resolution_y>
                  <cart:pixel_scale_x unit="pixel/deg">3289.5515834</cart:pixel_scale_x>
                  <cart:pixel_scale_y unit="pixel/deg">3289.5515834</cart:pixel_scale_y>
                </cart:Coordinate_Representation>
              </cart:Planar_Coordinate_Information>
              <cart:Geo_Transformation>
                <cart:upperleft_corner_x unit="m">-4096890.5999994</cart:upperleft_corner_x>
                <cart:upperleft_corner_y unit="m">1536276.4000002</cart:upperleft_corner_y>
              </cart:Geo_Transformation>
            </cart:Planar>
            <cart:Geodetic_Model>
              <cart:latitude_type>Planetocentric</cart:latitude_type>
              <cart:a_axis_radius unit="m">3392593.6</cart:a_axis_radius>
              <cart:b_axis_radius unit="m">3392593.6</cart:b_axis_radius>
              <cart:c_axis_radius unit="m">3392593.6</cart:c_axis_radius>
              <cart:longitude_direction>Positive East</cart:longitude_direction>
            </cart:Geodetic_Model>
          </cart:Horizontal_Coordinate_System_Definition>
        </cart:Spatial_Reference_Information>
      </cart:Cartography>
      <proc:Processing_Information>
        <Local_Internal_Reference>
          <local_identifier_reference>browse_rgb</local_identifier_reference>
          <local_reference_type>processing_information_to_data_object</local_reference_type>
        </Local_Internal_Reference>
        <proc:Process>
          <proc:Software>
            <proc:Software_Program>
              <proc:name>mtrdr_pipeline</proc:name>
              <proc:program_version>1.0</proc:program_version>
              <proc:program_stop_date_time>2015-07-01T16:39:13Z</proc:program_stop_date_time>
            </proc:Software_Program>
          </proc:Software>
        </proc:Process>
      </proc:Processing_Information>
    </Discipline_Area>
  </Observation_Area>
  <Reference_List>
    <Internal_Reference>
      <lid_reference>urn:nasa:pds:mro_crism_mtrdr:document:crism_dpsis</lid_reference>
      <reference_type>data_to_document</reference_type>
    </Internal_Reference>
    <Source_Product_Internal>
      <lidvid_reference>urn:nasa:pds:mro_crism_mtrdr:data_mtrdr:frt00007e22_07_if166j_mtr3::1.0</lidvid_reference>
      <reference_type>data_to_derived_source_product</reference_type>
      <comment>CRISM MTRDR I/F product used to calculate the browse products.</comment>
    </Source_Product_Internal>
    <Source_Product_Internal>
      <lidvid_reference>urn:nasa:pds:mro_crism_mtrdr:data_mtrdr:frt00007e22_07_sr166j_mtr3::1.0</lidvid_reference>
      <reference_type>data_to_derived_source_product</reference_type>
      <comment>CRISM MTRDR refined summary product used to calculate the browse products.</comment>
    </Source_Product_Internal>
  </Reference_List>
  <File_Area_Observational>
    <File>
      <file_name>frt00007e22_07_bricej_mtr3.img</file_name>
      <creation_date_time>2015-07-01T16:39:13Z</creation_date_time>
      <comment>
                This Map-Projected Targeted RDR label describes a multiple-band
                image file containing a byte scaled browse product derived from
                selected refined spectral summary parameters.
            </comment>
    </File>
    <Array_3D_Image>
      <name>ICE_BROWSE_PRODUCT</name>
      <local_identifier>browse_rgb</local_identifier>
      <offset unit="byte">0</offset>
      <axes>3</axes>
      <axis_index_order>Last Index Fastest</axis_index_order>
      <description>Shows information related to water or carbon 
    dioxide frost or ice. CO2 frost or ice displays a sharp 1435 nm 
    absorption and thus appears blue in the ICE browse product. Water ice or 
    frost has strong 1500 and 1900 nm absorptions and thus may appear yellow 
    in the ICE browse product. Red colors often indicate hydrated minerals. 
    See Viviano-Beck et al. [2014] for details. Analysis of CRISM spectra 
    must be used to match absorption band positions and relative strength 
    for positive mineral identification.</description>
      <Element_Array>
        <data_type>UnsignedByte</data_type>
      </Element_Array>
      <Axis_Array>
        <axis_name>Band</axis_name>
        <elements>3</elements>
        <sequence_number>1</sequence_number>
      </Axis_Array>
      <Axis_Array>
        <axis_name>Line</axis_name>
        <elements>794</elements>
        <sequence_number>2</sequence_number>
      </Axis_Array>
      <Axis_Array>
        <axis_name>Sample</axis_name>
        <elements>826</elements>
        <sequence_number>3</sequence_number>
      </Axis_Array>
    </Array_3D_Image>
  </File_Area_Observational>
  <File_Area_Observational_Supplemental>
    <File>
      <file_name>frt00007e22_07_bricej_mtr3.png</file_name>
      <comment>File containing PNG browse image</comment>
    </File>
    <Encoded_Image>
      <offset unit="byte">0</offset>
      <encoding_standard_id>PNG</encoding_standard_id>
      <description>
                The browse IMG and PNG products are identical in the RED, GREEN,
                and BLUE channels. The PNG product includes an additional ALPHA
                transparency channel in which the non-scene pixels are marked
                as transparent.
            </description>
    </Encoded_Image>
  </File_Area_Observational_Supplemental>
  <File_Area_Observational_Supplemental>
    <File>
      <file_name>frt00007e22_07_bricej_mtr3.hdr</file_name>
    </File>
    <Stream_Text>
      <offset unit="byte">0</offset>
      <parsing_standard_id>7-Bit ASCII Text</parsing_standard_id>
      <description>
                The ENVI header is a separate ASCII file that includes basic image
                data file characteristics and allows the image data to be loaded
                directly into the ENVI image processing software available bands
                list.
            </description>
      <record_delimiter>Carriage-Return Line-Feed</record_delimiter>
    </Stream_Text>
  </File_Area_Observational_Supplemental>
  <File_Area_Observational_Supplemental>
    <File>
      <file_name>frt00007e22_07_bricej_mtr3.lbl</file_name>
    </File>
    <Stream_Text>
      <offset unit="byte">0</offset>
      <parsing_standard_id>PDS3</parsing_standard_id>
      <description>PDS3 label</description>
      <record_delimiter>Carriage-Return Line-Feed</record_delimiter>
    </Stream_Text>
  </File_Area_Observational_Supplemental>
</Product_Observational>
