PDS_VERSION_ID = PDS3
RECORD_TYPE = UNDEFINED
LABEL_REVISION_NOTE = "2012-03-06, H. Taylor, F. Seelos (JHU/APL) Initial TER/MTRDR labels for CRISM Data Users' Workshop; 2014-01-09, G. Romeo, J. Aiello, F. Seelos (JHU/APL) Complete TER/MTRDR label set for preliminary PDS review; 2014-04-08, G. Romeo, J. Aiello, R. Espiritu, F. Seelos (JHU/APL) TER/MTRDR label set revisions completed for PDS peer review; 2014-08-14, G. Romeo, J. Aiello, F. Seelos (JHU/APL) PDS peer review TER/MTRDR label set liens retired;"
^PNG_DOCUMENT = "FRT00007E72_07_BRHYDJ_MTR3.PNG"
^ENVI_HEADER = "FRT00007E72_07_BRHYDJ_MTR3.HDR"
^IMAGE = "FRT00007E72_07_BRHYDJ_MTR3.IMG"
/* Map-Projected Targeted RDR Browse Product Identification */
DATA_SET_ID = "MRO-M-CRISM-5-RDR-MPTARGETED-V1.0"
PRODUCT_ID = "FRT00007E72_07_BRHYDJ_MTR3" /* cccnnnnnnnn_xx_ooaaas_MTRv */
/* ccc = Class Type */
/* nnnnnnnn = Observation ID, hexadecimal */
/* ooaaa = Image type, browse type */
/* xx = counter this observation (hex) */
/* s = Sensor ID (J for Joined) */
/* v = Version number */
INSTRUMENT_HOST_NAME = "MARS RECONNAISSANCE ORBITER"
SPACECRAFT_ID = MRO
INSTRUMENT_NAME = "COMPACT RECONNAISSANCE IMAGING SPECTROMETER FOR MARS"
INSTRUMENT_ID = CRISM
TARGET_NAME = MARS
PRODUCT_TYPE = MPTARGETED_BROWSE
PRODUCT_CREATION_TIME = 2015-07-01T17:19:51
START_TIME = 2007-09-27T07:22:45.711
STOP_TIME = 2007-09-27T07:24:53.445
SPACECRAFT_CLOCK_START_COUNT = "3/0875344985.21518"
SPACECRAFT_CLOCK_STOP_COUNT = "3/0875345113.04101"
ORBIT_NUMBER = 5478
OBSERVATION_TYPE = "FRT"
OBSERVATION_ID = "16#00007E72#"
MRO:OBSERVATION_NUMBER = 16#07#
MRO:ACTIVITY_ID = "IF166"
MRO:SENSOR_ID = "J"
/* Detector and FPE temperature refer to IR component of observation */
MRO:DETECTOR_TEMPERATURE = -159.943
MRO:OPTICAL_BENCH_TEMPERATURE = -47.224
MRO:SPECTROMETER_HOUSING_TEMP = -69.908
MRO:SPHERE_TEMPERATURE = -47.453
MRO:FPE_TEMPERATURE = 1.243
PRODUCT_VERSION_ID = "3"
PRODUCER_INSTITUTION_NAME = "JOHNS HOPKINS UNIVERSITY APPLIED PHYSICS LABORATORY"
SOFTWARE_NAME = "mtrdr_pipeline"
SOFTWARE_VERSION_ID = "1.0"
/* Targeted RDR Observation and Processing Parameters */
SOLAR_DISTANCE = 218944173.279911
SOLAR_LONGITUDE = 321.015507
MRO:PHOTOMETRIC_CORR_FLAG = "ON"
MRO:ATMOSPHERIC_CORR_FLAG = "ON"
MRO:RATIO_SHIFT_CORR_FLAG = "ON"
MRO:EMPIRICAL_GEOM_NORM_FLAG = "ON"
MRO:EMPIRICAL_SMILE_CORR_FLAG = "ON"
MRO:SENSOR_SPACE_TRANSFORM_FLAG = "ON"
/* These parameters describe the browse image as a PDS document. */
/* The browse IMG and PNG products are identical in the RED, GREEN, */
/* and BLUE channels. The PNG product includes an additional ALPHA */
/* transparency channel in which the non-scene pixels are marked */
/* as transparent. */
OBJECT = PNG_DOCUMENT
  DOCUMENT_NAME = "FRT00007E72_07_BRHYDJ_MTR3"
  DOCUMENT_FORMAT = PNG
  DOCUMENT_TOPIC_TYPE = "BROWSE IMAGE"
  INTERCHANGE_FORMAT = BINARY
  PUBLICATION_DATE = 2013-12-15
  DESCRIPTION = "Shows information related to bound water in minerals. Polyhydrated sulfates have strong 1900 nm and 2400 nm absorption bands, and may appear magenta in the HYD browse product. Monohydrated sulfates have a strong 2100 nm absorption and a weak 2400 nm absorption band, and may appear yellow/green in the HYD browse product. Blue colors likely indicate other hydrated minerals. See Viviano-Beck et al. [2014] for details. Analysis of CRISM spectra must be used to match absorption band positions and relative strength for positive mineral identification."
END_OBJECT = PNG_DOCUMENT
/* ENVI header description */
/* The ENVI header is a separate ASCII file that includes basic image */
/* data file characteristics and allows the image data to be loaded */
/* directly into the ENVI image processing software available bands */
/* list. */
OBJECT = ENVI_HEADER
  HEADER_TYPE = "ENVI"
  INTERCHANGE_FORMAT = "ASCII"
  BYTES = 1386
  DESCRIPTION = "This text file can be used by ENVI image processing software to read in the image."
END_OBJECT = ENVI_HEADER
/* This Map-Projected Targeted RDR label describes a multiple-band */
/* image file containing a byte scaled browse product derived from */
/* selected refined spectral summary parameters. */
OBJECT = IMAGE
  LINES = 837
  LINE_SAMPLES = 847
  SAMPLE_TYPE = LSB_UNSIGNED_INTEGER
  SAMPLE_BITS = 8
  DESCRIPTION = "HYD_BROWSE_PRODUCT"
  BANDS = 3
  BAND_STORAGE_TYPE = BAND_SEQUENTIAL
  BAND_SEQUENCE = "(RED, GREEN, BLUE)"
  BAND_NAME = ( "SINDEX2", "BD2100_2", "BD1900_2")
  /* The following information to scale from real numbers to an */
  /* 8-bit integer for this type of browse image. */
  DERIVED_MINIMUM = ( 0, 0, 0)
  DERIVED_MAXIMUM = ( 254, 254, 254 )
  OFFSET = ( 5.0000E-03, 0.0000E+00, 0.0000E+00)
  SCALING_FACTOR = ( 9.5991E-05, 7.6784E-05, 1.8481E-04)
END_OBJECT = IMAGE
/* Map projection information about this RDR is in the */
/* IMAGE_MAP_PROJECTION object below. */
OBJECT = IMAGE_MAP_PROJECTION
  ^DATA_SET_MAP_PROJECTION = "MTR_MAP.CAT"
  MAP_PROJECTION_TYPE = "EQUIRECTANGULAR"
  A_AXIS_RADIUS = 3392.593600000000
  B_AXIS_RADIUS = 3392.593600000000
  C_AXIS_RADIUS = 3392.593600000000
  POSITIVE_LONGITUDE_DIRECTION = EAST
  CENTER_LATITUDE = 25.0000000
  CENTER_LONGITUDE = 0.0000000
  LINE_FIRST_PIXEL = 1
  LINE_LAST_PIXEL = 837
  SAMPLE_FIRST_PIXEL = 1
  SAMPLE_LAST_PIXEL = 847
  MAP_PROJECTION_ROTATION = 0.0000000
  MAP_RESOLUTION = 3289.5515834
  MAP_SCALE = 0.0180000
  MINIMUM_LATITUDE = 27.5267270
  MAXIMUM_LATITUDE = 27.7808650
  WESTERNMOST_LONGITUDE = -71.5215460
  EASTERNMOST_LONGITUDE = -71.2377810
  LINE_PROJECTION_OFFSET = 91387.5888889
  SAMPLE_PROJECTION_OFFSET = 213231.4888889
  COORDINATE_SYSTEM_TYPE = "BODY-FIXED ROTATING"
  COORDINATE_SYSTEM_NAME = "PLANETOCENTRIC"
END_OBJECT = IMAGE_MAP_PROJECTION
END
