PDS_VERSION_ID = PDS3
RECORD_TYPE = UNDEFINED
LABEL_REVISION_NOTE = "2012-03-06, H. Taylor, F. Seelos (JHU/APL) Initial TER/MTRDR labels for CRISM Data Users' Workshop; 2014-01-09, G. Romeo, J. Aiello, F. Seelos (JHU/APL) Complete TER/MTRDR label set for preliminary PDS review; 2014-04-08, G. Romeo, J. Aiello, R. Espiritu, F. Seelos (JHU/APL) TER/MTRDR label set revisions completed for PDS peer review; 2014-08-14, G. Romeo, J. Aiello, F. Seelos (JHU/APL) PDS peer review TER/MTRDR label set liens retired;"
^PNG_DOCUMENT = "FRT0000B341_07_BRIRAJ_MTR3.PNG"
^ENVI_HEADER = "FRT0000B341_07_BRIRAJ_MTR3.HDR"
^IMAGE = "FRT0000B341_07_BRIRAJ_MTR3.IMG"
/* Map-Projected Targeted RDR Browse Product Identification */
DATA_SET_ID = "MRO-M-CRISM-5-RDR-MPTARGETED-V1.0"
PRODUCT_ID = "FRT0000B341_07_BRIRAJ_MTR3" /* cccnnnnnnnn_xx_ooaaas_MTRv */
/* ccc = Class Type */
/* nnnnnnnn = Observation ID, hexadecimal */
/* ooaaa = Image type, browse type */
/* xx = counter this observation (hex) */
/* s = Sensor ID (J for Joined) */
/* v = Version number */
INSTRUMENT_HOST_NAME = "MARS RECONNAISSANCE ORBITER"
SPACECRAFT_ID = MRO
INSTRUMENT_NAME = "COMPACT RECONNAISSANCE IMAGING SPECTROMETER FOR MARS"
INSTRUMENT_ID = CRISM
TARGET_NAME = MARS
PRODUCT_TYPE = MPTARGETED_BROWSE
PRODUCT_CREATION_TIME = 2016-02-10T09:29:06
START_TIME = 2008-06-23T10:30:39.099
STOP_TIME = 2008-06-23T10:33:02.825
SPACECRAFT_CLOCK_START_COUNT = "4/0898684259.16861"
SPACECRAFT_CLOCK_STOP_COUNT = "4/0898684402.64462"
ORBIT_NUMBER = 8944
OBSERVATION_TYPE = "FRT"
OBSERVATION_ID = "16#0000B341#"
MRO:OBSERVATION_NUMBER = 16#07#
MRO:ACTIVITY_ID = "IF168"
MRO:SENSOR_ID = "J"
/* Detector and FPE temperature refer to IR component of observation */
MRO:DETECTOR_TEMPERATURE = -150.127
MRO:OPTICAL_BENCH_TEMPERATURE = -53.889
MRO:SPECTROMETER_HOUSING_TEMP = -77.253
MRO:SPHERE_TEMPERATURE = -53.856
MRO:FPE_TEMPERATURE = 0.855
PRODUCT_VERSION_ID = "3"
PRODUCER_INSTITUTION_NAME = "JOHNS HOPKINS UNIVERSITY APPLIED PHYSICS LABORATORY"
SOFTWARE_NAME = "mtrdr_pipeline"
SOFTWARE_VERSION_ID = "1.0"
/* Targeted RDR Observation and Processing Parameters */
SOLAR_DISTANCE = 247956193.802652
SOLAR_LONGITUDE = 89.212022
MRO:PHOTOMETRIC_CORR_FLAG = "ON"
MRO:ATMOSPHERIC_CORR_FLAG = "ON"
MRO:RATIO_SHIFT_CORR_FLAG = "ON"
MRO:EMPIRICAL_GEOM_NORM_FLAG = "ON"
MRO:EMPIRICAL_SMILE_CORR_FLAG = "ON"
MRO:SENSOR_SPACE_TRANSFORM_FLAG = "ON"
/* These parameters describe the browse image as a PDS document. */
/* The browse IMG and PNG products are identical in the RED, GREEN, */
/* and BLUE channels. The PNG product includes an additional ALPHA */
/* transparency channel in which the non-scene pixels are marked */
/* as transparent. */
OBJECT = PNG_DOCUMENT
  DOCUMENT_NAME = "FRT0000B341_07_BRIRAJ_MTR3"
  DOCUMENT_FORMAT = PNG
  DOCUMENT_TOPIC_TYPE = "BROWSE IMAGE"
  INTERCHANGE_FORMAT = BINARY
  PUBLICATION_DATE = 2013-12-15
  DESCRIPTION = "Shows I/F variability at 1330 nm as a proxy for IR albedo and may be used to correlate spectral variations with morphology. IRA is a single greyscale image replicated into a three-band RGB product for structural consistency with the browse product suite."
END_OBJECT = PNG_DOCUMENT
/* ENVI header description */
/* The ENVI header is a separate ASCII file that includes basic image */
/* data file characteristics and allows the image data to be loaded */
/* directly into the ENVI image processing software available bands */
/* list. */
OBJECT = ENVI_HEADER
  HEADER_TYPE = "ENVI"
  INTERCHANGE_FORMAT = "ASCII"
  BYTES = 1151
  DESCRIPTION = "This text file can be used by ENVI image processing software to read in the image."
END_OBJECT = ENVI_HEADER
/* This Map-Projected Targeted RDR label describes a multiple-band */
/* image file containing a byte scaled browse product derived from */
/* selected refined spectral summary parameters. */
OBJECT = IMAGE
  LINES = 1212
  LINE_SAMPLES = 1236
  SAMPLE_TYPE = LSB_UNSIGNED_INTEGER
  SAMPLE_BITS = 8
  DESCRIPTION = "IRA_BROWSE_PRODUCT"
  BANDS = 3
  BAND_STORAGE_TYPE = BAND_SEQUENTIAL
  BAND_SEQUENCE = "(RED, GREEN, BLUE)"
  BAND_NAME = ( "R1330", "R1330", "R1330")
  /* The following information to scale from real numbers to an */
  /* 8-bit integer for this type of browse image. */
  DERIVED_MINIMUM = ( 0, 0, 0)
  DERIVED_MAXIMUM = ( 254, 254, 254 )
  OFFSET = ( 4.4000E-01, 4.4000E-01, 4.4000E-01)
  SCALING_FACTOR = ( 2.0917E-04, 2.0917E-04, 2.0917E-04)
END_OBJECT = IMAGE
/* Map projection information about this RDR is in the */
/* IMAGE_MAP_PROJECTION object below. */
OBJECT = IMAGE_MAP_PROJECTION
  ^DATA_SET_MAP_PROJECTION = "MTR_MAP.CAT"
  MAP_PROJECTION_TYPE = "POLAR STEREOGRAPHIC"
  A_AXIS_RADIUS = 3396.190000000000
  B_AXIS_RADIUS = 3396.190000000000
  C_AXIS_RADIUS = 3376.200000000000
  POSITIVE_LONGITUDE_DIRECTION = EAST
  CENTER_LATITUDE = 90.0000000
  CENTER_LONGITUDE = 0.0000000
  LINE_FIRST_PIXEL = 1
  LINE_LAST_PIXEL = 1212
  SAMPLE_FIRST_PIXEL = 1
  SAMPLE_LAST_PIXEL = 1236
  MAP_PROJECTION_ROTATION = 0.0000000
  MAP_RESOLUTION = 3293.0387513
  MAP_SCALE = 0.0180000
  MINIMUM_LATITUDE = 85.3679940
  MAXIMUM_LATITUDE = 85.7826530
  WESTERNMOST_LONGITUDE = -174.3495400
  EASTERNMOST_LONGITUDE = -168.8864300
  LINE_PROJECTION_OFFSET = 15107.8238889
  SAMPLE_PROJECTION_OFFSET = 2730.6693333
  COORDINATE_SYSTEM_TYPE = "BODY-FIXED ROTATING"
  COORDINATE_SYSTEM_NAME = "PLANETOCENTRIC"
END_OBJECT = IMAGE_MAP_PROJECTION
END
