PDS_VERSION_ID = PDS3
RECORD_TYPE = UNDEFINED
LABEL_REVISION_NOTE = "2012-03-06, H. Taylor, F. Seelos (JHU/APL) Initial TER/MTRDR labels for CRISM Data Users' Workshop; 2014-01-09, G. Romeo, J. Aiello, F. Seelos (JHU/APL) Complete TER/MTRDR label set for preliminary PDS review; 2014-04-08, G. Romeo, J. Aiello, R. Espiritu, F. Seelos (JHU/APL) TER/MTRDR label set revisions completed for PDS peer review; 2014-08-14, G. Romeo, J. Aiello, F. Seelos (JHU/APL) PDS peer review TER/MTRDR label set liens retired;"
^PNG_DOCUMENT = "FRT00013E4E_07_BRICEJ_MTR3.PNG"
^ENVI_HEADER = "FRT00013E4E_07_BRICEJ_MTR3.HDR"
^IMAGE = "FRT00013E4E_07_BRICEJ_MTR3.IMG"
/* Map-Projected Targeted RDR Browse Product Identification */
DATA_SET_ID = "MRO-M-CRISM-5-RDR-MPTARGETED-V1.0"
PRODUCT_ID = "FRT00013E4E_07_BRICEJ_MTR3" /* cccnnnnnnnn_xx_ooaaas_MTRv */
/* ccc = Class Type */
/* nnnnnnnn = Observation ID, hexadecimal */
/* ooaaa = Image type, browse type */
/* xx = counter this observation (hex) */
/* s = Sensor ID (J for Joined) */
/* v = Version number */
INSTRUMENT_HOST_NAME = "MARS RECONNAISSANCE ORBITER"
SPACECRAFT_ID = MRO
INSTRUMENT_NAME = "COMPACT RECONNAISSANCE IMAGING SPECTROMETER FOR MARS"
INSTRUMENT_ID = CRISM
TARGET_NAME = MARS
PRODUCT_TYPE = MPTARGETED_BROWSE
PRODUCT_CREATION_TIME = 2020-08-27T08:35:17
START_TIME = 2009-07-23T00:24:43.183
STOP_TIME = 2009-07-23T00:26:42.918
SPACECRAFT_CLOCK_START_COUNT = "6/0932775905.40530"
SPACECRAFT_CLOCK_STOP_COUNT = "6/0932776025.23107"
ORBIT_NUMBER = 14008
OBSERVATION_TYPE = "FRT"
OBSERVATION_ID = "16#00013E4E#"
MRO:OBSERVATION_NUMBER = 16#07#
MRO:ACTIVITY_ID = "IF165"
MRO:SENSOR_ID = "J"
/* Detector and FPE temperature refer to IR component of observation */
MRO:DETECTOR_TEMPERATURE = -146.474
MRO:OPTICAL_BENCH_TEMPERATURE = -44.098
MRO:SPECTROMETER_HOUSING_TEMP = -68.433
MRO:SPHERE_TEMPERATURE = -44.013
MRO:FPE_TEMPERATURE = 3.191
PRODUCT_VERSION_ID = "3"
PRODUCER_INSTITUTION_NAME = "JOHNS HOPKINS UNIVERSITY APPLIED PHYSICS LABORATORY"
SOFTWARE_NAME = "mtrdr_pipeline"
SOFTWARE_VERSION_ID = "1.0"
/* Targeted RDR Observation and Processing Parameters */
SOLAR_DISTANCE = 215063589.811613
SOLAR_LONGITUDE = 308.209471
MRO:PHOTOMETRIC_CORR_FLAG = "ON"
MRO:ATMOSPHERIC_CORR_FLAG = "ON"
MRO:RATIO_SHIFT_CORR_FLAG = "ON"
MRO:EMPIRICAL_GEOM_NORM_FLAG = "ON"
MRO:EMPIRICAL_SMILE_CORR_FLAG = "ON"
MRO:SENSOR_SPACE_TRANSFORM_FLAG = "ON"
/* These parameters describe the browse image as a PDS document. */
/* The browse IMG and PNG products are identical in the RED, GREEN, */
/* and BLUE channels. The PNG product includes an additional ALPHA */
/* transparency channel in which the non-scene pixels are marked */
/* as transparent. */
OBJECT = PNG_DOCUMENT
  DOCUMENT_NAME = "FRT00013E4E_07_BRICEJ_MTR3"
  DOCUMENT_FORMAT = PNG
  DOCUMENT_TOPIC_TYPE = "BROWSE IMAGE"
  INTERCHANGE_FORMAT = BINARY
  PUBLICATION_DATE = 2013-12-15
  DESCRIPTION = "Shows information related to water or carbon dioxide frost or ice. CO2 frost or ice displays a sharp 1435 nm absorption and thus appears blue in the ICE browse product. Water ice or frost has strong 1500 and 1900 nm absorptions and thus may appear yellow in the ICE browse product. Red colors often indicate hydrated minerals. See Viviano-Beck et al. [2014] for details. Analysis of CRISM spectra must be used to match absorption band positions and relative strength for positive mineral identification."
END_OBJECT = PNG_DOCUMENT
/* ENVI header description */
/* The ENVI header is a separate ASCII file that includes basic image */
/* data file characteristics and allows the image data to be loaded */
/* directly into the ENVI image processing software available bands */
/* list. */
OBJECT = ENVI_HEADER
  HEADER_TYPE = "ENVI"
  INTERCHANGE_FORMAT = "ASCII"
  BYTES = 1289
  DESCRIPTION = "This text file can be used by ENVI image processing software to read in the image."
END_OBJECT = ENVI_HEADER
/* This Map-Projected Targeted RDR label describes a multiple-band */
/* image file containing a byte scaled browse product derived from */
/* selected refined spectral summary parameters. */
OBJECT = IMAGE
  LINES = 694
  LINE_SAMPLES = 772
  SAMPLE_TYPE = LSB_UNSIGNED_INTEGER
  SAMPLE_BITS = 8
  DESCRIPTION = "ICE_BROWSE_PRODUCT"
  BANDS = 3
  BAND_STORAGE_TYPE = BAND_SEQUENTIAL
  BAND_SEQUENCE = "(RED, GREEN, BLUE)"
  BAND_NAME = ( "BD1900_2", "BD1500_2", "BD1435")
  /* The following information to scale from real numbers to an */
  /* 8-bit integer for this type of browse image. */
  DERIVED_MINIMUM = ( 0, 0, 0)
  DERIVED_MAXIMUM = ( 254, 254, 254 )
  OFFSET = ( 0.0000E+00, 0.0000E+00, 0.0000E+00)
  SCALING_FACTOR = ( 1.8481E-04, 1.6418E-04, 6.1074E-05)
END_OBJECT = IMAGE
/* Map projection information about this RDR is in the */
/* IMAGE_MAP_PROJECTION object below. */
OBJECT = IMAGE_MAP_PROJECTION
  ^DATA_SET_MAP_PROJECTION = "MTR_MAP.CAT"
  MAP_PROJECTION_TYPE = "EQUIRECTANGULAR"
  A_AXIS_RADIUS = 3396.190000000000
  B_AXIS_RADIUS = 3396.190000000000
  C_AXIS_RADIUS = 3396.190000000000
  POSITIVE_LONGITUDE_DIRECTION = EAST
  CENTER_LATITUDE = 0.0000000
  CENTER_LONGITUDE = 0.0000000
  LINE_FIRST_PIXEL = 1
  LINE_LAST_PIXEL = 694
  SAMPLE_FIRST_PIXEL = 1
  SAMPLE_LAST_PIXEL = 772
  MAP_PROJECTION_ROTATION = 0.0000000
  MAP_RESOLUTION = 3293.0387513
  MAP_SCALE = 0.0180000
  MINIMUM_LATITUDE = -0.6672024
  MAXIMUM_LATITUDE = -0.4567585
  WESTERNMOST_LONGITUDE = -42.1714100
  EASTERNMOST_LONGITUDE = -41.9372800
  LINE_PROJECTION_OFFSET = -1503.1233889
  SAMPLE_PROJECTION_OFFSET = 138873.0888889
  COORDINATE_SYSTEM_TYPE = "BODY-FIXED ROTATING"
  COORDINATE_SYSTEM_NAME = "PLANETOCENTRIC"
END_OBJECT = IMAGE_MAP_PROJECTION
END
