PDS_VERSION_ID = PDS3
RECORD_TYPE = FIXED_LENGTH
RECORD_BYTES = 3236
FILE_RECORDS = 396090
LABEL_REVISION_NOTE = "2012-03-06, H. Taylor, F. Seelos (JHU/APL) Initial TER/MTRDR labels for CRISM Data Users' Workshop; 2014-01-09, G. Romeo, J. Aiello, F. Seelos (JHU/APL) Complete TER/MTRDR label set for preliminary PDS review; 2014-04-08, G. Romeo, J. Aiello, R. Espiritu, F. Seelos (JHU/APL) TER/MTRDR label set revisions completed for PDS peer review; 2014-08-14, G. Romeo, J. Aiello, F. Seelos (JHU/APL) PDS peer review TER/MTRDR label set liens retired;"
^ENVI_HEADER = "FRT00007341_07_IF163J_MTR3.HDR"
^IMAGE = "FRT00007341_07_IF163J_MTR3.IMG"
/* Map-Projected Targeted RDR Identification */
DATA_SET_ID = "MRO-M-CRISM-5-RDR-MPTARGETED-V1.0"
PRODUCT_ID = "FRT00007341_07_IF163J_MTR3" /* cccnnnnnnnn_xx_ooaaas_MTRv */
/* ccc = Class Type */
/* nnnnnnnn = Observation ID, hexadecimal */
/* xx = counter this observation (hex) */
/* ooaaa = Image type, Macro number */
/* s = Sensor ID (J for Joined) */
/* v = Version number */
INSTRUMENT_HOST_NAME = "MARS RECONNAISSANCE ORBITER"
SPACECRAFT_ID = MRO
INSTRUMENT_NAME = "COMPACT RECONNAISSANCE IMAGING SPECTROMETER FOR MARS"
INSTRUMENT_ID = CRISM
TARGET_NAME = MARS
PRODUCT_TYPE = MPTARGETED_RDR
PRODUCT_CREATION_TIME = 2015-06-30T18:19:42
START_TIME = 2007-08-19T22:41:32.450
STOP_TIME = 2007-08-19T22:43:16.177
SPACECRAFT_CLOCK_START_COUNT = "3/0872030512.00781"
SPACECRAFT_CLOCK_STOP_COUNT = "3/0872030615.48392"
ORBIT_NUMBER = 4986
OBSERVATION_TYPE = "FRT"
OBSERVATION_ID = "16#00007341#"
MRO:OBSERVATION_NUMBER = 16#07#
MRO:ACTIVITY_ID = "IF163"
MRO:SENSOR_ID = "J"
/* Detector and FPE temperature refer to IR component of observation */
MRO:DETECTOR_TEMPERATURE = -161.374
MRO:OPTICAL_BENCH_TEMPERATURE = -46.569
MRO:SPECTROMETER_HOUSING_TEMP = -68.794
MRO:SPHERE_TEMPERATURE = -46.037
MRO:FPE_TEMPERATURE = 1.346
PRODUCT_VERSION_ID = "3"
PRODUCER_INSTITUTION_NAME = "JOHNS HOPKINS UNIVERSITY APPLIED PHYSICS LABORATORY"
SOFTWARE_NAME = "mtrdr_pipeline"
SOFTWARE_VERSION_ID = "1.0"
SOURCE_PRODUCT_ID = ( "FRT00007341_07_IF163J_TER3", "FRT00007341_07_DE163L_DDR1" )
/* Targeted RDR Observation and Processing Parameters */
SOLAR_DISTANCE = 212568856.785424
SOLAR_LONGITUDE = 298.644431
MRO:WAVELENGTH_FILE_NAME = "FRT00007341_07_WV163J_MTR3.TAB"
MRO:PHOTOMETRIC_CORR_FLAG = "ON"
MRO:ATMOSPHERIC_CORR_FLAG = "ON"
MRO:RATIO_SHIFT_CORR_FLAG = "ON"
MRO:EMPIRICAL_GEOM_NORM_FLAG = "ON"
MRO:EMPIRICAL_SMILE_CORR_FLAG = "ON"
MRO:SENSOR_SPACE_TRANSFORM_FLAG = "ON"
/* Map projection information about this RDR is in the */
/* IMAGE_MAP_PROJECTION object below. */
OBJECT = IMAGE_MAP_PROJECTION
  ^DATA_SET_MAP_PROJECTION = "MTR_MAP.CAT"
  MAP_PROJECTION_TYPE = "POLAR STEREOGRAPHIC"
  A_AXIS_RADIUS = 3396.190000000000
  B_AXIS_RADIUS = 3396.190000000000
  C_AXIS_RADIUS = 3376.200000000000
  POSITIVE_LONGITUDE_DIRECTION = EAST
  CENTER_LATITUDE = -90.0000000
  CENTER_LONGITUDE = 0.0000000
  LINE_FIRST_PIXEL = 1
  LINE_LAST_PIXEL = 810
  SAMPLE_FIRST_PIXEL = 1
  SAMPLE_LAST_PIXEL = 809
  MAP_PROJECTION_ROTATION = 0.0000000
  MAP_RESOLUTION = 3293.0387513
  MAP_SCALE = 0.0180000
  MINIMUM_LATITUDE = -81.8434940
  MAXIMUM_LATITUDE = -81.5234690
  WESTERNMOST_LONGITUDE = 65.1440680
  EASTERNMOST_LONGITUDE = 67.3570920
  LINE_PROJECTION_OFFSET = 11514.6016667
  SAMPLE_PROJECTION_OFFSET = -24852.9688889
  COORDINATE_SYSTEM_TYPE = "BODY-FIXED ROTATING"
  COORDINATE_SYSTEM_NAME = "PLANETOCENTRIC"
END_OBJECT = IMAGE_MAP_PROJECTION
/* ENVI header description */
/* The ENVI header is a separate ASCII file that includes basic image */
/* data file characteristics and allows the image data to be loaded */
/* directly into the ENVI image processing software available bands */
/* list. */
OBJECT = ENVI_HEADER
  HEADER_TYPE = "ENVI"
  INTERCHANGE_FORMAT = "ASCII"
  BYTES = 14781
  DESCRIPTION = "This text file can be used by ENVI image processing software to read in the image."
END_OBJECT = ENVI_HEADER
/* This Map-Projected Targeted RDR label describes a multiple-band */
/* image file containing calibrated and corrected spectral data */
/* in units of corrected I over F. */
OBJECT = IMAGE
  LINES = 810
  LINE_SAMPLES = 809
  SAMPLE_TYPE = PC_REAL
  SAMPLE_BITS = 32
  UNIT = "CORRECTED_I_OVER_F"
  BANDS = 489
  BAND_STORAGE_TYPE = BAND_SEQUENTIAL
END_OBJECT = IMAGE
END
