PDS_VERSION_ID = PDS3
RECORD_TYPE = FIXED_LENGTH
RECORD_BYTES = 2952
FILE_RECORDS = 8736
LABEL_REVISION_NOTE = "2012-03-06, H. Taylor, F. Seelos (JHU/APL) Initial TER/MTRDR labels for CRISM Data Users' Workshop; 2014-01-09, G. Romeo, J. Aiello, F. Seelos (JHU/APL) Complete TER/MTRDR label set for preliminary PDS review; 2014-04-08, G. Romeo, J. Aiello, R. Espiritu, F. Seelos (JHU/APL) TER/MTRDR label set revisions completed for PDS peer review; 2014-08-14, G. Romeo, J. Aiello, F. Seelos (JHU/APL) PDS peer review TER/MTRDR label set liens retired;"
^ENVI_HEADER = "FRT00007B2B_07_DE164L_MTR1.HDR"
^IMAGE = "FRT00007B2B_07_DE164L_MTR1.IMG"
/* DDR Identification */
DATA_SET_ID = "MRO-M-CRISM-5-RDR-MPTARGETED-V1.0"
PRODUCT_ID = "FRT00007B2B_07_DE164L_MTR1" /* cccnnnnnnnn_xx_ooaaas_MTRv */
/* ccc = Class Type */
/* nnnnnnnn = Observation ID (hex) */
/* xx = counter this observation (hex) */
/* ooaaa = obs type, macro number */
/* s = sensor ID (J for Joined) */
/* v = version number */
INSTRUMENT_HOST_NAME = "MARS RECONNAISSANCE ORBITER"
SPACECRAFT_ID = MRO
INSTRUMENT_NAME = "COMPACT RECONNAISSANCE IMAGING SPECTROMETER FOR MARS"
INSTRUMENT_ID = CRISM
TARGET_NAME = MARS
PRODUCT_TYPE = MAP_PROJECTED_DDR
PRODUCT_CREATION_TIME = 2015-07-01T08:09:05
START_TIME = 2007-09-15T12:46:53.786
STOP_TIME = 2007-09-15T12:48:45.520
SPACECRAFT_CLOCK_START_COUNT = "3/874327633:24413"
SPACECRAFT_CLOCK_STOP_COUNT = "3/874327745:6996"
ORBIT_NUMBER = 5327
OBSERVATION_TYPE = "FRT"
OBSERVATION_ID = "16#00007B2B#"
MRO:OBSERVATION_NUMBER = 16#07#
MRO:ACTIVITY_ID = "DE164"
MRO:SENSOR_ID = "L"
PRODUCT_VERSION_ID = "1"
PRODUCER_INSTITUTION_NAME = "JOHNS HOPKINS UNIVERSITY APPLIED PHYSICS LABORATORY"
SOFTWARE_NAME = "mtrdr_pipeline"
SOFTWARE_VERSION_ID = "1.0"
SOURCE_PRODUCT_ID = ( "FRT00007B2B_07_DE164L_DDR1" )
/* DDR Instrument and Observation Parameters */
TARGET_CENTER_DISTANCE = 3655.919331 /* distance to Mars center at first frame */
SOLAR_DISTANCE = 216830801.074895
SOLAR_LONGITUDE = 314.290828
/* Map projection information about this RDR is in the */
/* IMAGE_MAP_PROJECTION object below. */
OBJECT = IMAGE_MAP_PROJECTION
  ^DATA_SET_MAP_PROJECTION = "MTR_MAP.CAT"
  MAP_PROJECTION_TYPE = "EQUIRECTANGULAR"
  A_AXIS_RADIUS = 3395.582027080459
  B_AXIS_RADIUS = 3395.582027080459
  C_AXIS_RADIUS = 3395.582027080459
  POSITIVE_LONGITUDE_DIRECTION = EAST
  CENTER_LATITUDE = -10.0000000
  CENTER_LONGITUDE = 0.0000000
  LINE_FIRST_PIXEL = 1
  LINE_LAST_PIXEL = 624
  SAMPLE_FIRST_PIXEL = 1
  SAMPLE_LAST_PIXEL = 738
  MAP_PROJECTION_ROTATION = 0.0000000
  MAP_RESOLUTION = 3292.4492441
  MAP_SCALE = 0.0180000
  MINIMUM_LATITUDE = -11.7444940
  MAXIMUM_LATITUDE = -11.5552730
  WESTERNMOST_LONGITUDE = 96.0159320
  EASTERNMOST_LONGITUDE = 96.2432300
  LINE_PROJECTION_OFFSET = -38044.1505556
  SAMPLE_PROJECTION_OFFSET = -311323.8944444
  COORDINATE_SYSTEM_TYPE = "BODY-FIXED ROTATING"
  COORDINATE_SYSTEM_NAME = "PLANETOCENTRIC"
END_OBJECT = IMAGE_MAP_PROJECTION
/* ENVI header description */
/* The ENVI header is a separate ASCII file that includes basic image */
/* data file characteristics and allows the image data to be loaded */
/* directly into the ENVI image processing software available bands */
/* list. */
OBJECT = ENVI_HEADER
  HEADER_TYPE = "ENVI"
  INTERCHANGE_FORMAT = "ASCII"
  BYTES = 1749
  DESCRIPTION = "This text file can be used by ENVI image processing software to read in the image."
END_OBJECT = ENVI_HEADER
/* This map-projected DDR label describes one data file: */
/* 1. A multiple-band backplane image file with wavelength-independent, */
/* spatial pixel-dependent geometric and timing information. */
/* See the CRISM Data Products SIS for more detailed description. */
OBJECT = IMAGE
  LINES = 624
  LINE_SAMPLES = 738
  SAMPLE_TYPE = PC_REAL
  SAMPLE_BITS = 32
  BANDS = 14
  BAND_STORAGE_TYPE = BAND_SEQUENTIAL
  BAND_NAME = ("INA at areoid, deg", "EMA at areoid, deg", "Phase angle, deg", "Latitude, areocentric, deg N", "Longitude, areocentric, deg E", "INA at surface from MOLA, deg", "EMA at surface from MOLA, deg", "Slope magnitude from MOLA, deg", "MOLA slope azimuth, deg clkwise from N", "Elevation, meters relative to MOLA", "Thermal inertia, J m^-2 K^-1 s^-0.5", "Bolometic albedo", "Local solar time, hours", "Spare")
END_OBJECT = IMAGE
END
