PDS_VERSION_ID = PDS3
RECORD_TYPE = FIXED_LENGTH
RECORD_BYTES = 2780
FILE_RECORDS = 4995
LABEL_REVISION_NOTE = "2012-03-06, H. Taylor, F. Seelos (JHU/APL) Initial TER/MTRDR labels for CRISM Data Users' Workshop; 2014-01-09, G. Romeo, J. Aiello, F. Seelos (JHU/APL) Complete TER/MTRDR label set for preliminary PDS review; 2014-04-08, G. Romeo, J. Aiello, R. Espiritu, F. Seelos (JHU/APL) TER/MTRDR label set revisions completed for PDS peer review; 2014-08-14, G. Romeo, J. Aiello, F. Seelos (JHU/APL) PDS peer review TER/MTRDR label set liens retired;"
^ENVI_HEADER = "FRT00007C8B_07_IN163J_MTR3.HDR"
^IMAGE = "FRT00007C8B_07_IN163J_MTR3.IMG"
/* DDR Identification */
DATA_SET_ID = "MRO-M-CRISM-5-RDR-MPTARGETED-V1.0"
PRODUCT_ID = "FRT00007C8B_07_IN163J_MTR3" /* cccnnnnnnnn_xx_ooaaas_MTRv */
/* ccc = Class Type */
/* nnnnnnnn = Observation ID (hex) */
/* xx = counter this observation (hex) */
/* ooaaa = obs type, macro number */
/* s = sensor ID (J for Joined) */
/* v = version number */
INSTRUMENT_HOST_NAME = "MARS RECONNAISSANCE ORBITER"
SPACECRAFT_ID = MRO
INSTRUMENT_NAME = "COMPACT RECONNAISSANCE IMAGING SPECTROMETER FOR MARS"
INSTRUMENT_ID = CRISM
TARGET_NAME = MARS
PRODUCT_TYPE = MPTARGETED_RDR
PRODUCT_CREATION_TIME = 2015-07-01T12:14:41
START_TIME = 2007-09-20T04:49:59.538
STOP_TIME = 2007-09-20T04:51:43.272
SPACECRAFT_CLOCK_START_COUNT = "3/0874731019.09533"
SPACECRAFT_CLOCK_STOP_COUNT = "3/0874731122.57652"
ORBIT_NUMBER = 5387
OBSERVATION_TYPE = "FRT"
OBSERVATION_ID = "16#00007C8B#"
MRO:OBSERVATION_NUMBER = 16#07#
MRO:ACTIVITY_ID = "IF163"
MRO:SENSOR_ID = "J"
PRODUCT_VERSION_ID = "3"
PRODUCER_INSTITUTION_NAME = "JOHNS HOPKINS UNIVERSITY APPLIED PHYSICS LABORATORY"
SOFTWARE_NAME = "mtrdr_pipeline"
SOFTWARE_VERSION_ID = "1.0"
SOURCE_PRODUCT_ID = ( "FRT00007C8B_07_DE163L_DDR1", "FRT00007C8B_07_DE163S_DDR1", "FRT00007C8B_07_IF163J_MTR3" )
/* Targeted RDR Observation and Processing Parameters */
SOLAR_DISTANCE = 217657693.989622
SOLAR_LONGITUDE = 316.972952
MRO:PHOTOMETRIC_CORR_FLAG = "ON"
MRO:ATMOSPHERIC_CORR_FLAG = "ON"
MRO:RATIO_SHIFT_CORR_FLAG = "ON"
MRO:EMPIRICAL_GEOM_NORM_FLAG = "ON"
MRO:EMPIRICAL_SMILE_CORR_FLAG = "ON"
MRO:SENSOR_SPACE_TRANSFORM_FLAG = "ON"
/* Map projection information about this RDR is in the */
/* IMAGE_MAP_PROJECTION object below. */
OBJECT = IMAGE_MAP_PROJECTION
  ^DATA_SET_MAP_PROJECTION = "MTR_MAP.CAT"
  MAP_PROJECTION_TYPE = "EQUIRECTANGULAR"
  A_AXIS_RADIUS = 3387.887658233977
  B_AXIS_RADIUS = 3387.887658233977
  C_AXIS_RADIUS = 3387.887658233977
  POSITIVE_LONGITUDE_DIRECTION = EAST
  CENTER_LATITUDE = -40.0000000
  CENTER_LONGITUDE = 0.0000000
  LINE_FIRST_PIXEL = 1
  LINE_LAST_PIXEL = 555
  SAMPLE_FIRST_PIXEL = 1
  SAMPLE_LAST_PIXEL = 695
  MAP_PROJECTION_ROTATION = 0.0000000
  MAP_RESOLUTION = 3284.9885735
  MAP_SCALE = 0.0180000
  MINIMUM_LATITUDE = -41.8753490
  MAXIMUM_LATITUDE = -41.7067030
  WESTERNMOST_LONGITUDE = -97.8698800
  EASTERNMOST_LONGITUDE = -97.5940950
  LINE_PROJECTION_OFFSET = -137005.0444444
  SAMPLE_PROJECTION_OFFSET = 246285.3888889
  COORDINATE_SYSTEM_TYPE = "BODY-FIXED ROTATING"
  COORDINATE_SYSTEM_NAME = "PLANETOCENTRIC"
END_OBJECT = IMAGE_MAP_PROJECTION
/* ENVI header description */
/* The ENVI header is a separate ASCII file that includes basic image */
/* data file characteristics and allows the image data to be loaded */
/* directly into the ENVI image processing software available bands */
/* list. */
OBJECT = ENVI_HEADER
  HEADER_TYPE = "ENVI"
  INTERCHANGE_FORMAT = "ASCII"
  BYTES = 1568
  DESCRIPTION = "This text file can be used by ENVI image processing software to read in the image."
END_OBJECT = ENVI_HEADER
/* This Map-Projected Targeted RDR label describes a multiple-band */
/* image file containing TER/MTRDR data processing information. */
OBJECT = IMAGE
  LINES = 555
  LINE_SAMPLES = 695
  SAMPLE_TYPE = PC_REAL
  SAMPLE_BITS = 32
  DESCRIPTION = "TER_MTRDR_PROCESSING_INFORMATION"
  BANDS = 9
  BAND_STORAGE_TYPE = BAND_SEQUENTIAL
  BAND_NAME = ( "VNIR/IR Spectral Continuity Residual", "VNIR/IR Spatial Gradient Residual", "ATM Correction Spectral Shift Artifact", "VNIR Sample", "VNIR Line", "IR Sample", "IR Line", "VNIR/IR Ground Sampling Offset", "VNIR/IR Mask" )
END_OBJECT = IMAGE
END
