PDS_VERSION_ID = PDS3
RECORD_TYPE = FIXED_LENGTH
RECORD_BYTES = 1424
FILE_RECORDS = 2673
LABEL_REVISION_NOTE = "2012-03-06, H. Taylor, F. Seelos (JHU/APL) Initial TER/MTRDR labels for CRISM Data Users' Workshop; 2014-01-09, G. Romeo, J. Aiello, F. Seelos (JHU/APL) Complete TER/MTRDR label set for preliminary PDS review; 2014-04-08, G. Romeo, J. Aiello, R. Espiritu, F. Seelos (JHU/APL) TER/MTRDR label set revisions completed for PDS peer review; 2014-08-14, G. Romeo, J. Aiello, F. Seelos (JHU/APL) PDS peer review TER/MTRDR label set liens retired;"
^ENVI_HEADER = "HRS00012B53_07_IN175J_MTR3.HDR"
^IMAGE = "HRS00012B53_07_IN175J_MTR3.IMG"
/* DDR Identification */
DATA_SET_ID = "MRO-M-CRISM-5-RDR-MPTARGETED-V1.0"
PRODUCT_ID = "HRS00012B53_07_IN175J_MTR3" /* cccnnnnnnnn_xx_ooaaas_MTRv */
/* ccc = Class Type */
/* nnnnnnnn = Observation ID (hex) */
/* xx = counter this observation (hex) */
/* ooaaa = obs type, macro number */
/* s = sensor ID (J for Joined) */
/* v = version number */
INSTRUMENT_HOST_NAME = "MARS RECONNAISSANCE ORBITER"
SPACECRAFT_ID = MRO
INSTRUMENT_NAME = "COMPACT RECONNAISSANCE IMAGING SPECTROMETER FOR MARS"
INSTRUMENT_ID = CRISM
TARGET_NAME = MARS
PRODUCT_TYPE = MPTARGETED_RDR
PRODUCT_CREATION_TIME = 2020-08-27T12:54:17
START_TIME = 2009-05-16T22:20:26.571
STOP_TIME = 2009-05-16T22:21:30.305
SPACECRAFT_CLOCK_START_COUNT = "5/0926979648.47069"
SPACECRAFT_CLOCK_STOP_COUNT = "5/0926979712.29653"
ORBIT_NUMBER = 13147
OBSERVATION_TYPE = "HRS"
OBSERVATION_ID = "16#00012B53#"
MRO:OBSERVATION_NUMBER = 16#07#
MRO:ACTIVITY_ID = "IF175"
MRO:SENSOR_ID = "J"
PRODUCT_VERSION_ID = "3"
PRODUCER_INSTITUTION_NAME = "JOHNS HOPKINS UNIVERSITY APPLIED PHYSICS LABORATORY"
SOFTWARE_NAME = "mtrdr_pipeline"
SOFTWARE_VERSION_ID = "1.0"
SOURCE_PRODUCT_ID = ( "HRS00012B53_07_DE175L_DDR1", "HRS00012B53_07_DE175S_DDR1", "HRS00012B53_07_IF175J_MTR3" )
/* Targeted RDR Observation and Processing Parameters */
SOLAR_DISTANCE = 207345630.590123
SOLAR_LONGITUDE = 267.186493
MRO:PHOTOMETRIC_CORR_FLAG = "ON"
MRO:ATMOSPHERIC_CORR_FLAG = "ON"
MRO:RATIO_SHIFT_CORR_FLAG = "ON"
MRO:EMPIRICAL_GEOM_NORM_FLAG = "ON"
MRO:EMPIRICAL_SMILE_CORR_FLAG = "ON"
MRO:SENSOR_SPACE_TRANSFORM_FLAG = "ON"
/* Map projection information about this RDR is in the */
/* IMAGE_MAP_PROJECTION object below. */
OBJECT = IMAGE_MAP_PROJECTION
  ^DATA_SET_MAP_PROJECTION = "MTR_MAP.CAT"
  MAP_PROJECTION_TYPE = "EQUIRECTANGULAR"
  A_AXIS_RADIUS = 3393.833260758386
  B_AXIS_RADIUS = 3393.833260758386
  C_AXIS_RADIUS = 3393.833260758386
  POSITIVE_LONGITUDE_DIRECTION = EAST
  CENTER_LATITUDE = 20.0000000
  CENTER_LONGITUDE = 0.0000000
  LINE_FIRST_PIXEL = 1
  LINE_LAST_PIXEL = 297
  SAMPLE_FIRST_PIXEL = 1
  SAMPLE_LAST_PIXEL = 356
  MAP_PROJECTION_ROTATION = 0.0000000
  MAP_RESOLUTION = 1645.3767962
  MAP_SCALE = 0.0360000
  MINIMUM_LATITUDE = 21.3033280
  MAXIMUM_LATITUDE = 21.4832260
  WESTERNMOST_LONGITUDE = 61.3576420
  EASTERNMOST_LONGITUDE = 61.5872450
  LINE_PROJECTION_OFFSET = 35349.0027778
  SAMPLE_PROJECTION_OFFSET = -94867.0222222
  COORDINATE_SYSTEM_TYPE = "BODY-FIXED ROTATING"
  COORDINATE_SYSTEM_NAME = "PLANETOCENTRIC"
END_OBJECT = IMAGE_MAP_PROJECTION
/* ENVI header description */
/* The ENVI header is a separate ASCII file that includes basic image */
/* data file characteristics and allows the image data to be loaded */
/* directly into the ENVI image processing software available bands */
/* list. */
OBJECT = ENVI_HEADER
  HEADER_TYPE = "ENVI"
  INTERCHANGE_FORMAT = "ASCII"
  BYTES = 1479
  DESCRIPTION = "This text file can be used by ENVI image processing software to read in the image."
END_OBJECT = ENVI_HEADER
/* This Map-Projected Targeted RDR label describes a multiple-band */
/* image file containing TER/MTRDR data processing information. */
OBJECT = IMAGE
  LINES = 297
  LINE_SAMPLES = 356
  SAMPLE_TYPE = PC_REAL
  SAMPLE_BITS = 32
  DESCRIPTION = "TER_MTRDR_PROCESSING_INFORMATION"
  BANDS = 9
  BAND_STORAGE_TYPE = BAND_SEQUENTIAL
  BAND_NAME = ( "VNIR/IR Spectral Continuity Residual", "VNIR/IR Spatial Gradient Residual", "ATM Correction Spectral Shift Artifact", "VNIR Sample", "VNIR Line", "IR Sample", "IR Line", "VNIR/IR Ground Sampling Offset", "VNIR/IR Mask" )
END_OBJECT = IMAGE
END
