<?xml version="1.0" encoding="utf-8" standalone="no"?>
<?xml-model href="https://pds.nasa.gov/pds4/pds/v1/PDS4_PDS_1M00.sch" schematypens="http://purl.oclc.org/dsdl/schematron"?>
<?xml-model href="https://pds.nasa.gov/pds4/cart/v1/PDS4_CART_1M00_1970.sch" schematypens="http://purl.oclc.org/dsdl/schematron"?>
<?xml-model href="https://pds.nasa.gov/pds4/disp/v1/PDS4_DISP_1M00_1510.sch" schematypens="http://purl.oclc.org/dsdl/schematron"?>
<?xml-model href="https://pds.nasa.gov/pds4/proc/v1/PDS4_PROC_1M00_1300.sch" schematypens="http://purl.oclc.org/dsdl/schematron"?>
<?xml-model href="https://pds.nasa.gov/pds4/geom/v1/PDS4_GEOM_1M00_1970.sch" schematypens="http://purl.oclc.org/dsdl/schematron"?>
<?xml-model href="https://pds.nasa.gov/pds4/mission/mro/v1/PDS4_MRO_1M00_1320.sch" schematypens="http://purl.oclc.org/dsdl/schematron"?>
<Product_Observational xmlns="http://pds.nasa.gov/pds4/pds/v1" 
    xmlns:cart="http://pds.nasa.gov/pds4/cart/v1" 
    xmlns:disp="http://pds.nasa.gov/pds4/disp/v1" 
    xmlns:geom="http://pds.nasa.gov/pds4/geom/v1" 
    xmlns:img="http://pds.nasa.gov/pds4/img/v1" 
    xmlns:mro="http://pds.nasa.gov/pds4/mission/mro/v1" 
    xmlns:proc="http://pds.nasa.gov/pds4/proc/v1" 
    xmlns:xsi="http://www.w3.org/2001/XMLSchema-instance" 
    xsi:schemaLocation="http://pds.nasa.gov/pds4/pds/v1       https://pds.nasa.gov/pds4/pds/v1/PDS4_PDS_1M00.xsd      http://pds.nasa.gov/pds4/cart/v1       https://pds.nasa.gov/pds4/cart/v1/PDS4_CART_1M00_1970.xsd      http://pds.nasa.gov/pds4/disp/v1       https://pds.nasa.gov/pds4/disp/v1/PDS4_DISP_1M00_1510.xsd      http://pds.nasa.gov/pds4/proc/v1       https://pds.nasa.gov/pds4/proc/v1/PDS4_PROC_1M00_1300.xsd     http://pds.nasa.gov/pds4/geom/v1       https://pds.nasa.gov/pds4/geom/v1/PDS4_GEOM_1M00_1970.xsd     http://pds.nasa.gov/pds4/mission/mro/v1    https://pds.nasa.gov/pds4/mission/mro/v1/PDS4_MRO_1M00_1320.xsd     ">
  <Identification_Area>
    <logical_identifier>urn:nasa:pds:mro_crism_mtrdr:data_mtrdr:frt00012faf_07_de163l_mtr1</logical_identifier>
    <version_id>1.0</version_id>
    <title>frt00012faf_07_de163l_mtr1 MTRDR DE</title>
    <information_model_version>1.22.0.0</information_model_version>
    <product_class>Product_Observational</product_class>
    <Alias_List>
      <Alias>
        <alternate_id>FRT00012FAF_07_DE163L_MTR1</alternate_id>
        <comment>PDS3 PRODUCT_ID</comment>
      </Alias>
    </Alias_List>
    <Modification_History>
      <Modification_Detail>
        <modification_date>2024-01-01</modification_date>
        <version_id>1.0</version_id>
        <description>PDS4 conversion.</description>
      </Modification_Detail>
    </Modification_History>
  </Identification_Area>
  <Observation_Area>
    <Time_Coordinates>
      <start_date_time>2009-06-01T06:13:52.115Z</start_date_time>
      <stop_date_time>2009-06-01T06:15:35.849Z</stop_date_time>
      <solar_longitude unit="deg">276.805477</solar_longitude>
    </Time_Coordinates>
    <Investigation_Area>
      <name>MARS RECONNAISSANCE ORBITER</name>
      <type>Mission</type>
      <Internal_Reference>
        <lid_reference>urn:nasa:pds:context:investigation:mission.mars_reconnaissance_orbiter</lid_reference>
        <reference_type>data_to_investigation</reference_type>
      </Internal_Reference>
    </Investigation_Area>
    <Observing_System>
      <Observing_System_Component>
        <name>MARS RECONNAISSANCE ORBITER</name>
        <type>Host</type>
        <Internal_Reference>
          <lid_reference>urn:nasa:pds:context:instrument_host:spacecraft.mro</lid_reference>
          <reference_type>is_instrument_host</reference_type>
        </Internal_Reference>
      </Observing_System_Component>
      <Observing_System_Component>
        <name>COMPACT RECONNAISSANCE IMAGING SPECTROMETER FOR MARS</name>
        <type>Instrument</type>
        <Internal_Reference>
          <lid_reference>urn:nasa:pds:context:instrument:crism.mro</lid_reference>
          <reference_type>is_instrument</reference_type>
        </Internal_Reference>
      </Observing_System_Component>
    </Observing_System>
    <Target_Identification>
      <name>Mars</name>
      <type>Planet</type>
      <Internal_Reference>
        <lid_reference>urn:nasa:pds:context:target:planet.mars</lid_reference>
        <reference_type>data_to_target</reference_type>
      </Internal_Reference>
    </Target_Identification>
    <Mission_Area>
      <mro:MRO_Parameters>
        <mro:product_type>MTRDR</mro:product_type>
        <mro:product_version_id>1</mro:product_version_id>
        <mro:orbit_number>13344</mro:orbit_number>
        <mro:spacecraft_clock_start_count>5/928304054:19233</mro:spacecraft_clock_start_count>
        <mro:spacecraft_clock_stop_count>5/928304158:1817</mro:spacecraft_clock_stop_count>
        <mro:producer_institution_name>Johns Hopkins University Applied Physics Laboratory</mro:producer_institution_name>
        <mro:CRISM_Parameters>
          <mro:observation_type>FRT</mro:observation_type>
          <mro:observation_id>16#00012FAF#</mro:observation_id>
          <mro:observation_number>16#07#</mro:observation_number>
          <mro:activity_id>DE163</mro:activity_id>
          <mro:sensor_id>L</mro:sensor_id>
        </mro:CRISM_Parameters>
      </mro:MRO_Parameters>
    </Mission_Area>
    <Discipline_Area>
      <disp:Display_Settings>
        <Local_Internal_Reference>
          <local_identifier_reference>INA_at_areoid_image</local_identifier_reference>
          <local_identifier_reference>EMA_at_areoid_image</local_identifier_reference>
          <local_identifier_reference>Phase_angle_image</local_identifier_reference>
          <local_identifier_reference>Latitude_image</local_identifier_reference>
          <local_identifier_reference>Longitude_image</local_identifier_reference>
          <local_identifier_reference>INA_at_surface_from_MOLA_image</local_identifier_reference>
          <local_identifier_reference>EMA_at_surface_from_MOLA_image</local_identifier_reference>
          <local_identifier_reference>Slope_magnitude_from_MOLA_image</local_identifier_reference>
          <local_identifier_reference>MOLA_slope_azimuth_image</local_identifier_reference>
          <local_identifier_reference>Elevation_image</local_identifier_reference>
          <local_identifier_reference>Thermal_inertia_image</local_identifier_reference>
          <local_identifier_reference>Bolometic_albedo_image</local_identifier_reference>
          <local_identifier_reference>Local_solar_time_image</local_identifier_reference>
          <local_identifier_reference>Spare_image</local_identifier_reference>
          <local_reference_type>display_settings_to_array</local_reference_type>
        </Local_Internal_Reference>
        <disp:Display_Direction>
          <disp:horizontal_display_axis>Sample</disp:horizontal_display_axis>
          <disp:horizontal_display_direction>Left to Right</disp:horizontal_display_direction>
          <disp:vertical_display_axis>Line</disp:vertical_display_axis>
          <disp:vertical_display_direction>Top to Bottom</disp:vertical_display_direction>
        </disp:Display_Direction>
      </disp:Display_Settings>
      <geom:Geometry>
        <geom:Geometry_Orbiter>
          <geom:geometry_start_time_utc>2009-06-01T06:13:52.115Z</geom:geometry_start_time_utc>
          <geom:geometry_stop_time_utc>2009-06-01T06:15:35.849Z</geom:geometry_stop_time_utc>
          <geom:Orbiter_Identification>
            <geom:Geometry_Target_Identification>
              <geom:name>Mars</geom:name>
            </geom:Geometry_Target_Identification>
          </geom:Orbiter_Identification>
          <geom:Distances>
            <geom:Distances_Specific>
              <geom:target_heliocentric_distance unit="km">208416834.167090</geom:target_heliocentric_distance>
              <geom:spacecraft_target_center_distance unit="km">3627.521992</geom:spacecraft_target_center_distance>
            </geom:Distances_Specific>
          </geom:Distances>
          <geom:Surface_Geometry>
            <geom:Surface_Geometry_Min_Max>
              <geom:minimum_latitude unit="deg">-80.8146280</geom:minimum_latitude>
              <geom:maximum_latitude unit="deg">-80.5920210</geom:maximum_latitude>
              <geom:minimum_longitude unit="deg">111.30051</geom:minimum_longitude>
              <geom:maximum_longitude unit="deg">112.85399</geom:maximum_longitude>
            </geom:Surface_Geometry_Min_Max>
          </geom:Surface_Geometry>
        </geom:Geometry_Orbiter>
      </geom:Geometry>
      <cart:Cartography>
        <Local_Internal_Reference>
          <local_identifier_reference>INA_at_areoid_image</local_identifier_reference>
          <local_identifier_reference>EMA_at_areoid_image</local_identifier_reference>
          <local_identifier_reference>Phase_angle_image</local_identifier_reference>
          <local_identifier_reference>Latitude_image</local_identifier_reference>
          <local_identifier_reference>Longitude_image</local_identifier_reference>
          <local_identifier_reference>INA_at_surface_from_MOLA_image</local_identifier_reference>
          <local_identifier_reference>EMA_at_surface_from_MOLA_image</local_identifier_reference>
          <local_identifier_reference>Slope_magnitude_from_MOLA_image</local_identifier_reference>
          <local_identifier_reference>MOLA_slope_azimuth_image</local_identifier_reference>
          <local_identifier_reference>Elevation_image</local_identifier_reference>
          <local_identifier_reference>Thermal_inertia_image</local_identifier_reference>
          <local_identifier_reference>Bolometic_albedo_image</local_identifier_reference>
          <local_identifier_reference>Local_solar_time_image</local_identifier_reference>
          <local_identifier_reference>Spare_image</local_identifier_reference>
          <local_reference_type>cartography_parameters_to_image_object</local_reference_type>
        </Local_Internal_Reference>
        <cart:Spatial_Domain>
          <cart:Bounding_Coordinates>
            <cart:west_bounding_coordinate unit="deg">111.30051</cart:west_bounding_coordinate>
            <cart:east_bounding_coordinate unit="deg">112.85399</cart:east_bounding_coordinate>
            <cart:north_bounding_coordinate unit="deg">-80.5920210</cart:north_bounding_coordinate>
            <cart:south_bounding_coordinate unit="deg">-80.8146280</cart:south_bounding_coordinate>
          </cart:Bounding_Coordinates>
        </cart:Spatial_Domain>
        <cart:Spatial_Reference_Information>
          <cart:Horizontal_Coordinate_System_Definition>
            <cart:Planar>
              <cart:Map_Projection>
                <cart:map_projection_name>Polar Stereographic</cart:map_projection_name>
                <cart:Polar_Stereographic>
                  <cart:longitude_of_central_meridian unit="deg">0</cart:longitude_of_central_meridian>
                  <cart:latitude_of_projection_origin unit="deg">-90.0000000</cart:latitude_of_projection_origin>
                  <cart:scale_factor_at_projection_origin>1</cart:scale_factor_at_projection_origin>
                </cart:Polar_Stereographic>
              </cart:Map_Projection>
              <cart:Planar_Coordinate_Information>
                <cart:planar_coordinate_encoding_method>Coordinate Pair</cart:planar_coordinate_encoding_method>
                <cart:Coordinate_Representation>
                  <cart:pixel_resolution_x unit="m/pixel">18.0</cart:pixel_resolution_x>
                  <cart:pixel_resolution_y unit="m/pixel">18.0</cart:pixel_resolution_y>
                  <cart:pixel_scale_x unit="pixel/deg">3293.0387513</cart:pixel_scale_x>
                  <cart:pixel_scale_y unit="pixel/deg">3293.0387513</cart:pixel_scale_y>
                </cart:Coordinate_Representation>
              </cart:Planar_Coordinate_Information>
              <cart:Geo_Transformation>
                <cart:upperleft_corner_x unit="m">510016.3300008</cart:upperleft_corner_x>
                <cart:upperleft_corner_y unit="m">-202485.20999940002</cart:upperleft_corner_y>
              </cart:Geo_Transformation>
            </cart:Planar>
            <cart:Geodetic_Model>
              <cart:latitude_type>Planetocentric</cart:latitude_type>
              <cart:a_axis_radius unit="m">3396190.0</cart:a_axis_radius>
              <cart:b_axis_radius unit="m">3396190.0</cart:b_axis_radius>
              <cart:c_axis_radius unit="m">3376200.0</cart:c_axis_radius>
              <cart:longitude_direction>Positive East</cart:longitude_direction>
            </cart:Geodetic_Model>
          </cart:Horizontal_Coordinate_System_Definition>
        </cart:Spatial_Reference_Information>
      </cart:Cartography>
      <proc:Processing_Information>
        <Local_Internal_Reference>
          <local_identifier_reference>INA_at_areoid_image</local_identifier_reference>
          <local_identifier_reference>EMA_at_areoid_image</local_identifier_reference>
          <local_identifier_reference>Phase_angle_image</local_identifier_reference>
          <local_identifier_reference>Latitude_image</local_identifier_reference>
          <local_identifier_reference>Longitude_image</local_identifier_reference>
          <local_identifier_reference>INA_at_surface_from_MOLA_image</local_identifier_reference>
          <local_identifier_reference>EMA_at_surface_from_MOLA_image</local_identifier_reference>
          <local_identifier_reference>Slope_magnitude_from_MOLA_image</local_identifier_reference>
          <local_identifier_reference>MOLA_slope_azimuth_image</local_identifier_reference>
          <local_identifier_reference>Elevation_image</local_identifier_reference>
          <local_identifier_reference>Thermal_inertia_image</local_identifier_reference>
          <local_identifier_reference>Bolometic_albedo_image</local_identifier_reference>
          <local_identifier_reference>Local_solar_time_image</local_identifier_reference>
          <local_identifier_reference>Spare_image</local_identifier_reference>
          <local_reference_type>processing_information_to_data_object</local_reference_type>
        </Local_Internal_Reference>
        <proc:Process>
          <proc:Software>
            <proc:Software_Program>
              <proc:name>mtrdr_pipeline</proc:name>
              <proc:program_version>1.0</proc:program_version>
              <proc:program_stop_date_time>2020-08-27T05:33:47Z</proc:program_stop_date_time>
            </proc:Software_Program>
          </proc:Software>
        </proc:Process>
      </proc:Processing_Information>
    </Discipline_Area>
  </Observation_Area>
  <Reference_List>
    <Internal_Reference>
      <lid_reference>urn:nasa:pds:mro_crism_mtrdr:document:crism_dpsis</lid_reference>
      <reference_type>data_to_document</reference_type>
    </Internal_Reference>
    <Source_Product_Internal>
      <lidvid_reference>urn:nasa:pds:mro_crism_ddr:data_ddr:frt00012faf_07_de163l_ddr1::1.0</lidvid_reference>
      <reference_type>data_to_derived_source_product</reference_type>
      <comment>CRISM DDR product used as a source to calculate this one.</comment>
    </Source_Product_Internal>
  </Reference_List>
  <File_Area_Observational>
    <File>
      <file_name>frt00012faf_07_de163l_mtr1.img</file_name>
      <creation_date_time>2020-08-27T05:33:47Z</creation_date_time>
      <comment>
                This map-projected DDR label describes one data file:
                A multiple-band backplane image file with wavelength-independent,
                spatial pixel-dependent geometric and timing information.
                See the CRISM Data Products SIS for more detailed description.
            </comment>
    </File>
    <Array_2D_Image>
      <name>INA at areoid</name>
      <local_identifier>INA_at_areoid_image</local_identifier>
      <offset unit="byte">0</offset>
      <axes>2</axes>
      <axis_index_order>Last Index Fastest</axis_index_order>
      <description>
                Map projected "INA at areoid" derived layer from the DDR product.
            </description>
      <Element_Array>
        <data_type>IEEE754LSBSingle</data_type>
        <unit>deg</unit>
      </Element_Array>
      <Axis_Array>
        <axis_name>Line</axis_name>
        <elements>693</elements>
        <sequence_number>1</sequence_number>
      </Axis_Array>
      <Axis_Array>
        <axis_name>Sample</axis_name>
        <elements>521</elements>
        <sequence_number>2</sequence_number>
      </Axis_Array>
    </Array_2D_Image>
    <Array_2D_Image>
      <name>EMA at areoid</name>
      <local_identifier>EMA_at_areoid_image</local_identifier>
      <offset unit="byte">1444212</offset>
      <axes>2</axes>
      <axis_index_order>Last Index Fastest</axis_index_order>
      <description>
                Map projected "EMA at areoid" derived layer from the DDR product.
            </description>
      <Element_Array>
        <data_type>IEEE754LSBSingle</data_type>
        <unit>deg</unit>
      </Element_Array>
      <Axis_Array>
        <axis_name>Line</axis_name>
        <elements>693</elements>
        <sequence_number>1</sequence_number>
      </Axis_Array>
      <Axis_Array>
        <axis_name>Sample</axis_name>
        <elements>521</elements>
        <sequence_number>2</sequence_number>
      </Axis_Array>
    </Array_2D_Image>
    <Array_2D_Image>
      <name>Phase angle</name>
      <local_identifier>Phase_angle_image</local_identifier>
      <offset unit="byte">2888424</offset>
      <axes>2</axes>
      <axis_index_order>Last Index Fastest</axis_index_order>
      <description>
                Map projected "Phase angle" derived layer from the DDR product.
            </description>
      <Element_Array>
        <data_type>IEEE754LSBSingle</data_type>
        <unit>deg</unit>
      </Element_Array>
      <Axis_Array>
        <axis_name>Line</axis_name>
        <elements>693</elements>
        <sequence_number>1</sequence_number>
      </Axis_Array>
      <Axis_Array>
        <axis_name>Sample</axis_name>
        <elements>521</elements>
        <sequence_number>2</sequence_number>
      </Axis_Array>
    </Array_2D_Image>
    <Array_2D_Image>
      <name>Latitude</name>
      <local_identifier>Latitude_image</local_identifier>
      <offset unit="byte">4332636</offset>
      <axes>2</axes>
      <axis_index_order>Last Index Fastest</axis_index_order>
      <description>
                Map projected "Latitude" derived layer from the DDR product.
            </description>
      <Element_Array>
        <data_type>IEEE754LSBSingle</data_type>
        <unit>areocentric, deg N</unit>
      </Element_Array>
      <Axis_Array>
        <axis_name>Line</axis_name>
        <elements>693</elements>
        <sequence_number>1</sequence_number>
      </Axis_Array>
      <Axis_Array>
        <axis_name>Sample</axis_name>
        <elements>521</elements>
        <sequence_number>2</sequence_number>
      </Axis_Array>
    </Array_2D_Image>
    <Array_2D_Image>
      <name>Longitude</name>
      <local_identifier>Longitude_image</local_identifier>
      <offset unit="byte">5776848</offset>
      <axes>2</axes>
      <axis_index_order>Last Index Fastest</axis_index_order>
      <description>
                Map projected "Longitude" derived layer from the DDR product.
            </description>
      <Element_Array>
        <data_type>IEEE754LSBSingle</data_type>
        <unit>areocentric, deg E</unit>
      </Element_Array>
      <Axis_Array>
        <axis_name>Line</axis_name>
        <elements>693</elements>
        <sequence_number>1</sequence_number>
      </Axis_Array>
      <Axis_Array>
        <axis_name>Sample</axis_name>
        <elements>521</elements>
        <sequence_number>2</sequence_number>
      </Axis_Array>
    </Array_2D_Image>
    <Array_2D_Image>
      <name>INA at surface from MOLA</name>
      <local_identifier>INA_at_surface_from_MOLA_image</local_identifier>
      <offset unit="byte">7221060</offset>
      <axes>2</axes>
      <axis_index_order>Last Index Fastest</axis_index_order>
      <description>
                Map projected "INA at surface from MOLA" derived layer from the DDR product.
            </description>
      <Element_Array>
        <data_type>IEEE754LSBSingle</data_type>
        <unit>deg</unit>
      </Element_Array>
      <Axis_Array>
        <axis_name>Line</axis_name>
        <elements>693</elements>
        <sequence_number>1</sequence_number>
      </Axis_Array>
      <Axis_Array>
        <axis_name>Sample</axis_name>
        <elements>521</elements>
        <sequence_number>2</sequence_number>
      </Axis_Array>
    </Array_2D_Image>
    <Array_2D_Image>
      <name>EMA at surface from MOLA</name>
      <local_identifier>EMA_at_surface_from_MOLA_image</local_identifier>
      <offset unit="byte">8665272</offset>
      <axes>2</axes>
      <axis_index_order>Last Index Fastest</axis_index_order>
      <description>
                Map projected "EMA at surface from MOLA" derived layer from the DDR product.
            </description>
      <Element_Array>
        <data_type>IEEE754LSBSingle</data_type>
        <unit>deg</unit>
      </Element_Array>
      <Axis_Array>
        <axis_name>Line</axis_name>
        <elements>693</elements>
        <sequence_number>1</sequence_number>
      </Axis_Array>
      <Axis_Array>
        <axis_name>Sample</axis_name>
        <elements>521</elements>
        <sequence_number>2</sequence_number>
      </Axis_Array>
    </Array_2D_Image>
    <Array_2D_Image>
      <name>Slope magnitude from MOLA</name>
      <local_identifier>Slope_magnitude_from_MOLA_image</local_identifier>
      <offset unit="byte">10109484</offset>
      <axes>2</axes>
      <axis_index_order>Last Index Fastest</axis_index_order>
      <description>
                Map projected "Slope magnitude from MOLA" derived layer from the DDR product.
            </description>
      <Element_Array>
        <data_type>IEEE754LSBSingle</data_type>
        <unit>deg</unit>
      </Element_Array>
      <Axis_Array>
        <axis_name>Line</axis_name>
        <elements>693</elements>
        <sequence_number>1</sequence_number>
      </Axis_Array>
      <Axis_Array>
        <axis_name>Sample</axis_name>
        <elements>521</elements>
        <sequence_number>2</sequence_number>
      </Axis_Array>
    </Array_2D_Image>
    <Array_2D_Image>
      <name>MOLA slope azimuth</name>
      <local_identifier>MOLA_slope_azimuth_image</local_identifier>
      <offset unit="byte">11553696</offset>
      <axes>2</axes>
      <axis_index_order>Last Index Fastest</axis_index_order>
      <description>
                Map projected "MOLA slope azimuth" derived layer from the DDR product.
            </description>
      <Element_Array>
        <data_type>IEEE754LSBSingle</data_type>
        <unit>deg clkwise from N</unit>
      </Element_Array>
      <Axis_Array>
        <axis_name>Line</axis_name>
        <elements>693</elements>
        <sequence_number>1</sequence_number>
      </Axis_Array>
      <Axis_Array>
        <axis_name>Sample</axis_name>
        <elements>521</elements>
        <sequence_number>2</sequence_number>
      </Axis_Array>
    </Array_2D_Image>
    <Array_2D_Image>
      <name>Elevation</name>
      <local_identifier>Elevation_image</local_identifier>
      <offset unit="byte">12997908</offset>
      <axes>2</axes>
      <axis_index_order>Last Index Fastest</axis_index_order>
      <description>
                Map projected "Elevation" derived layer from the DDR product.
            </description>
      <Element_Array>
        <data_type>IEEE754LSBSingle</data_type>
        <unit>meters relative to MOLA</unit>
      </Element_Array>
      <Axis_Array>
        <axis_name>Line</axis_name>
        <elements>693</elements>
        <sequence_number>1</sequence_number>
      </Axis_Array>
      <Axis_Array>
        <axis_name>Sample</axis_name>
