PDS_VERSION_ID = PDS3
RECORD_TYPE = FIXED_LENGTH
RECORD_BYTES = 3252
FILE_RECORDS = 45540
LABEL_REVISION_NOTE = "2012-03-06, H. Taylor, F. Seelos (JHU/APL) Initial TER/MTRDR labels for CRISM Data Users' Workshop; 2014-01-09, G. Romeo, J. Aiello, F. Seelos (JHU/APL) Complete TER/MTRDR label set for preliminary PDS review; 2014-04-08, G. Romeo, J. Aiello, R. Espiritu, F. Seelos (JHU/APL) TER/MTRDR label set revisions completed for PDS peer review; 2014-08-14, G. Romeo, J. Aiello, F. Seelos (JHU/APL) PDS peer review TER/MTRDR label set liens retired;"
^ENVI_HEADER = "FRT00013D4E_07_SU166J_MTR3.HDR"
^IMAGE = "FRT00013D4E_07_SU166J_MTR3.IMG"
/* DDR Identification */
DATA_SET_ID = "MRO-M-CRISM-5-RDR-MPTARGETED-V1.0"
PRODUCT_ID = "FRT00013D4E_07_SU166J_MTR3" /* cccnnnnnnnn_xx_ooaaas_MTRv */
/* ccc = Class Type */
/* nnnnnnnn = Observation ID (hex) */
/* xx = counter this observation (hex) */
/* ooaaa = obs type, macro number */
/* s = sensor ID (J for Joined) */
/* v = version number */
INSTRUMENT_HOST_NAME = "MARS RECONNAISSANCE ORBITER"
SPACECRAFT_ID = MRO
INSTRUMENT_NAME = "COMPACT RECONNAISSANCE IMAGING SPECTROMETER FOR MARS"
INSTRUMENT_ID = CRISM
TARGET_NAME = MARS
PRODUCT_TYPE = MPTARGETED_RDR
PRODUCT_CREATION_TIME = 2020-08-27T07:49:57
START_TIME = 2009-07-19T19:49:27.856
STOP_TIME = 2009-07-19T19:51:35.590
SPACECRAFT_CLOCK_START_COUNT = "6/0932500190.18656"
SPACECRAFT_CLOCK_STOP_COUNT = "6/0932500318.01234"
ORBIT_NUMBER = 13967
OBSERVATION_TYPE = "FRT"
OBSERVATION_ID = "16#00013D4E#"
MRO:OBSERVATION_NUMBER = 16#07#
MRO:ACTIVITY_ID = "IF166"
MRO:SENSOR_ID = "J"
PRODUCT_VERSION_ID = "3"
PRODUCER_INSTITUTION_NAME = "JOHNS HOPKINS UNIVERSITY APPLIED PHYSICS LABORATORY"
SOFTWARE_NAME = "mtrdr_pipeline"
SOFTWARE_VERSION_ID = "1.0"
SOURCE_PRODUCT_ID = ( "FRT00013D4E_07_IF166J_MTR3" )
/* Targeted RDR Observation and Processing Parameters */
SOLAR_DISTANCE = 214544667.341218
SOLAR_LONGITUDE = 306.334664
MRO:PHOTOMETRIC_CORR_FLAG = "ON"
MRO:ATMOSPHERIC_CORR_FLAG = "ON"
MRO:RATIO_SHIFT_CORR_FLAG = "ON"
MRO:EMPIRICAL_GEOM_NORM_FLAG = "ON"
MRO:EMPIRICAL_SMILE_CORR_FLAG = "ON"
MRO:SENSOR_SPACE_TRANSFORM_FLAG = "ON"
/* Map projection information about this RDR is in the */
/* IMAGE_MAP_PROJECTION object below. */
OBJECT = IMAGE_MAP_PROJECTION
  ^DATA_SET_MAP_PROJECTION = "MTR_MAP.CAT"
  MAP_PROJECTION_TYPE = "EQUIRECTANGULAR"
  A_AXIS_RADIUS = 3394.839813316312
  B_AXIS_RADIUS = 3394.839813316312
  C_AXIS_RADIUS = 3394.839813316312
  POSITIVE_LONGITUDE_DIRECTION = EAST
  CENTER_LATITUDE = 15.0000000
  CENTER_LONGITUDE = 0.0000000
  LINE_FIRST_PIXEL = 1
  LINE_LAST_PIXEL = 759
  SAMPLE_FIRST_PIXEL = 1
  SAMPLE_LAST_PIXEL = 813
  MAP_PROJECTION_ROTATION = 0.0000000
  MAP_RESOLUTION = 3291.7295733
  MAP_SCALE = 0.0180000
  MINIMUM_LATITUDE = 16.7925940
  MAXIMUM_LATITUDE = 17.0228680
  WESTERNMOST_LONGITUDE = -4.9177352
  EASTERNMOST_LONGITUDE = -4.6623545
  LINE_PROJECTION_OFFSET = 56035.6777778
  SAMPLE_PROJECTION_OFFSET = 15637.2666667
  COORDINATE_SYSTEM_TYPE = "BODY-FIXED ROTATING"
  COORDINATE_SYSTEM_NAME = "PLANETOCENTRIC"
END_OBJECT = IMAGE_MAP_PROJECTION
/* ENVI header description */
/* The ENVI header is a separate ASCII file that includes basic image */
/* data file characteristics and allows the image data to be loaded */
/* directly into the ENVI image processing software available bands */
/* list. */
OBJECT = ENVI_HEADER
  HEADER_TYPE = "ENVI"
  INTERCHANGE_FORMAT = "ASCII"
  BYTES = 1802
  DESCRIPTION = "This text file can be used by ENVI image processing software to read in the image."
END_OBJECT = ENVI_HEADER
/* This Map-Projected Targeted RDR label describes a multiple-band */
/* image file containing spectral summary parameters calculated */
/* from calibrated and corrected spectral data. */
OBJECT = IMAGE
  LINES = 759
  LINE_SAMPLES = 813
  SAMPLE_TYPE = PC_REAL
  SAMPLE_BITS = 32
  DESCRIPTION = "SPECTRAL_SUMMARY_PARAMETERS"
  BANDS = 60
  BAND_STORAGE_TYPE = BAND_SEQUENTIAL
  BAND_NAME = ( "R770", "RBR", "BD530_2", "SH600_2", "SH770", "BD640_2", "BD860_2", "BD920_2", "RPEAK1", "BDI1000VIS", "R440", "IRR1", "BDI1000IR", "OLINDEX3", "R1330", "BD1300", "LCPINDEX2", "HCPINDEX2", "VAR", "ISLOPE1", "BD1400", "BD1435", "BD1500_2", "ICER1_2", "BD1750_2", "BD1900_2", "BD1900R2", "BDI2000", "BD2100_2", "BD2165", "BD2190", "MIN2200", "BD2210_2", "D2200", "BD2230", "BD2250", "MIN2250", "BD2265", "BD2290", "D2300", "BD2355", "SINDEX2", "ICER2_2", "MIN2295_2480", "MIN2345_2537", "BD2500_2", "BD3000", "BD3100", "BD3200", "BD3400_2", "CINDEX2", "BD2600", "IRR2", "IRR3", "R530", "R600", "R1080", "R1506", "R2529", "R3920" )
END_OBJECT = IMAGE
END
