PDS_VERSION_ID = PDS3
RECORD_TYPE = FIXED_LENGTH
RECORD_BYTES = 3392
FILE_RECORDS = 7299
LABEL_REVISION_NOTE = "2012-03-06, H. Taylor, F. Seelos (JHU/APL) Initial TER/MTRDR labels for CRISM Data Users' Workshop; 2014-01-09, G. Romeo, J. Aiello, F. Seelos (JHU/APL) Complete TER/MTRDR label set for preliminary PDS review; 2014-04-08, G. Romeo, J. Aiello, R. Espiritu, F. Seelos (JHU/APL) TER/MTRDR label set revisions completed for PDS peer review; 2014-08-14, G. Romeo, J. Aiello, F. Seelos (JHU/APL) PDS peer review TER/MTRDR label set liens retired;"
^ENVI_HEADER = "FRT00017E53_07_IN166J_MTR3.HDR"
^IMAGE = "FRT00017E53_07_IN166J_MTR3.IMG"
/* DDR Identification */
DATA_SET_ID = "MRO-M-CRISM-5-RDR-MPTARGETED-V1.0"
PRODUCT_ID = "FRT00017E53_07_IN166J_MTR3" /* cccnnnnnnnn_xx_ooaaas_MTRv */
/* ccc = Class Type */
/* nnnnnnnn = Observation ID (hex) */
/* xx = counter this observation (hex) */
/* ooaaa = obs type, macro number */
/* s = sensor ID (J for Joined) */
/* v = version number */
INSTRUMENT_HOST_NAME = "MARS RECONNAISSANCE ORBITER"
SPACECRAFT_ID = MRO
INSTRUMENT_NAME = "COMPACT RECONNAISSANCE IMAGING SPECTROMETER FOR MARS"
INSTRUMENT_ID = CRISM
TARGET_NAME = MARS
PRODUCT_TYPE = MPTARGETED_RDR
PRODUCT_CREATION_TIME = 2021-05-21T07:03:03
START_TIME = 2010-04-13T00:18:54.874
STOP_TIME = 2010-04-13T00:21:02.608
SPACECRAFT_CLOCK_START_COUNT = "9/0955585165.53714"
SPACECRAFT_CLOCK_STOP_COUNT = "9/0955585293.36293"
ORBIT_NUMBER = 17396
OBSERVATION_TYPE = "FRT"
OBSERVATION_ID = "16#00017E53#"
MRO:OBSERVATION_NUMBER = 16#07#
MRO:ACTIVITY_ID = "IF166"
MRO:SENSOR_ID = "J"
PRODUCT_VERSION_ID = "3"
PRODUCER_INSTITUTION_NAME = "JOHNS HOPKINS UNIVERSITY APPLIED PHYSICS LABORATORY"
SOFTWARE_NAME = "mtrdr_pipeline"
SOFTWARE_VERSION_ID = "1.0"
SOURCE_PRODUCT_ID = ( "FRT00017E53_07_DE166L_DDR1", "FRT00017E53_07_DE166S_DDR1", "FRT00017E53_07_IF166J_MTR3" )
/* Targeted RDR Observation and Processing Parameters */
SOLAR_DISTANCE = 249094095.170054
SOLAR_LONGITUDE = 76.759634
MRO:PHOTOMETRIC_CORR_FLAG = "ON"
MRO:ATMOSPHERIC_CORR_FLAG = "ON"
MRO:RATIO_SHIFT_CORR_FLAG = "ON"
MRO:EMPIRICAL_GEOM_NORM_FLAG = "ON"
MRO:EMPIRICAL_SMILE_CORR_FLAG = "ON"
MRO:SENSOR_SPACE_TRANSFORM_FLAG = "ON"
/* Map projection information about this RDR is in the */
/* IMAGE_MAP_PROJECTION object below. */
OBJECT = IMAGE_MAP_PROJECTION
  ^DATA_SET_MAP_PROJECTION = "MTR_MAP.CAT"
  MAP_PROJECTION_TYPE = "EQUIRECTANGULAR"
  A_AXIS_RADIUS = 3392.593610530805
  B_AXIS_RADIUS = 3392.593610530805
  C_AXIS_RADIUS = 3392.593610530805
  POSITIVE_LONGITUDE_DIRECTION = EAST
  CENTER_LATITUDE = 25.0000000
  CENTER_LONGITUDE = 0.0000000
  LINE_FIRST_PIXEL = 1
  LINE_LAST_PIXEL = 811
  SAMPLE_FIRST_PIXEL = 1
  SAMPLE_LAST_PIXEL = 848
  MAP_PROJECTION_ROTATION = 0.0000000
  MAP_RESOLUTION = 3289.5515937
  MAP_SCALE = 0.0180000
  MINIMUM_LATITUDE = 27.3773230
  MAXIMUM_LATITUDE = 27.6235570
  WESTERNMOST_LONGITUDE = -20.7694340
  EASTERNMOST_LONGITUDE = -20.4853340
  LINE_PROJECTION_OFFSET = 90870.1166667
  SAMPLE_PROJECTION_OFFSET = 61921.8722222
  COORDINATE_SYSTEM_TYPE = "BODY-FIXED ROTATING"
  COORDINATE_SYSTEM_NAME = "PLANETOCENTRIC"
END_OBJECT = IMAGE_MAP_PROJECTION
/* ENVI header description */
/* The ENVI header is a separate ASCII file that includes basic image */
/* data file characteristics and allows the image data to be loaded */
/* directly into the ENVI image processing software available bands */
/* list. */
OBJECT = ENVI_HEADER
  HEADER_TYPE = "ENVI"
  INTERCHANGE_FORMAT = "ASCII"
  BYTES = 1563
  DESCRIPTION = "This text file can be used by ENVI image processing software to read in the image."
END_OBJECT = ENVI_HEADER
/* This Map-Projected Targeted RDR label describes a multiple-band */
/* image file containing TER/MTRDR data processing information. */
OBJECT = IMAGE
  LINES = 811
  LINE_SAMPLES = 848
  SAMPLE_TYPE = PC_REAL
  SAMPLE_BITS = 32
  DESCRIPTION = "TER_MTRDR_PROCESSING_INFORMATION"
  BANDS = 9
  BAND_STORAGE_TYPE = BAND_SEQUENTIAL
  BAND_NAME = ( "VNIR/IR Spectral Continuity Residual", "VNIR/IR Spatial Gradient Residual", "ATM Correction Spectral Shift Artifact", "VNIR Sample", "VNIR Line", "IR Sample", "IR Line", "VNIR/IR Ground Sampling Offset", "VNIR/IR Mask" )
END_OBJECT = IMAGE
END
