PDS_VERSION_ID = PDS3
RECORD_TYPE = FIXED_LENGTH
RECORD_BYTES = 3036
FILE_RECORDS = 345234
LABEL_REVISION_NOTE = "2012-03-06, H. Taylor, F. Seelos (JHU/APL) Initial TER/MTRDR labels for CRISM Data Users' Workshop; 2014-01-09, G. Romeo, J. Aiello, F. Seelos (JHU/APL) Complete TER/MTRDR label set for preliminary PDS review; 2014-04-08, G. Romeo, J. Aiello, R. Espiritu, F. Seelos (JHU/APL) TER/MTRDR label set revisions completed for PDS peer review; 2014-08-14, G. Romeo, J. Aiello, F. Seelos (JHU/APL) PDS peer review TER/MTRDR label set liens retired;"
^ENVI_HEADER = "FRT0001BBAE_07_IF165J_MTR3.HDR"
^IMAGE = "FRT0001BBAE_07_IF165J_MTR3.IMG"
/* Map-Projected Targeted RDR Identification */
DATA_SET_ID = "MRO-M-CRISM-5-RDR-MPTARGETED-V1.0"
PRODUCT_ID = "FRT0001BBAE_07_IF165J_MTR3" /* cccnnnnnnnn_xx_ooaaas_MTRv */
/* ccc = Class Type */
/* nnnnnnnn = Observation ID, hexadecimal */
/* xx = counter this observation (hex) */
/* ooaaa = Image type, Macro number */
/* s = Sensor ID (J for Joined) */
/* v = Version number */
INSTRUMENT_HOST_NAME = "MARS RECONNAISSANCE ORBITER"
SPACECRAFT_ID = MRO
INSTRUMENT_NAME = "COMPACT RECONNAISSANCE IMAGING SPECTROMETER FOR MARS"
INSTRUMENT_ID = CRISM
TARGET_NAME = MARS
PRODUCT_TYPE = MPTARGETED_RDR
PRODUCT_CREATION_TIME = 2021-06-04T15:01:29
START_TIME = 2010-11-06T06:41:53.740
STOP_TIME = 2010-11-06T06:43:53.474
SPACECRAFT_CLOCK_START_COUNT = "10/0973492945.23477"
SPACECRAFT_CLOCK_STOP_COUNT = "10/0973493065.06054"
ORBIT_NUMBER = 20056
OBSERVATION_TYPE = "FRT"
OBSERVATION_ID = "16#0001BBAE#"
MRO:OBSERVATION_NUMBER = 16#07#
MRO:ACTIVITY_ID = "IF165"
MRO:SENSOR_ID = "J"
/* Detector and FPE temperature refer to IR component of observation */
MRO:DETECTOR_TEMPERATURE = -147.199
MRO:OPTICAL_BENCH_TEMPERATURE = -49.776
MRO:SPECTROMETER_HOUSING_TEMP = -73.994
MRO:SPHERE_TEMPERATURE = -49.992
MRO:FPE_TEMPERATURE = 1.444
PRODUCT_VERSION_ID = "3"
PRODUCER_INSTITUTION_NAME = "JOHNS HOPKINS UNIVERSITY APPLIED PHYSICS LABORATORY"
SOFTWARE_NAME = "mtrdr_pipeline"
SOFTWARE_VERSION_ID = "1.0"
SOURCE_PRODUCT_ID = ( "FRT0001BBAE_07_IF165J_TER3", "FRT0001BBAE_07_DE165L_DDR1" )
/* Targeted RDR Observation and Processing Parameters */
SOLAR_DISTANCE = 220524168.409521
SOLAR_LONGITUDE = 176.394124
MRO:WAVELENGTH_FILE_NAME = "FRT0001BBAE_07_WV165J_MTR3.TAB"
MRO:PHOTOMETRIC_CORR_FLAG = "ON"
MRO:ATMOSPHERIC_CORR_FLAG = "ON"
MRO:RATIO_SHIFT_CORR_FLAG = "ON"
MRO:EMPIRICAL_GEOM_NORM_FLAG = "ON"
MRO:EMPIRICAL_SMILE_CORR_FLAG = "ON"
MRO:SENSOR_SPACE_TRANSFORM_FLAG = "ON"
/* Map projection information about this RDR is in the */
/* IMAGE_MAP_PROJECTION object below. */
OBJECT = IMAGE_MAP_PROJECTION
  ^DATA_SET_MAP_PROJECTION = "MTR_MAP.CAT"
  MAP_PROJECTION_TYPE = "EQUIRECTANGULAR"
  A_AXIS_RADIUS = 3396.036812602430
  B_AXIS_RADIUS = 3396.036812602430
  C_AXIS_RADIUS = 3396.036812602430
  POSITIVE_LONGITUDE_DIRECTION = EAST
  CENTER_LATITUDE = 5.0000000
  CENTER_LONGITUDE = 0.0000000
  LINE_FIRST_PIXEL = 1
  LINE_LAST_PIXEL = 706
  SAMPLE_FIRST_PIXEL = 1
  SAMPLE_LAST_PIXEL = 759
  MAP_PROJECTION_ROTATION = 0.0000000
  MAP_RESOLUTION = 3292.8902166
  MAP_SCALE = 0.0180000
  MINIMUM_LATITUDE = 5.3451125
  MAXIMUM_LATITUDE = 5.5592101
  WESTERNMOST_LONGITUDE = 80.8806610
  EASTERNMOST_LONGITUDE = 81.1117330
  LINE_PROJECTION_OFFSET = 18306.8683333
  SAMPLE_PROJECTION_OFFSET = -265316.6666667
  COORDINATE_SYSTEM_TYPE = "BODY-FIXED ROTATING"
  COORDINATE_SYSTEM_NAME = "PLANETOCENTRIC"
END_OBJECT = IMAGE_MAP_PROJECTION
/* ENVI header description */
/* The ENVI header is a separate ASCII file that includes basic image */
/* data file characteristics and allows the image data to be loaded */
/* directly into the ENVI image processing software available bands */
/* list. */
OBJECT = ENVI_HEADER
  HEADER_TYPE = "ENVI"
  INTERCHANGE_FORMAT = "ASCII"
  BYTES = 14917
  DESCRIPTION = "This text file can be used by ENVI image processing software to read in the image."
END_OBJECT = ENVI_HEADER
/* This Map-Projected Targeted RDR label describes a multiple-band */
/* image file containing calibrated and corrected spectral data */
/* in units of corrected I over F. */
OBJECT = IMAGE
  LINES = 706
  LINE_SAMPLES = 759
  SAMPLE_TYPE = PC_REAL
  SAMPLE_BITS = 32
  UNIT = "CORRECTED_I_OVER_F"
  BANDS = 489
  BAND_STORAGE_TYPE = BAND_SEQUENTIAL
END_OBJECT = IMAGE
END
