PDS_VERSION_ID = PDS3
RECORD_TYPE = FIXED_LENGTH
RECORD_BYTES = 3016
FILE_RECORDS = 9058
LABEL_REVISION_NOTE = "2012-03-06, H. Taylor, F. Seelos (JHU/APL) Initial TER/MTRDR labels for CRISM Data Users' Workshop; 2014-01-09, G. Romeo, J. Aiello, F. Seelos (JHU/APL) Complete TER/MTRDR label set for preliminary PDS review; 2014-04-08, G. Romeo, J. Aiello, R. Espiritu, F. Seelos (JHU/APL) TER/MTRDR label set revisions completed for PDS peer review; 2014-08-14, G. Romeo, J. Aiello, F. Seelos (JHU/APL) PDS peer review TER/MTRDR label set liens retired;"
^ENVI_HEADER = "FRT0001BBDB_07_DE165L_MTR1.HDR"
^IMAGE = "FRT0001BBDB_07_DE165L_MTR1.IMG"
/* DDR Identification */
DATA_SET_ID = "MRO-M-CRISM-5-RDR-MPTARGETED-V1.0"
PRODUCT_ID = "FRT0001BBDB_07_DE165L_MTR1" /* cccnnnnnnnn_xx_ooaaas_MTRv */
/* ccc = Class Type */
/* nnnnnnnn = Observation ID (hex) */
/* xx = counter this observation (hex) */
/* ooaaa = obs type, macro number */
/* s = sensor ID (J for Joined) */
/* v = version number */
INSTRUMENT_HOST_NAME = "MARS RECONNAISSANCE ORBITER"
SPACECRAFT_ID = MRO
INSTRUMENT_NAME = "COMPACT RECONNAISSANCE IMAGING SPECTROMETER FOR MARS"
INSTRUMENT_ID = CRISM
TARGET_NAME = MARS
PRODUCT_TYPE = MAP_PROJECTED_DDR
PRODUCT_CREATION_TIME = 2021-06-04T15:02:28
START_TIME = 2010-11-06T17:53:30.666
STOP_TIME = 2010-11-06T17:55:30.400
SPACECRAFT_CLOCK_START_COUNT = "10/973533242:18719"
SPACECRAFT_CLOCK_STOP_COUNT = "10/973533362:1296"
ORBIT_NUMBER = 20062
OBSERVATION_TYPE = "FRT"
OBSERVATION_ID = "16#0001BBDB#"
MRO:OBSERVATION_NUMBER = 16#07#
MRO:ACTIVITY_ID = "DE165"
MRO:SENSOR_ID = "L"
PRODUCT_VERSION_ID = "1"
PRODUCER_INSTITUTION_NAME = "JOHNS HOPKINS UNIVERSITY APPLIED PHYSICS LABORATORY"
SOFTWARE_NAME = "mtrdr_pipeline"
SOFTWARE_VERSION_ID = "1.0"
SOURCE_PRODUCT_ID = ( "FRT0001BBDB_07_DE165L_DDR1" )
/* DDR Instrument and Observation Parameters */
TARGET_CENTER_DISTANCE = 3660.987755 /* distance to Mars center at first frame */
SOLAR_DISTANCE = 220434320.408155
SOLAR_LONGITUDE = 176.653821
/* Map projection information about this RDR is in the */
/* IMAGE_MAP_PROJECTION object below. */
OBJECT = IMAGE_MAP_PROJECTION
  ^DATA_SET_MAP_PROJECTION = "MTR_MAP.CAT"
  MAP_PROJECTION_TYPE = "EQUIRECTANGULAR"
  A_AXIS_RADIUS = 3396.190000000000
  B_AXIS_RADIUS = 3396.190000000000
  C_AXIS_RADIUS = 3396.190000000000
  POSITIVE_LONGITUDE_DIRECTION = EAST
  CENTER_LATITUDE = 0.0000000
  CENTER_LONGITUDE = 0.0000000
  LINE_FIRST_PIXEL = 1
  LINE_LAST_PIXEL = 647
  SAMPLE_FIRST_PIXEL = 1
  SAMPLE_LAST_PIXEL = 754
  MAP_PROJECTION_ROTATION = 0.0000000
  MAP_RESOLUTION = 3293.0387513
  MAP_SCALE = 0.0180000
  MINIMUM_LATITUDE = 0.3373844
  MAXIMUM_LATITUDE = 0.5335558
  WESTERNMOST_LONGITUDE = -81.7584850
  EASTERNMOST_LONGITUDE = -81.5298200
  LINE_PROJECTION_OFFSET = 1758.0198889
  SAMPLE_PROJECTION_OFFSET = 269234.8555556
  COORDINATE_SYSTEM_TYPE = "BODY-FIXED ROTATING"
  COORDINATE_SYSTEM_NAME = "PLANETOCENTRIC"
END_OBJECT = IMAGE_MAP_PROJECTION
/* ENVI header description */
/* The ENVI header is a separate ASCII file that includes basic image */
/* data file characteristics and allows the image data to be loaded */
/* directly into the ENVI image processing software available bands */
/* list. */
OBJECT = ENVI_HEADER
  HEADER_TYPE = "ENVI"
  INTERCHANGE_FORMAT = "ASCII"
  BYTES = 1730
  DESCRIPTION = "This text file can be used by ENVI image processing software to read in the image."
END_OBJECT = ENVI_HEADER
/* This map-projected DDR label describes one data file: */
/* 1. A multiple-band backplane image file with wavelength-independent, */
/* spatial pixel-dependent geometric and timing information. */
/* See the CRISM Data Products SIS for more detailed description. */
OBJECT = IMAGE
  LINES = 647
  LINE_SAMPLES = 754
  SAMPLE_TYPE = PC_REAL
  SAMPLE_BITS = 32
  BANDS = 14
  BAND_STORAGE_TYPE = BAND_SEQUENTIAL
  BAND_NAME = ("INA at areoid, deg", "EMA at areoid, deg", "Phase angle, deg", "Latitude, areocentric, deg N", "Longitude, areocentric, deg E", "INA at surface from MOLA, deg", "EMA at surface from MOLA, deg", "Slope magnitude from MOLA, deg", "MOLA slope azimuth, deg clkwise from N", "Elevation, meters relative to MOLA", "Thermal inertia, J m^-2 K^-1 s^-0.5", "Bolometic albedo", "Local solar time, hours", "Spare")
END_OBJECT = IMAGE
END
