<?xml version="1.0" encoding="utf-8" standalone="no"?>
<?xml-model href="https://pds.nasa.gov/pds4/pds/v1/PDS4_PDS_1M00.sch" schematypens="http://purl.oclc.org/dsdl/schematron"?>
<?xml-model href="https://pds.nasa.gov/pds4/cart/v1/PDS4_CART_1M00_1970.sch" schematypens="http://purl.oclc.org/dsdl/schematron"?>
<?xml-model href="https://pds.nasa.gov/pds4/disp/v1/PDS4_DISP_1M00_1510.sch" schematypens="http://purl.oclc.org/dsdl/schematron"?>
<?xml-model href="https://pds.nasa.gov/pds4/proc/v1/PDS4_PROC_1M00_1300.sch" schematypens="http://purl.oclc.org/dsdl/schematron"?>
<?xml-model href="https://pds.nasa.gov/pds4/geom/v1/PDS4_GEOM_1M00_1970.sch" schematypens="http://purl.oclc.org/dsdl/schematron"?>
<?xml-model href="https://pds.nasa.gov/pds4/mission/mro/v1/PDS4_MRO_1M00_1320.sch" schematypens="http://purl.oclc.org/dsdl/schematron"?>
<Product_Observational xmlns="http://pds.nasa.gov/pds4/pds/v1" 
    xmlns:cart="http://pds.nasa.gov/pds4/cart/v1" 
    xmlns:disp="http://pds.nasa.gov/pds4/disp/v1" 
    xmlns:geom="http://pds.nasa.gov/pds4/geom/v1" 
    xmlns:img="http://pds.nasa.gov/pds4/img/v1" 
    xmlns:mro="http://pds.nasa.gov/pds4/mission/mro/v1" 
    xmlns:proc="http://pds.nasa.gov/pds4/proc/v1" 
    xmlns:xsi="http://www.w3.org/2001/XMLSchema-instance" 
    xsi:schemaLocation="http://pds.nasa.gov/pds4/pds/v1       https://pds.nasa.gov/pds4/pds/v1/PDS4_PDS_1M00.xsd      http://pds.nasa.gov/pds4/cart/v1       https://pds.nasa.gov/pds4/cart/v1/PDS4_CART_1M00_1970.xsd      http://pds.nasa.gov/pds4/disp/v1       https://pds.nasa.gov/pds4/disp/v1/PDS4_DISP_1M00_1510.xsd      http://pds.nasa.gov/pds4/proc/v1       https://pds.nasa.gov/pds4/proc/v1/PDS4_PROC_1M00_1300.xsd     http://pds.nasa.gov/pds4/geom/v1       https://pds.nasa.gov/pds4/geom/v1/PDS4_GEOM_1M00_1970.xsd     http://pds.nasa.gov/pds4/mission/mro/v1    https://pds.nasa.gov/pds4/mission/mro/v1/PDS4_MRO_1M00_1320.xsd     ">
  <Identification_Area>
    <logical_identifier>urn:nasa:pds:mro_crism_mtrdr:data_mtrdr:frt0001e2f2_07_in165j_mtr3</logical_identifier>
    <version_id>1.0</version_id>
    <title>frt0001e2f2_07_in165j_mtr3 MTRDR IN</title>
    <information_model_version>1.22.0.0</information_model_version>
    <product_class>Product_Observational</product_class>
    <Alias_List>
      <Alias>
        <alternate_id>FRT0001E2F2_07_IN165J_MTR3</alternate_id>
        <comment>PDS3 PRODUCT_ID</comment>
      </Alias>
    </Alias_List>
    <Modification_History>
      <Modification_Detail>
        <modification_date>2024-01-01</modification_date>
        <version_id>1.0</version_id>
        <description>PDS4 conversion.</description>
      </Modification_Detail>
    </Modification_History>
  </Identification_Area>
  <Observation_Area>
    <Time_Coordinates>
      <start_date_time>2011-05-19T11:03:34.444Z</start_date_time>
      <stop_date_time>2011-05-19T11:05:34.178Z</stop_date_time>
      <solar_longitude unit="deg">295.380954</solar_longitude>
    </Time_Coordinates>
    <Investigation_Area>
      <name>MARS RECONNAISSANCE ORBITER</name>
      <type>Mission</type>
      <Internal_Reference>
        <lid_reference>urn:nasa:pds:context:investigation:mission.mars_reconnaissance_orbiter</lid_reference>
        <reference_type>data_to_investigation</reference_type>
      </Internal_Reference>
    </Investigation_Area>
    <Observing_System>
      <Observing_System_Component>
        <name>MARS RECONNAISSANCE ORBITER</name>
        <type>Host</type>
        <Internal_Reference>
          <lid_reference>urn:nasa:pds:context:instrument_host:spacecraft.mro</lid_reference>
          <reference_type>is_instrument_host</reference_type>
        </Internal_Reference>
      </Observing_System_Component>
      <Observing_System_Component>
        <name>COMPACT RECONNAISSANCE IMAGING SPECTROMETER FOR MARS</name>
        <type>Instrument</type>
        <Internal_Reference>
          <lid_reference>urn:nasa:pds:context:instrument:crism.mro</lid_reference>
          <reference_type>is_instrument</reference_type>
        </Internal_Reference>
      </Observing_System_Component>
    </Observing_System>
    <Target_Identification>
      <name>Mars</name>
      <type>Planet</type>
      <Internal_Reference>
        <lid_reference>urn:nasa:pds:context:target:planet.mars</lid_reference>
        <reference_type>data_to_target</reference_type>
      </Internal_Reference>
    </Target_Identification>
    <Mission_Area>
      <mro:MRO_Parameters>
        <mro:product_type>MTRDR</mro:product_type>
        <mro:product_version_id>3</mro:product_version_id>
        <mro:orbit_number>22548</mro:orbit_number>
        <mro:spacecraft_clock_start_count>10/0990270246:39253</mro:spacecraft_clock_start_count>
        <mro:spacecraft_clock_stop_count>10/0990270366:21829</mro:spacecraft_clock_stop_count>
        <mro:producer_institution_name>Johns Hopkins University Applied Physics Laboratory</mro:producer_institution_name>
        <mro:CRISM_Parameters>
          <mro:observation_type>FRT</mro:observation_type>
          <mro:observation_id>16#0001E2F2#</mro:observation_id>
          <mro:observation_number>16#07#</mro:observation_number>
          <mro:activity_id>IF165</mro:activity_id>
          <mro:sensor_id>J</mro:sensor_id>
        </mro:CRISM_Parameters>
      </mro:MRO_Parameters>
    </Mission_Area>
    <Discipline_Area>
      <disp:Display_Settings>
        <Local_Internal_Reference>
          <local_identifier_reference>VNIR_IR_Spectral_Continuity_Residual_image</local_identifier_reference>
          <local_identifier_reference>VNIR_IR_Spatial_Gradient_Residual_image</local_identifier_reference>
          <local_identifier_reference>ATM_Correction_Spectral_Shift_Artifact_image</local_identifier_reference>
          <local_identifier_reference>VNIR_Sample_image</local_identifier_reference>
          <local_identifier_reference>VNIR_Line_image</local_identifier_reference>
          <local_identifier_reference>IR_Sample_image</local_identifier_reference>
          <local_identifier_reference>IR_Line_image</local_identifier_reference>
          <local_identifier_reference>VNIR_IR_Ground_Sampling_Offset_image</local_identifier_reference>
          <local_identifier_reference>VNIR_IR_Mask_image</local_identifier_reference>
          <local_reference_type>display_settings_to_array</local_reference_type>
        </Local_Internal_Reference>
        <disp:Display_Direction>
          <disp:horizontal_display_axis>Sample</disp:horizontal_display_axis>
          <disp:horizontal_display_direction>Left to Right</disp:horizontal_display_direction>
          <disp:vertical_display_axis>Line</disp:vertical_display_axis>
          <disp:vertical_display_direction>Top to Bottom</disp:vertical_display_direction>
        </disp:Display_Direction>
      </disp:Display_Settings>
      <geom:Geometry>
        <geom:Geometry_Orbiter>
          <geom:geometry_start_time_utc>2011-05-19T11:03:34.444Z</geom:geometry_start_time_utc>
          <geom:geometry_stop_time_utc>2011-05-19T11:05:34.178Z</geom:geometry_stop_time_utc>
          <geom:Orbiter_Identification>
            <geom:Geometry_Target_Identification>
              <geom:name>Mars</geom:name>
            </geom:Geometry_Target_Identification>
          </geom:Orbiter_Identification>
          <geom:Distances>
            <geom:Distances_Specific>
              <geom:target_heliocentric_distance unit="km">211785105.102385</geom:target_heliocentric_distance>
            </geom:Distances_Specific>
          </geom:Distances>
          <geom:Surface_Geometry>
            <geom:Surface_Geometry_Min_Max>
              <geom:minimum_latitude unit="deg">2.7414454</geom:minimum_latitude>
              <geom:maximum_latitude unit="deg">2.9439938</geom:maximum_latitude>
              <geom:minimum_longitude unit="deg">85.652312</geom:minimum_longitude>
              <geom:maximum_longitude unit="deg">85.882191</geom:maximum_longitude>
            </geom:Surface_Geometry_Min_Max>
          </geom:Surface_Geometry>
        </geom:Geometry_Orbiter>
      </geom:Geometry>
      <cart:Cartography>
        <Local_Internal_Reference>
          <local_identifier_reference>VNIR_IR_Spectral_Continuity_Residual_image</local_identifier_reference>
          <local_identifier_reference>VNIR_IR_Spatial_Gradient_Residual_image</local_identifier_reference>
          <local_identifier_reference>ATM_Correction_Spectral_Shift_Artifact_image</local_identifier_reference>
          <local_identifier_reference>VNIR_Sample_image</local_identifier_reference>
          <local_identifier_reference>VNIR_Line_image</local_identifier_reference>
          <local_identifier_reference>IR_Sample_image</local_identifier_reference>
          <local_identifier_reference>IR_Line_image</local_identifier_reference>
          <local_identifier_reference>VNIR_IR_Ground_Sampling_Offset_image</local_identifier_reference>
          <local_identifier_reference>VNIR_IR_Mask_image</local_identifier_reference>
          <local_reference_type>cartography_parameters_to_image_object</local_reference_type>
        </Local_Internal_Reference>
        <cart:Spatial_Domain>
          <cart:Bounding_Coordinates>
            <cart:west_bounding_coordinate unit="deg">85.652312</cart:west_bounding_coordinate>
            <cart:east_bounding_coordinate unit="deg">85.882191</cart:east_bounding_coordinate>
            <cart:north_bounding_coordinate unit="deg">2.9439938</cart:north_bounding_coordinate>
            <cart:south_bounding_coordinate unit="deg">2.7414454</cart:south_bounding_coordinate>
          </cart:Bounding_Coordinates>
        </cart:Spatial_Domain>
        <cart:Spatial_Reference_Information>
          <cart:Horizontal_Coordinate_System_Definition>
            <cart:Planar>
              <cart:Map_Projection>
                <cart:map_projection_name>Equirectangular</cart:map_projection_name>
                <cart:Equirectangular>
                  <cart:latitude_of_projection_origin unit="deg">0</cart:latitude_of_projection_origin>
                  <cart:standard_parallel_1 unit="deg">0.0000000</cart:standard_parallel_1>
                  <cart:longitude_of_central_meridian unit="deg">0</cart:longitude_of_central_meridian>
                </cart:Equirectangular>
              </cart:Map_Projection>
              <cart:Planar_Coordinate_Information>
                <cart:planar_coordinate_encoding_method>Coordinate Pair</cart:planar_coordinate_encoding_method>
                <cart:Coordinate_Representation>
                  <cart:pixel_resolution_x unit="m/pixel">18.0</cart:pixel_resolution_x>
                  <cart:pixel_resolution_y unit="m/pixel">18.0</cart:pixel_resolution_y>
                  <cart:pixel_scale_x unit="pixel/deg">3293.0387513</cart:pixel_scale_x>
                  <cart:pixel_scale_y unit="pixel/deg">3293.0387513</cart:pixel_scale_y>
                </cart:Coordinate_Representation>
              </cart:Planar_Coordinate_Information>
              <cart:Geo_Transformation>
                <cart:upperleft_corner_x unit="m">5076987.899999401</cart:upperleft_corner_x>
                <cart:upperleft_corner_y unit="m">174531.34000079997</cart:upperleft_corner_y>
              </cart:Geo_Transformation>
            </cart:Planar>
            <cart:Geodetic_Model>
              <cart:latitude_type>Planetocentric</cart:latitude_type>
              <cart:a_axis_radius unit="m">3396190.0</cart:a_axis_radius>
              <cart:b_axis_radius unit="m">3396190.0</cart:b_axis_radius>
              <cart:c_axis_radius unit="m">3396190.0</cart:c_axis_radius>
              <cart:longitude_direction>Positive East</cart:longitude_direction>
            </cart:Geodetic_Model>
          </cart:Horizontal_Coordinate_System_Definition>
        </cart:Spatial_Reference_Information>
      </cart:Cartography>
      <proc:Processing_Information>
        <Local_Internal_Reference>
          <local_identifier_reference>VNIR_IR_Spectral_Continuity_Residual_image</local_identifier_reference>
          <local_identifier_reference>VNIR_IR_Spatial_Gradient_Residual_image</local_identifier_reference>
          <local_identifier_reference>ATM_Correction_Spectral_Shift_Artifact_image</local_identifier_reference>
          <local_identifier_reference>VNIR_Sample_image</local_identifier_reference>
          <local_identifier_reference>VNIR_Line_image</local_identifier_reference>
          <local_identifier_reference>IR_Sample_image</local_identifier_reference>
          <local_identifier_reference>IR_Line_image</local_identifier_reference>
          <local_identifier_reference>VNIR_IR_Ground_Sampling_Offset_image</local_identifier_reference>
          <local_identifier_reference>VNIR_IR_Mask_image</local_identifier_reference>
          <local_reference_type>processing_information_to_data_object</local_reference_type>
        </Local_Internal_Reference>
        <proc:Process>
          <proc:Software>
            <proc:Software_Program>
              <proc:name>mtrdr_pipeline</proc:name>
              <proc:program_version>1.0</proc:program_version>
              <proc:program_stop_date_time>2021-06-15T01:13:37Z</proc:program_stop_date_time>
            </proc:Software_Program>
          </proc:Software>
        </proc:Process>
      </proc:Processing_Information>
    </Discipline_Area>
  </Observation_Area>
  <Reference_List>
    <Internal_Reference>
      <lid_reference>urn:nasa:pds:mro_crism_mtrdr:document:crism_dpsis</lid_reference>
      <reference_type>data_to_document</reference_type>
    </Internal_Reference>
    <Source_Product_Internal>
      <lidvid_reference>urn:nasa:pds:mro_crism_ddr:data_ddr:frt0001e2f2_07_de165l_ddr1::1.0</lidvid_reference>
      <reference_type>data_to_derived_source_product</reference_type>
      <comment>CRISM DDR IR product used as a source to calculate this one.</comment>
    </Source_Product_Internal>
    <Source_Product_Internal>
      <lidvid_reference>urn:nasa:pds:mro_crism_ddr:data_ddr:frt0001e2f2_07_de165s_ddr1::1.0</lidvid_reference>
      <reference_type>data_to_derived_source_product</reference_type>
      <comment>CRISM DDR VNIR product used as a source to calculate this one.</comment>
    </Source_Product_Internal>
    <Source_Product_Internal>
      <lidvid_reference>urn:nasa:pds:mro_crism_mtrdr:data_mtrdr:frt0001e2f2_07_if165j_mtr3::1.0</lidvid_reference>
      <reference_type>data_to_calibrated_source_product</reference_type>
      <comment>CRISM MTRDR product used as a source to calculate this one.</comment>
    </Source_Product_Internal>
  </Reference_List>
  <File_Area_Observational>
    <File>
      <file_name>frt0001e2f2_07_in165j_mtr3.img</file_name>
      <creation_date_time>2021-06-15T01:13:37Z</creation_date_time>
      <comment>
                This Map-Projected Targeted RDR label describes a multiple-band
                image file containing TER/MTRDR data processing information.
            </comment>
    </File>
    <Array_2D_Image>
      <name>VNIR/IR Spectral Continuity Residual</name>
      <local_identifier>VNIR_IR_Spectral_Continuity_Residual_image</local_identifier>
      <offset unit="byte">0</offset>
      <axes>2</axes>
      <axis_index_order>Last Index Fastest</axis_index_order>
      <Element_Array>
        <data_type>IEEE754LSBSingle</data_type>
      </Element_Array>
      <Axis_Array>
        <axis_name>Line</axis_name>
        <elements>668</elements>
        <sequence_number>1</sequence_number>
      </Axis_Array>
      <Axis_Array>
        <axis_name>Sample</axis_name>
        <elements>758</elements>
        <sequence_number>2</sequence_number>
      </Axis_Array>
    </Array_2D_Image>
    <Array_2D_Image>
      <name>VNIR/IR Spatial Gradient Residual</name>
      <local_identifier>VNIR_IR_Spatial_Gradient_Residual_image</local_identifier>
      <offset unit="byte">2025376</offset>
      <axes>2</axes>
      <axis_index_order>Last Index Fastest</axis_index_order>
      <Element_Array>
        <data_type>IEEE754LSBSingle</data_type>
      </Element_Array>
      <Axis_Array>
        <axis_name>Line</axis_name>
        <elements>668</elements>
        <sequence_number>1</sequence_number>
      </Axis_Array>
      <Axis_Array>
        <axis_name>Sample</axis_name>
        <elements>758</elements>
        <sequence_number>2</sequence_number>
      </Axis_Array>
    </Array_2D_Image>
    <Array_2D_Image>
      <name>ATM Correction Spectral Shift Artifact</name>
      <local_identifier>ATM_Correction_Spectral_Shift_Artifact_image</local_identifier>
      <offset unit="byte">4050752</offset>
      <axes>2</axes>
      <axis_index_order>Last Index Fastest</axis_index_order>
      <Element_Array>
        <data_type>IEEE754LSBSingle</data_type>
      </Element_Array>
      <Axis_Array>
        <axis_name>Line</axis_name>
        <elements>668</elements>
        <sequence_number>1</sequence_number>
      </Axis_Array>
      <Axis_Array>
        <axis_name>Sample</axis_name>
        <elements>758</elements>
        <sequence_number>2</sequence_number>
      </Axis_Array>
    </Array_2D_Image>
    <Array_2D_Image>
      <name>VNIR Sample</name>
      <local_identifier>VNIR_Sample_image</local_identifier>
      <offset unit="byte">6076128</offset>
      <axes>2</axes>
      <axis_index_order>Last Index Fastest</axis_index_order>
      <Element_Array>
        <data_type>IEEE754LSBSingle</data_type>
      </Element_Array>
      <Axis_Array>
        <axis_name>Line</axis_name>
        <elements>668</elements>
        <sequence_number>1</sequence_number>
      </Axis_Array>
      <Axis_Array>
        <axis_name>Sample</axis_name>
        <elements>758</elements>
        <sequence_number>2</sequence_number>
      </Axis_Array>
    </Array_2D_Image>
    <Array_2D_Image>
      <name>VNIR Line</name>
      <local_identifier>VNIR_Line_image</local_identifier>
      <offset unit="byte">8101504</offset>
      <axes>2</axes>
      <axis_index_order>Last Index Fastest</axis_index_order>
      <Element_Array>
        <data_type>IEEE754LSBSingle</data_type>
      </Element_Array>
      <Axis_Array>
        <axis_name>Line</axis_name>
        <elements>668</elements>
        <sequence_number>1</sequence_number>
      </Axis_Array>
      <Axis_Array>
        <axis_name>Sample</axis_name>
        <elements>758</elements>
        <sequence_number>2</sequence_number>
      </Axis_Array>
    </Array_2D_Image>
    <Array_2D_Image>
      <name>IR Sample</name>
      <local_identifier>IR_Sample_image</local_identifier>
      <offset unit="byte">10126880</offset>
      <axes>2</axes>
      <axis_index_order>Last Index Fastest</axis_index_order>
      <Element_Array>
        <data_type>IEEE754LSBSingle</data_type>
      </Element_Array>
      <Axis_Array>
        <axis_name>Line</axis_name>
        <elements>668</elements>
        <sequence_number>1</sequence_number>
      </Axis_Array>
      <Axis_Array>
        <axis_name>Sample</axis_name>
        <elements>758</elements>
        <sequence_number>2</sequence_number>
      </Axis_Array>
    </Array_2D_Image>
    <Array_2D_Image>
      <name>IR Line</name>
      <local_identifier>IR_Line_image</local_identifier>
      <offset unit="byte">12152256</offset>
      <axes>2</axes>
      <axis_index_order>Last Index Fastest</axis_index_order>
      <Element_Array>
        <data_type>IEEE754LSBSingle</data_type>
      </Element_Array>
      <Axis_Array>
        <axis_name>Line</axis_name>
        <elements>668</elements>
        <sequence_number>1</sequence_number>
      </Axis_Array>
      <Axis_Array>
        <axis_name>Sample</axis_name>
        <elements>758</elements>
        <sequence_number>2</sequence_number>
      </Axis_Array>
    </Array_2D_Image>
    <Array_2D_Image>
      <name>VNIR/IR Ground Sampling Offset</name>
      <local_identifier>VNIR_IR_Ground_Sampling_Offset_image</local_identifier>
      <offset unit="byte">14177632</offset>
      <axes>2</axes>
      <axis_index_order>Last Index Fastest</axis_index_order>
      <Element_Array>
        <data_type>IEEE754LSBSingle</data_type>
      </Element_Array>
      <Axis_Array>
        <axis_name>Line</axis_name>
        <elements>668</elements>
        <sequence_number>1</sequence_number>
      </Axis_Array>
      <Axis_Array>
        <axis_name>Sample</axis_name>
        <elements>758</elements>
        <sequence_number>2</sequence_number>
      </Axis_Array>
    </Array_2D_Image>
    <Array_2D_Image>
      <name>VNIR/IR Mask</name>
      <local_identifier>VNIR_IR_Mask_image</local_identifier>
      <offset unit="byte">16203008</offset>
      <axes>2</axes>
      <axis_index_order>Last Index Fastest</axis_index_order>
      <Element_Array>
        <data_type>IEEE754LSBSingle</data_type>
      </Element_Array>
      <Axis_Array>
        <axis_name>Line</axis_name>
        <elements>668</elements>
        <sequence_number>1</sequence_number>
      </Axis_Array>
      <Axis_Array>
        <axis_name>Sample</axis_name>
        <elements>758</elements>
        <sequence_number>2</sequence_number>
      </Axis_Array>
    </Array_2D_Image>
  </File_Area_Observational>
  <File_Area_Observational_Supplemental>
    <File>
      <file_name>frt0001e2f2_07_in165j_mtr3.hdr</file_name>
    </File>
    <Stream_Text>
      <offset unit="byte">0</offset>
      <parsing_standard_id>7-Bit ASCII Text</parsing_standard_id>
      <description>
                The ENVI header is a separate ASCII file that includes basic image
                data file characteristics and allows the image data to be loaded
                directly into the ENVI image processing software available bands
                list.
            </description>
      <record_delimiter>Carriage-Return Line-Feed</record_delimiter>
    </Stream_Text>
  </File_Area_Observational_Supplemental>
  <File_Area_Observational_Supplemental>
    <File>
      <file_name>frt0001e2f2_07_in165j_mtr3.lbl</file_name>
    </File>
    <Stream_Text>
      <offset unit="byte">0</offset>
      <parsing_standard_id>PDS3</parsing_standard_id>
      <description>PDS3 label</description>
      <record_delimiter>Carriage-Return Line-Feed</record_delimiter>
    </Stream_Text>
  </File_Area_Observational_Supplemental>
</Product_Observational>
