PDS_VERSION_ID = PDS3
RECORD_TYPE = UNDEFINED
LABEL_REVISION_NOTE = "2003-11-19, S. Slavney (GEO); 2005-09-25, S. Murchie (JHU/APL); 2007-03-09, E. Malaret (ACT Corp.); 2007-09-14, C. Hash (ACT Corp); 2022-04-28 G. Romeo, F. Seelos, K. Hancock, R. Poffenbarger (JHU/APL);"
^PNG_DOCUMENT = "T0745_MRRICE_15S073_0327_4.PNG"
^ENVI_HEADER = "T0745_MRRICE_15S073_0327_4.HDR"
^IMAGE = "T0745_MRRICE_15S073_0327_4.IMG"
/* Multispectral Reduced Data Record (MRDR) Product Identification */
DATA_SET_ID = "MRO-M-CRISM-5-RDR-MULTISPECTRAL-V1.0"
PRODUCT_ID = "T0745_MRRICE_15S073_0327_4"
/*( TNNNN_MRRss_yydxxx_rrrr_v )*/
/*( NNNN = tile number )*/
/*( ss = subtype of image product )*/
/*( yy = latitude of upper left corner )*/
/*( d = N or S for north or south latitude )*/
/*( xxx = east longitude of upper left corner )*/
/*( rrrr = resolution in pixels/degree )*/
/*( v = version number )*/
INSTRUMENT_HOST_NAME = "MARS RECONNAISSANCE ORBITER"
SPACECRAFT_ID = MRO
INSTRUMENT_NAME = "COMPACT RECONNAISSANCE IMAGING SPECTROMETER FOR MARS"
INSTRUMENT_ID = CRISM
TARGET_NAME = MARS
PRODUCT_TYPE = MAP_PROJECTED_MULTISPECTRAL_RDR
PRODUCT_CREATION_TIME = 2022-09-30
START_TIME = "N/A"
STOP_TIME = "N/A"
SPACECRAFT_CLOCK_START_COUNT = "N/A"
SPACECRAFT_CLOCK_STOP_COUNT = "N/A"
PRODUCT_VERSION_ID = "4"
PRODUCER_INSTITUTION_NAME = "JOHNS HOPKINS UNIVERSITY APPLIED PHYSICS LABORATORY"
SOFTWARE_NAME = "crism_mapping_execute_flow"
SOFTWARE_VERSION_ID = "1.03.94"
MRO:WAVELENGTH_FILE_NAME = "N/A"
/* This Map Projected Multispectral RDR label describes one data file: */
/* 1. A multiple-band image file of calibrated RDR data in radiance, */
/* reflectance, or quantities derived therein, or related ancillary information. */
/* This RDR represents one latitude-longitude bin in a global map. */
/* See the Map Projection Object below for bin coordinates and resolution. */
/* See the CRISM Data Products SIS for more detailed description. */
/* Description of MAP PROJECTED MULTISPECTRAL RDR REFLECTANCE IMAGE file */
/* MRO:PHOTOMETRIC_CORR_FLAG = "ON" */
/* MRO:ATMOSPHERIC_CORR_FLAG = "ON" */
/* MRO:RATIO_SHIFT_CORR_FLAG = "ON" */
/* MRO:EMPIRICAL_GEOM_NORM_FLAG = "OFF" */
/* MRO:EMPIRICAL_SMILE_CORR_FLAG = "ON" */
/* MRO:SENSOR_SPACE_TRANSFORM_FLAG = "ON" */
/* These parameters describe the browse image as a PDS document. */
OBJECT = PNG_DOCUMENT
  DOCUMENT_NAME = "T0745_MRRICE_15S073_0327_4"
  DOCUMENT_FORMAT = PNG
  DOCUMENT_TOPIC_TYPE = "BROWSE IMAGE"
  INTERCHANGE_FORMAT = BINARY
  PUBLICATION_DATE = 2022-09-30
  SOURCE_PRODUCT_ID = "T0745_MRRICE_15S073_0327_4"
  SAMPLE_TYPE = LSB_UNSIGNED_INTEGER
  SAMPLE_BITS = 8
  BANDS = 4
  BAND_SEQUENCE = ( "RED", "GREEN", "BLUE", "ALPHA")
  BAND_NAME = ( "BD1900_2", "BD1500_2", "BD1435" "ALPHA")
  /* The following information is to be used to scale from real */
  /* numbers to an 8-bit integer for this type of browse image. */
  DERIVED_MINIMUM = ( 0, 0, 0, 0 )
  DERIVED_MAXIMUM = ( 254, 254, 254, 255 )
  OFFSET = ( 0.0000E+00, 0.0000E+00, 0.0000E+00, 0.0000E+00)
  SCALING_FACTOR = ( 1.8481E-04, 1.6418E-04, 6.1074E-05, 1.0000E+00)
  DESCRIPTION = "Shows information related to water or carbon dioxide frost or ice. CO2 frost or ice displays a sharp 1435 nm absorption and thus appears blue in the ICE browse product. Water ice or frost has strong 1500 and 1900 nm absorptions and thus may appear yellow in the ICE browse product. Red colors often indicate hydrated minerals. See Viviano-Beck et al. [2014] for details. Analysis of CRISM spectra must be used to match absorption band positions and relative strength for positive mineral identification."
END_OBJECT = PNG_DOCUMENT
/* ENVI header description */
/* The ENVI header is a separate ASCII file that includes basic */
/* image data file characteristics and allows the image data to be */
/* loaded directly into the ENVI image processing software available */
/* bands list. */
OBJECT = ENVI_HEADER
  HEADER_TYPE = "ENVI"
  INTERCHANGE_FORMAT = "ASCII"
  BYTES = 1260
  DESCRIPTION = "This text file can be used by ENVI image processing software to read in the image."
END_OBJECT = ENVI_HEADER
OBJECT = IMAGE
  LINES = 1636
  LINE_SAMPLES = 1580
  SAMPLE_TYPE = LSB_UNSIGNED_INTEGER
  SAMPLE_BITS = 8
  BANDS = 3
  BAND_STORAGE_TYPE = BAND_SEQUENTIAL
  BAND_SEQUENCE = "(RED, GREEN, BLUE)"
  BAND_NAME = ( "BD1900_2", "BD1500_2", "BD1435")
  /* The following information is to be used to scale from real */
  /* numbers to an 8-bit integer for this type of browse image. */
  DERIVED_MINIMUM = ( 0, 0, 0)
  DERIVED_MAXIMUM = ( 254, 254, 254 )
  OFFSET = ( 0.0000E+00, 0.0000E+00, 0.0000E+00)
  SCALING_FACTOR = ( 1.8481E-04, 1.6418E-04, 6.1074E-05)
  MISSING_CONSTANT = 255
END_OBJECT = IMAGE
/* Map projection information about this RDR is in the IMAGE_MAP_PROJECTION */
/* object below. */
OBJECT = IMAGE_MAP_PROJECTION
  ^DATA_SET_MAP_PROJECTION = "MRR_MAP.CAT"
  MAP_PROJECTION_TYPE = "EQUIRECTANGULAR"
  A_AXIS_RADIUS = 3394.839800000000
  B_AXIS_RADIUS = 3394.839800000000
  C_AXIS_RADIUS = 3394.839800000000
  POSITIVE_LONGITUDE_DIRECTION = EAST
  CENTER_LATITUDE = -15.0000000
  CENTER_LONGITUDE = 72.5000000
  LINE_FIRST_PIXEL = 1
  LINE_LAST_PIXEL = 1636
  SAMPLE_FIRST_PIXEL = 1
  SAMPLE_LAST_PIXEL = 1580
  MAP_PROJECTION_ROTATION = 0.0000000
  MAP_RESOLUTION = 327.0000408
  MAP_SCALE = 0.1811961
  MINIMUM_LATITUDE = -17.5000000
  MAXIMUM_LATITUDE = -12.5000000
  WESTERNMOST_LONGITUDE = 70.0000000
  EASTERNMOST_LONGITUDE = 75.0000000
  LINE_PROJECTION_OFFSET = -4087.5264829
  SAMPLE_PROJECTION_OFFSET = 789.3180110
  COORDINATE_SYSTEM_TYPE = "BODY-FIXED ROTATING"
  COORDINATE_SYSTEM_NAME = "PLANETOCENTRIC"
END_OBJECT = IMAGE_MAP_PROJECTION
END
