<?xml version="1.0" encoding="utf-8" standalone="no"?>
<?xml-model href="https://pds.nasa.gov/pds4/pds/v1/PDS4_PDS_1M00.sch" schematypens="http://purl.oclc.org/dsdl/schematron"?>
<?xml-model href="https://pds.nasa.gov/pds4/cart/v1/PDS4_CART_1M00_1970.sch" schematypens="http://purl.oclc.org/dsdl/schematron"?>
<?xml-model href="https://pds.nasa.gov/pds4/disp/v1/PDS4_DISP_1M00_1510.sch" schematypens="http://purl.oclc.org/dsdl/schematron"?>
<?xml-model href="https://pds.nasa.gov/pds4/proc/v1/PDS4_PROC_1M00_1300.sch" schematypens="http://purl.oclc.org/dsdl/schematron"?>
<?xml-model href="https://pds.nasa.gov/pds4/mission/mro/v1/PDS4_MRO_1M00_1320.sch" schematypens="http://purl.oclc.org/dsdl/schematron"?>
<Product_Observational xmlns="http://pds.nasa.gov/pds4/pds/v1" 
    xmlns:cart="http://pds.nasa.gov/pds4/cart/v1" 
    xmlns:disp="http://pds.nasa.gov/pds4/disp/v1" 
    xmlns:mro="http://pds.nasa.gov/pds4/mission/mro/v1" 
    xmlns:proc="http://pds.nasa.gov/pds4/proc/v1" 
    xmlns:xsi="http://www.w3.org/2001/XMLSchema-instance" 
    xsi:schemaLocation="http://pds.nasa.gov/pds4/pds/v1       https://pds.nasa.gov/pds4/pds/v1/PDS4_PDS_1M00.xsd      http://pds.nasa.gov/pds4/cart/v1       https://pds.nasa.gov/pds4/cart/v1/PDS4_CART_1M00_1970.xsd      http://pds.nasa.gov/pds4/disp/v1       https://pds.nasa.gov/pds4/disp/v1/PDS4_DISP_1M00_1510.xsd      http://pds.nasa.gov/pds4/proc/v1       https://pds.nasa.gov/pds4/proc/v1/PDS4_PROC_1M00_1300.xsd     http://pds.nasa.gov/pds4/mission/mro/v1    https://pds.nasa.gov/pds4/mission/mro/v1/PDS4_MRO_1M00_1320.xsd     ">
  <Identification_Area>
    <logical_identifier>urn:nasa:pds:mro_crism_mrdr:data_mrdr:t1672_mrrde_50n037_0327_4</logical_identifier>
    <version_id>1.0</version_id>
    <title>t1672_mrrde_50n037_0327_4 MRDR DE</title>
    <information_model_version>1.22.0.0</information_model_version>
    <product_class>Product_Observational</product_class>
    <Alias_List>
      <Alias>
        <alternate_id>T1672_MRRDE_50N037_0327_4</alternate_id>
        <comment>PDS3 PRODUCT_ID</comment>
      </Alias>
    </Alias_List>
    <Modification_History>
      <Modification_Detail>
        <modification_date>2024-09-24</modification_date>
        <version_id>1.0</version_id>
        <description>PDS4 conversion.</description>
      </Modification_Detail>
    </Modification_History>
  </Identification_Area>
  <Observation_Area>
    <Time_Coordinates>
      <start_date_time nilReason="inapplicable" xsi:nil="true"/>
      <stop_date_time nilReason="inapplicable" xsi:nil="true"/>
    </Time_Coordinates>
    <Investigation_Area>
      <name>MARS RECONNAISSANCE ORBITER</name>
      <type>Mission</type>
      <Internal_Reference>
        <lid_reference>urn:nasa:pds:context:investigation:mission.mars_reconnaissance_orbiter</lid_reference>
        <reference_type>data_to_investigation</reference_type>
      </Internal_Reference>
    </Investigation_Area>
    <Observing_System>
      <Observing_System_Component>
        <name>MARS RECONNAISSANCE ORBITER</name>
        <type>Host</type>
        <Internal_Reference>
          <lid_reference>urn:nasa:pds:context:instrument_host:spacecraft.mro</lid_reference>
          <reference_type>is_instrument_host</reference_type>
        </Internal_Reference>
      </Observing_System_Component>
      <Observing_System_Component>
        <name>COMPACT RECONNAISSANCE IMAGING SPECTROMETER FOR MARS</name>
        <type>Instrument</type>
        <Internal_Reference>
          <lid_reference>urn:nasa:pds:context:instrument:crism.mro</lid_reference>
          <reference_type>is_instrument</reference_type>
        </Internal_Reference>
      </Observing_System_Component>
    </Observing_System>
    <Target_Identification>
      <name>Mars</name>
      <type>Planet</type>
      <Internal_Reference>
        <lid_reference>urn:nasa:pds:context:target:planet.mars</lid_reference>
        <reference_type>data_to_target</reference_type>
      </Internal_Reference>
    </Target_Identification>
    <Mission_Area>
      <mro:MRO_Parameters>
        <mro:product_type>MRDR</mro:product_type>
        <mro:product_version_id>4</mro:product_version_id>
        <mro:producer_institution_name>Johns Hopkins University Applied Physics Laboratory</mro:producer_institution_name>
      </mro:MRO_Parameters>
    </Mission_Area>
    <Discipline_Area>
      <disp:Display_Settings>
        <Local_Internal_Reference>
          <local_identifier_reference>target_id_image</local_identifier_reference>
          <local_identifier_reference>segment_id_image</local_identifier_reference>
          <local_identifier_reference>vnir_sample_image</local_identifier_reference>
          <local_identifier_reference>vnir_line_image</local_identifier_reference>
          <local_identifier_reference>ir_sample_image</local_identifier_reference>
          <local_identifier_reference>ir_line_image</local_identifier_reference>
          <local_identifier_reference>ina_image</local_identifier_reference>
          <local_identifier_reference>ema_image</local_identifier_reference>
          <local_identifier_reference>phase_image</local_identifier_reference>
          <local_identifier_reference>lat_image</local_identifier_reference>
          <local_identifier_reference>lon_image</local_identifier_reference>
          <local_identifier_reference>ina_mola_image</local_identifier_reference>
          <local_identifier_reference>ema_mola_image</local_identifier_reference>
          <local_identifier_reference>slope_mag_image</local_identifier_reference>
          <local_identifier_reference>slope_az_image</local_identifier_reference>
          <local_identifier_reference>elevation_image</local_identifier_reference>
          <local_identifier_reference>thermal_inertia_image</local_identifier_reference>
          <local_identifier_reference>albedo_image</local_identifier_reference>
          <local_identifier_reference>local_solar_time_image</local_identifier_reference>
          <local_reference_type>display_settings_to_array</local_reference_type>
        </Local_Internal_Reference>
        <disp:Display_Direction>
          <disp:horizontal_display_axis>Sample</disp:horizontal_display_axis>
          <disp:horizontal_display_direction>Left to Right</disp:horizontal_display_direction>
          <disp:vertical_display_axis>Line</disp:vertical_display_axis>
          <disp:vertical_display_direction>Top to Bottom</disp:vertical_display_direction>
        </disp:Display_Direction>
      </disp:Display_Settings>
      <cart:Cartography>
        <Local_Internal_Reference>
          <local_identifier_reference>target_id_image</local_identifier_reference>
          <local_identifier_reference>segment_id_image</local_identifier_reference>
          <local_identifier_reference>vnir_sample_image</local_identifier_reference>
          <local_identifier_reference>vnir_line_image</local_identifier_reference>
          <local_identifier_reference>ir_sample_image</local_identifier_reference>
          <local_identifier_reference>ir_line_image</local_identifier_reference>
          <local_identifier_reference>ina_image</local_identifier_reference>
          <local_identifier_reference>ema_image</local_identifier_reference>
          <local_identifier_reference>phase_image</local_identifier_reference>
          <local_identifier_reference>lat_image</local_identifier_reference>
          <local_identifier_reference>lon_image</local_identifier_reference>
          <local_identifier_reference>ina_mola_image</local_identifier_reference>
          <local_identifier_reference>ema_mola_image</local_identifier_reference>
          <local_identifier_reference>slope_mag_image</local_identifier_reference>
          <local_identifier_reference>slope_az_image</local_identifier_reference>
          <local_identifier_reference>elevation_image</local_identifier_reference>
          <local_identifier_reference>thermal_inertia_image</local_identifier_reference>
          <local_identifier_reference>albedo_image</local_identifier_reference>
          <local_identifier_reference>local_solar_time_image</local_identifier_reference>
          <local_reference_type>cartography_parameters_to_image_object</local_reference_type>
        </Local_Internal_Reference>
        <cart:Spatial_Domain>
          <cart:Bounding_Coordinates>
            <cart:west_bounding_coordinate unit="deg">33.3346778</cart:west_bounding_coordinate>
            <cart:east_bounding_coordinate unit="deg">40</cart:east_bounding_coordinate>
            <cart:north_bounding_coordinate unit="deg">52.5000000</cart:north_bounding_coordinate>
            <cart:south_bounding_coordinate unit="deg">47.5000000</cart:south_bounding_coordinate>
          </cart:Bounding_Coordinates>
        </cart:Spatial_Domain>
        <cart:Spatial_Reference_Information>
          <cart:Horizontal_Coordinate_System_Definition>
            <cart:Planar>
              <cart:Map_Projection>
                <cart:map_projection_name>Equirectangular</cart:map_projection_name>
                <cart:Equirectangular>
                  <cart:latitude_of_projection_origin unit="deg">0</cart:latitude_of_projection_origin>
                  <cart:standard_parallel_1 unit="deg">50.0000000</cart:standard_parallel_1>
                  <cart:longitude_of_central_meridian unit="deg">36.6666670</cart:longitude_of_central_meridian>
                </cart:Equirectangular>
              </cart:Map_Projection>
              <cart:Planar_Coordinate_Information>
                <cart:planar_coordinate_encoding_method>Coordinate Pair</cart:planar_coordinate_encoding_method>
                <cart:Coordinate_Representation>
                  <cart:pixel_resolution_x unit="m/pixel">180.63979999999998</cart:pixel_resolution_x>
                  <cart:pixel_resolution_y unit="m/pixel">180.63979999999998</cart:pixel_resolution_y>
                  <cart:pixel_scale_x unit="pixel/deg">326.9999811</cart:pixel_scale_x>
                  <cart:pixel_scale_y unit="pixel/deg">326.9999811</cart:pixel_scale_y>
                </cart:Coordinate_Representation>
              </cart:Planar_Coordinate_Information>
              <cart:Geo_Transformation>
                <cart:upperleft_corner_x unit="m">-126512.13989607885</cart:upperleft_corner_x>
                <cart:upperleft_corner_y unit="m">3101073.9971977905</cart:upperleft_corner_y>
              </cart:Geo_Transformation>
            </cart:Planar>
            <cart:Geodetic_Model>
              <cart:latitude_type>Planetocentric</cart:latitude_type>
              <cart:a_axis_radius unit="m">3384416.5</cart:a_axis_radius>
              <cart:b_axis_radius unit="m">3384416.5</cart:b_axis_radius>
              <cart:c_axis_radius unit="m">3384416.5</cart:c_axis_radius>
              <cart:longitude_direction>Positive East</cart:longitude_direction>
            </cart:Geodetic_Model>
          </cart:Horizontal_Coordinate_System_Definition>
        </cart:Spatial_Reference_Information>
      </cart:Cartography>
      <proc:Processing_Information>
        <Local_Internal_Reference>
          <local_identifier_reference>target_id_image</local_identifier_reference>
          <local_identifier_reference>segment_id_image</local_identifier_reference>
          <local_identifier_reference>vnir_sample_image</local_identifier_reference>
          <local_identifier_reference>vnir_line_image</local_identifier_reference>
          <local_identifier_reference>ir_sample_image</local_identifier_reference>
          <local_identifier_reference>ir_line_image</local_identifier_reference>
          <local_identifier_reference>ina_image</local_identifier_reference>
          <local_identifier_reference>ema_image</local_identifier_reference>
          <local_identifier_reference>phase_image</local_identifier_reference>
          <local_identifier_reference>lat_image</local_identifier_reference>
          <local_identifier_reference>lon_image</local_identifier_reference>
          <local_identifier_reference>ina_mola_image</local_identifier_reference>
          <local_identifier_reference>ema_mola_image</local_identifier_reference>
          <local_identifier_reference>slope_mag_image</local_identifier_reference>
          <local_identifier_reference>slope_az_image</local_identifier_reference>
          <local_identifier_reference>elevation_image</local_identifier_reference>
          <local_identifier_reference>thermal_inertia_image</local_identifier_reference>
          <local_identifier_reference>albedo_image</local_identifier_reference>
          <local_identifier_reference>local_solar_time_image</local_identifier_reference>
          <local_reference_type>processing_information_to_data_object</local_reference_type>
        </Local_Internal_Reference>
        <proc:Process>
          <proc:Software>
            <proc:Software_Program>
              <proc:name>crism_mapping_execute_flow</proc:name>
              <proc:program_version>1.03.94</proc:program_version>
              <proc:program_stop_date_time>2023-07-18T17:49:54Z</proc:program_stop_date_time>
            </proc:Software_Program>
          </proc:Software>
        </proc:Process>
      </proc:Processing_Information>
    </Discipline_Area>
  </Observation_Area>
  <Reference_List>
    <Internal_Reference>
      <lid_reference>urn:nasa:pds:mro_crism_mtrdr:document:crism_dpsis</lid_reference>
      <reference_type>data_to_document</reference_type>
    </Internal_Reference>
  </Reference_List>
  <File_Area_Observational>
    <File>
      <file_name>t1672_mrrde_50n037_0327_4.img</file_name>
      <creation_date_time>2023-07-18T17:49:54Z</creation_date_time>
      <comment>
                This Map Projected Multispectral RDR label describes a multiple-band
                image file of calibrated RDR data in radiance, reflectance,
                or quantities derived therein, or related ancillary information.
                This RDR represents one latitude-longitude bin in a global map.
                See the CRISM Data Product SIS for more detailed description.
            </comment>
    </File>
    <Array_2D_Image>
      <name>Target ID</name>
      <local_identifier>target_id_image</local_identifier>
      <offset unit="byte">0</offset>
      <axes>2</axes>
      <axis_index_order>Last Index Fastest</axis_index_order>
      <description>
                Map projected "Target ID" derived layer from the DDR product.
            </description>
      <Element_Array>
        <data_type>IEEE754LSBSingle</data_type>
      </Element_Array>
      <Axis_Array>
        <axis_name>Line</axis_name>
        <elements>1636</elements>
        <sequence_number>1</sequence_number>
      </Axis_Array>
      <Axis_Array>
        <axis_name>Sample</axis_name>
        <elements>1402</elements>
        <sequence_number>2</sequence_number>
      </Axis_Array>
    </Array_2D_Image>
    <Array_2D_Image>
      <name>Segment ID (Counter)</name>
      <local_identifier>segment_id_image</local_identifier>
      <offset unit="byte">9174688</offset>
      <axes>2</axes>
      <axis_index_order>Last Index Fastest</axis_index_order>
      <description>
                Map projected "Segment ID (Counter)" derived layer from the DDR product.
            </description>
      <Element_Array>
        <data_type>IEEE754LSBSingle</data_type>
      </Element_Array>
      <Axis_Array>
        <axis_name>Line</axis_name>
        <elements>1636</elements>
        <sequence_number>1</sequence_number>
      </Axis_Array>
      <Axis_Array>
        <axis_name>Sample</axis_name>
        <elements>1402</elements>
        <sequence_number>2</sequence_number>
      </Axis_Array>
    </Array_2D_Image>
    <Array_2D_Image>
      <name>VNIR (S-detector) Sample</name>
      <local_identifier>vnir_sample_image</local_identifier>
      <offset unit="byte">18349376</offset>
      <axes>2</axes>
      <axis_index_order>Last Index Fastest</axis_index_order>
      <description>
                Map projected "VNIR (S-detector) Sample" derived layer from the DDR product.
            </description>
      <Element_Array>
        <data_type>IEEE754LSBSingle</data_type>
      </Element_Array>
      <Axis_Array>
        <axis_name>Line</axis_name>
        <elements>1636</elements>
        <sequence_number>1</sequence_number>
      </Axis_Array>
      <Axis_Array>
        <axis_name>Sample</axis_name>
        <elements>1402</elements>
        <sequence_number>2</sequence_number>
      </Axis_Array>
    </Array_2D_Image>
    <Array_2D_Image>
      <name>VNIR (S-detector) Line</name>
      <local_identifier>vnir_line_image</local_identifier>
      <offset unit="byte">27524064</offset>
      <axes>2</axes>
      <axis_index_order>Last Index Fastest</axis_index_order>
      <description>
                Map projected "VNIR (S-detector) Line" derived layer from the DDR product.
            </description>
      <Element_Array>
        <data_type>IEEE754LSBSingle</data_type>
      </Element_Array>
      <Axis_Array>
        <axis_name>Line</axis_name>
        <elements>1636</elements>
        <sequence_number>1</sequence_number>
      </Axis_Array>
      <Axis_Array>
        <axis_name>Sample</axis_name>
        <elements>1402</elements>
        <sequence_number>2</sequence_number>
      </Axis_Array>
    </Array_2D_Image>
    <Array_2D_Image>
      <name>IR (L-detector) Sample</name>
      <local_identifier>ir_sample_image</local_identifier>
      <offset unit="byte">36698752</offset>
      <axes>2</axes>
      <axis_index_order>Last Index Fastest</axis_index_order>
      <description>
                Map projected "IR (L-detector) Sample" derived layer from the DDR product.
            </description>
      <Element_Array>
        <data_type>IEEE754LSBSingle</data_type>
      </Element_Array>
      <Axis_Array>
        <axis_name>Line</axis_name>
        <elements>1636</elements>
        <sequence_number>1</sequence_number>
      </Axis_Array>
      <Axis_Array>
        <axis_name>Sample</axis_name>
        <elements>1402</elements>
        <sequence_number>2</sequence_number>
      </Axis_Array>
    </Array_2D_Image>
    <Array_2D_Image>
      <name>IR (L-detector) Line</name>
      <local_identifier>ir_line_image</local_identifier>
      <offset unit="byte">45873440</offset>
      <axes>2</axes>
      <axis_index_order>Last Index Fastest</axis_index_order>
      <description>
                Map projected "IR (L-detector) Line" derived layer from the DDR product.
            </description>
      <Element_Array>
        <data_type>IEEE754LSBSingle</data_type>
      </Element_Array>
      <Axis_Array>
        <axis_name>Line</axis_name>
        <elements>1636</elements>
        <sequence_number>1</sequence_number>
      </Axis_Array>
      <Axis_Array>
        <axis_name>Sample</axis_name>
        <elements>1402</elements>
        <sequence_number>2</sequence_number>
      </Axis_Array>
    </Array_2D_Image>
    <Array_2D_Image>
      <name>INA at areoid - deg</name>
      <local_identifier>ina_image</local_identifier>
      <offset unit="byte">55048128</offset>
      <axes>2</axes>
      <axis_index_order>Last Index Fastest</axis_index_order>
      <description>
                Map projected "INA at areoid - deg" derived layer from the DDR product.
            </description>
      <Element_Array>
        <data_type>IEEE754LSBSingle</data_type>
        <unit>deg</unit>
      </Element_Array>
      <Axis_Array>
        <axis_name>Line</axis_name>
        <elements>1636</elements>
        <sequence_number>1</sequence_number>
      </Axis_Array>
      <Axis_Array>
        <axis_name>Sample</axis_name>
        <elements>1402</elements>
        <sequence_number>2</sequence_number>
      </Axis_Array>
    </Array_2D_Image>
    <Array_2D_Image>
      <name>EMA at areoid - deg</name>
      <local_identifier>ema_image</local_identifier>
      <offset unit="byte">64222816</offset>
      <axes>2</axes>
      <axis_index_order>Last Index Fastest</axis_index_order>
      <description>
                Map projected "EMA at areoid - deg" derived layer from the DDR product.
            </description>
      <Element_Array>
        <data_type>IEEE754LSBSingle</data_type>
        <unit>deg</unit>
      </Element_Array>
      <Axis_Array>
        <axis_name>Line</axis_name>
        <elements>1636</elements>
        <sequence_number>1</sequence_number>
      </Axis_Array>
      <Axis_Array>
        <axis_name>Sample</axis_name>
        <elements>1402</elements>
        <sequence_number>2</sequence_number>
      </Axis_Array>
    </Array_2D_Image>
    <Array_2D_Image>
      <name>Phase angle - deg</name>
      <local_identifier>phase_image</local_identifier>
      <offset unit="byte">73397504</offset>
      <axes>2</axes>
      <axis_index_order>Last Index Fastest</axis_index_order>
      <description>
                Map projected "Phase angle - deg" derived layer from the DDR product.
            </description>
      <Element_Array>
        <data_type>IEEE754LSBSingle</data_type>
        <unit>deg</unit>
      </Element_Array>
      <Axis_Array>
        <axis_name>Line</axis_name>
        <elements>1636</elements>
        <sequence_number>1</sequence_number>
      </Axis_Array>
      <Axis_Array>
        <axis_name>Sample</axis_name>
        <elements>1402</elements>
        <sequence_number>2</sequence_number>
      </Axis_Array>
    </Array_2D_Image>
    <Array_2D_Image>
      <name>Latitude - areocentric - deg N</name>
      <local_identifier>lat_image</local_identifier>
      <offset unit="byte">82572192</offset>
      <axes>2</axes>
      <axis_index_order>Last Index Fastest</axis_index_order>
      <description>
                Map projected "Latitude - areocentric - deg N" derived layer from the DDR product.
            </description>
      <Element_Array>
        <data_type>IEEE754LSBSingle</data_type>
        <unit>deg</unit>
      </Element_Array>
      <Axis_Array>
        <axis_name>Line</axis_name>
        <elements>1636</elements>
        <sequence_number>1</sequence_number>
      </Axis_Array>
      <Axis_Array>
        <axis_name>Sample</axis_name>
        <elements>1402</elements>
        <sequence_number>2</sequence_number>
      </Axis_Array>
    </Array_2D_Image>
    <Array_2D_Image>
      <name>Longitude - areocentric - deg E</name>
      <local_identifier>lon_image</local_identifier>
      <offset unit="byte">91746880</offset>
      <axes>2</axes>
      <axis_index_order>Last Index Fastest</axis_index_order>
      <description>
                Map projected "Longitude - areocentric - deg E" derived layer from the DDR product.
            </description>
      <Element_Array>
        <data_type>IEEE754LSBSingle</data_type>
        <unit>deg</unit>
      </Element_Array>
      <Axis_Array>
        <axis_name>Line</axis_name>
        <elements>1636</elements>
        <sequence_number>1</sequence_number>
      </Axis_Array>
      <Axis_Array>
        <axis_name>Sample</axis_name>
        <elements>1402</elements>
        <sequence_number>2</sequence_number>
      </Axis_Array>
    </Array_2D_Image>
    <Array_2D_Image>
      <name>INA at surface from MOLA - deg</name>
      <local_identifier>ina_mola_image</local_identifier>
      <offset unit="byte">100921568</offset>
      <axes>2</axes>
      <axis_index_order>Last Index Fastest</axis_index_order>
      <description>
                Map projected "INA at surface from MOLA - deg" derived layer from the DDR product.
            </description>
      <Element_Array>
        <data_type>IEEE754LSBSingle</data_type>
        <unit>deg</unit>
      </Element_Array>
      <Axis_Array>
        <axis_name>Line</axis_name>
        <elements>1636</elements>
        <sequence_number>1</sequence_number>
      </Axis_Array>
      <Axis_Array>
        <axis_name>Sample</axis_name>
        <elements>1402</elements>
        <sequence_number>2</sequence_number>
      </Axis_Array>
    </Array_2D_Image>
