PDS_VERSION_ID = PDS3
RECORD_TYPE = UNDEFINED
LABEL_REVISION_NOTE = "2003-11-19, S. Slavney (GEO); 2005-09-25, S. Murchie (JHU/APL); 2007-03-09, E. Malaret (ACT Corp.); 2007-09-14, C. Hash (ACT Corp); 2022-04-28 G. Romeo, F. Seelos, K. Hancock, R. Poffenbarger (JHU/APL);"
^ENVI_HEADER = "T0198_MRRDE_55S050_0327_4.HDR"
^IMAGE = "T0198_MRRDE_55S050_0327_4.IMG"
/* Multispectral Reduced Data Record (MRDR) Product Identification */
DATA_SET_ID = "MRO-M-CRISM-5-RDR-MULTISPECTRAL-V1.0"
PRODUCT_ID = "T0198_MRRDE_55S050_0327_4"
/*( TNNNN_MRRss_yydxxx_rrrr_v )*/
/*( NNNN = tile number )*/
/*( ss = subtype of image product )*/
/*( yy = latitude of upper left corner )*/
/*( d = N or S for north or south latitude )*/
/*( xxx = east longitude of upper left corner )*/
/*( rrrr = resolution in pixels/degree )*/
/*( v = version number )*/
INSTRUMENT_HOST_NAME = "MARS RECONNAISSANCE ORBITER"
SPACECRAFT_ID = MRO
INSTRUMENT_NAME = "COMPACT RECONNAISSANCE IMAGING SPECTROMETER FOR MARS"
INSTRUMENT_ID = CRISM
TARGET_NAME = MARS
PRODUCT_TYPE = MAP_PROJECTED_MULTISPECTRAL_RDR
PRODUCT_CREATION_TIME = 2023-07-18T16:51:46
START_TIME = "N/A"
STOP_TIME = "N/A"
SPACECRAFT_CLOCK_START_COUNT = "N/A"
SPACECRAFT_CLOCK_STOP_COUNT = "N/A"
PRODUCT_VERSION_ID = "4"
PRODUCER_INSTITUTION_NAME = "JOHNS HOPKINS UNIVERSITY APPLIED PHYSICS LABORATORY"
SOFTWARE_NAME = "crism_mapping_execute_flow"
SOFTWARE_VERSION_ID = "1.03.94"
MRO:WAVELENGTH_FILE_NAME = "N/A"
/* This Map Projected Multispectral RDR label describes one data file: */
/* 1. A multiple-band image file of calibrated RDR data in radiance, */
/* reflectance, or quantities derived therein, or related ancillary information. */
/* This RDR represents one latitude-longitude bin in a global map. */
/* See the Map Projection Object below for bin coordinates and resolution. */
/* See the CRISM Data Products SIS for more detailed description. */
/* Description of MAP PROJECTED MULTISPECTRAL RDR REFLECTANCE IMAGE file */
/* ENVI header description */
/* The ENVI header is a separate ASCII file that includes basic */
/* image data file characteristics and allows the image data to be */
/* loaded directly into the ENVI image processing software available */
/* bands list. */
OBJECT = ENVI_HEADER
  HEADER_TYPE = "ENVI"
  INTERCHANGE_FORMAT = "ASCII"
  BYTES = 1760
  DESCRIPTION = "This text file can be used by ENVI image processing software to read in the image."
END_OBJECT = ENVI_HEADER
OBJECT = IMAGE
  LINES = 1636
  LINE_SAMPLES = 1251
  SAMPLE_TYPE = PC_REAL
  SAMPLE_BITS = 32
  BANDS = 19
  BAND_STORAGE_TYPE = BAND_SEQUENTIAL
  BAND_NAME = ( "Target ID", "Segment ID (Counter)", "VNIR (S-detector) Sample", "VNIR (S-detector) Line", "IR (L-detector) Sample", "IR (L-detector) Line", "INA at areoid - deg", "EMA at areoid - deg", "Phase angle - deg", "Latitude - areocentric - deg N", "Longitude - areocentric - deg E", "INA at surface from MOLA - deg", "EMA at surface from MOLA - deg", "Slope magnitude from MOLA - deg", "MOLA slope azimuth - deg clkwise from N", "Elevation - meters relative to MOLA", "Thermal inertia - J m^-2 K^-1 s^-0.5", "Bolometic albedo", "Local solar time - hours")
  MISSING_CONSTANT = 65535
END_OBJECT = IMAGE
/* Map projection information about this RDR is in the IMAGE_MAP_PROJECTION */
/* object below. */
OBJECT = IMAGE_MAP_PROJECTION
  ^DATA_SET_MAP_PROJECTION = "MRR_MAP.CAT"
  MAP_PROJECTION_TYPE = "EQUIRECTANGULAR"
  A_AXIS_RADIUS = 3382.737500000000
  B_AXIS_RADIUS = 3382.737500000000
  C_AXIS_RADIUS = 3382.737500000000
  POSITIVE_LONGITUDE_DIRECTION = EAST
  CENTER_LATITUDE = -55.0000000
  CENTER_LONGITUDE = 50.0000000
  LINE_FIRST_PIXEL = 1
  LINE_LAST_PIXEL = 1636
  SAMPLE_FIRST_PIXEL = 1
  SAMPLE_LAST_PIXEL = 1251
  MAP_PROJECTION_ROTATION = 0.0000000
  MAP_RESOLUTION = 326.9999541
  MAP_SCALE = 0.1805502
  MINIMUM_LATITUDE = -57.5000000
  MAXIMUM_LATITUDE = -52.5000000
  WESTERNMOST_LONGITUDE = 46.6661917
  EASTERNMOST_LONGITUDE = 53.3360778
  LINE_PROJECTION_OFFSET = -17168.2958828
  SAMPLE_PROJECTION_OFFSET = 624.7871141
  COORDINATE_SYSTEM_TYPE = "BODY-FIXED ROTATING"
  COORDINATE_SYSTEM_NAME = "PLANETOCENTRIC"
END_OBJECT = IMAGE_MAP_PROJECTION
END
