PDS_VERSION_ID = PDS3
RECORD_TYPE = UNDEFINED
LABEL_REVISION_NOTE = "2003-11-19, S. Slavney (GEO); 2005-09-25, S. Murchie (JHU/APL); 2007-03-09, E. Malaret (ACT Corp.); 2007-09-14, C. Hash (ACT Corp); 2022-04-28 G. Romeo, F. Seelos, K. Hancock, R. Poffenbarger (JHU/APL);"
^PNG_DOCUMENT = "T1553_VRRFEM_40N153_0654_1.PNG"
^ENVI_HEADER = "T1553_VRRFEM_40N153_0654_1.HDR"
^IMAGE = "T1553_VRRFEM_40N153_0654_1.IMG"
/*VNIR Hyperspectral Reduced Data Record (VRDR) Product Identification */
DATA_SET_ID = "MRO-M-CRISM-5-RDR-VNIRHYPERSPECTRAL-V1.0"
PRODUCT_ID = "T1553_VRRFEM_40N153_0654_1"
/*( TNNNN_VRRsss_yydxxx_rrrr_v )*/
/*( NNNN = tile number )*/
/*( sss = subtype of image product )*/
/*( yy = latitude of tile center )*/
/*( d = N or S for north or south latitude )*/
/*( xxx = east longitude of tile center (rounded) )*/
/*( rrrr = resolution in pixels/degree )*/
/*( v = version number )*/
INSTRUMENT_HOST_NAME = "MARS RECONNAISSANCE ORBITER"
SPACECRAFT_ID = MRO
INSTRUMENT_NAME = "COMPACT RECONNAISSANCE IMAGING SPECTROMETER FOR MARS"
INSTRUMENT_ID = CRISM
TARGET_NAME = MARS
PRODUCT_TYPE = MAP_PROJECTED_VNIR_HYPERSPECTRAL_RDR
PRODUCT_CREATION_TIME = 2025-10-03
START_TIME = "N/A"
STOP_TIME = "N/A"
SPACECRAFT_CLOCK_START_COUNT = "N/A"
SPACECRAFT_CLOCK_STOP_COUNT = "N/A"
PRODUCT_VERSION_ID = "1"
PRODUCER_INSTITUTION_NAME = "JOHNS HOPKINS UNIVERSITY APPLIED PHYSICS LABORATORY"
SOFTWARE_NAME = "crism_mapping_execute_flow"
SOFTWARE_VERSION_ID = "1.05.41"
MRO:WAVELENGTH_FILE_NAME = "N/A"
/* This Map Projected VNIR Hyperspectral RDR label describes one data file: */
/* 1. A multiple-band image file of calibrated RDR data in radiance, */
/* reflectance, or quantities derived therein, or related ancillary information. */
/* This RDR represents one latitude-longitude bin in a global map. */
/* See the Map Projection Object below for bin coordinates and resolution. */
/* See the CRISM Data Products SIS for more detailed description. */
/* Description of MAP PROJECTED VNIR HYPERSPECTRAL RDR REFLECTANCE IMAGE file */
/* MRO:FRAME_SET_CORR_FLAG = "ON" */
/* MRO:PHOTOMETRIC_CORR_FLAG = "ON" */
/* MRO:ATMOSPHERIC_CORR_FLAG = "ON" */
/* MRO:RATIO_SHIFT_CORR_FLAG = "ON" */
/* MRO:EMPIRICAL_GEOM_NORM_FLAG = "OFF" */
/* MRO:EMPIRICAL_SMILE_CORR_FLAG = "ON" */
/* MRO:SENSOR_SPACE_TRANSFORM_FLAG = "OFF" */
/* These parameters describe the browse image as a PDS document. */
OBJECT = PNG_DOCUMENT
  DOCUMENT_NAME = "T1553_VRRFEM_40N153_0654_1"
  DOCUMENT_FORMAT = PNG
  DOCUMENT_TOPIC_TYPE = "BROWSE IMAGE"
  INTERCHANGE_FORMAT = BINARY
  PUBLICATION_DATE = 2025-10-03
  SOURCE_PRODUCT_ID = "T1553_VRRFEM_40N153_0654_1"
  SAMPLE_TYPE = LSB_UNSIGNED_INTEGER
  SAMPLE_BITS = 8
  BANDS = 4
  BAND_SEQUENCE = ( "RED", "GREEN", "BLUE", "ALPHA")
  BAND_NAME = ( "BD530_2", "SH600_2", "BDI1000VIS" "ALPHA")
  /* The following information is to be used to scale from real */
  /* numbers to an 8-bit integer for this type of browse image. */
  DERIVED_MINIMUM = ( 0, 0, 0, 0 )
  DERIVED_MAXIMUM = ( 254, 254, 254, 255 )
  OFFSET = ( 0.0000E+00, 1.1445E-01, 0.0000E+00, 0.0000E+00)
  SCALING_FACTOR = ( 1.0982E-03, 1.7175E-04, 6.5782E-05, 1.0000E+00)
  DESCRIPTION = "Shows information related to Fe minerals and encodes visible and near- infrared spectral structure related to electronic absorption. FEM is particularly sensitive to ferric and ferrous mineral absorptions, as well as negative slopes due to dust coatings or compacted dust texture. Red colors may indicate nanophase or crystalline ferric oxides, whereas blue colors are often dust-free or more mafic surfaces. See Viviano-Beck et al. [2014] for details. Analysis of CRISM spectra must be used to match absorption band positions and relative strength for positive mineral identification."
END_OBJECT = PNG_DOCUMENT
/* ENVI header description */
/* The ENVI header is a separate ASCII file that includes basic */
/* image data file characteristics and allows the image data to be */
/* loaded directly into the ENVI image processing software available */
/* bands list. */
OBJECT = ENVI_HEADER
  HEADER_TYPE = "ENVI"
  INTERCHANGE_FORMAT = "ASCII"
  BYTES = 1265
  DESCRIPTION = "This text file can be used by ENVI image processing software to read in the image."
END_OBJECT = ENVI_HEADER
OBJECT = IMAGE
  LINES = 3271
  LINE_SAMPLES = 2506
  SAMPLE_TYPE = LSB_UNSIGNED_INTEGER
  SAMPLE_BITS = 8
  BANDS = 3
  BAND_STORAGE_TYPE = BAND_SEQUENTIAL
  BAND_SEQUENCE = "(RED, GREEN, BLUE)"
  BAND_NAME = ( "BD530_2", "SH600_2", "BDI1000VIS")
  /* The following information is to be used to scale from real */
  /* numbers to an 8-bit integer for this type of browse image. */
  DERIVED_MINIMUM = ( 0, 0, 0)
  DERIVED_MAXIMUM = ( 254, 254, 254 )
  OFFSET = ( 0.0000E+00, 1.1445E-01, 0.0000E+00)
  SCALING_FACTOR = ( 1.0982E-03, 1.7175E-04, 6.5782E-05)
  MISSING_CONSTANT = 255
END_OBJECT = IMAGE
/* Map projection information about this RDR is in the IMAGE_MAP_PROJECTION */
/* object below. */
OBJECT = IMAGE_MAP_PROJECTION
  ^DATA_SET_MAP_PROJECTION = "VRR_MAP.CAT"
  MAP_PROJECTION_TYPE = "EQUIRECTANGULAR"
  A_AXIS_RADIUS = 3387.887700000000
  B_AXIS_RADIUS = 3387.887700000000
  C_AXIS_RADIUS = 3387.887700000000
  POSITIVE_LONGITUDE_DIRECTION = EAST
  CENTER_LATITUDE = 40.0000000
  CENTER_LONGITUDE = 152.5000000
  LINE_FIRST_PIXEL = 1
  LINE_LAST_PIXEL = 3271
  SAMPLE_FIRST_PIXEL = 1
  SAMPLE_LAST_PIXEL = 2506
  MAP_PROJECTION_ROTATION = 0.0000000
  MAP_RESOLUTION = 654.0000048
  MAP_SCALE = 0.0904125
  MINIMUM_LATITUDE = 37.5000000
  MAXIMUM_LATITUDE = 42.5000000
  WESTERNMOST_LONGITUDE = 150.0000000
  EASTERNMOST_LONGITUDE = 155.0000000
  LINE_PROJECTION_OFFSET = 27794.2230279
  SAMPLE_PROJECTION_OFFSET = 1251.6854316
  COORDINATE_SYSTEM_TYPE = "BODY-FIXED ROTATING"
  COORDINATE_SYSTEM_NAME = "PLANETOCENTRIC"
END_OBJECT = IMAGE_MAP_PROJECTION
END
