PDS_VERSION_ID = PDS3
RECORD_TYPE = UNDEFINED
LABEL_REVISION_NOTE = "2003-11-19, S. Slavney (GEO); 2005-09-25, S. Murchie (JHU/APL); 2007-03-09, E. Malaret (ACT Corp.); 2007-09-14, C. Hash (ACT Corp); 2022-04-28 G. Romeo, F. Seelos, K. Hancock, R. Poffenbarger (JHU/APL);"
^ENVI_HEADER = "T1153_VRRAL_10N313_0654_1.HDR"
^IMAGE = "T1153_VRRAL_10N313_0654_1.IMG"
/*VNIR Hyperspectral Reduced Data Record (VRDR) Product Identification */
DATA_SET_ID = "MRO-M-CRISM-5-RDR-VNIRHYPERSPECTRAL-V1.0"
PRODUCT_ID = "T1153_VRRAL_10N313_0654_1"
/*( TNNNN_VRRss_yydxxx_rrrr_v )*/
/*( NNNN = tile number )*/
/*( ss = subtype of image product )*/
/*( yy = latitude of tile center )*/
/*( d = N or S for north or south latitude )*/
/*( xxx = east longitude of tile center (rounded) )*/
/*( rrrr = resolution in pixels/degree )*/
/*( v = version number )*/
INSTRUMENT_HOST_NAME = "MARS RECONNAISSANCE ORBITER"
SPACECRAFT_ID = MRO
INSTRUMENT_NAME = "COMPACT RECONNAISSANCE IMAGING SPECTROMETER FOR MARS"
INSTRUMENT_ID = CRISM
TARGET_NAME = MARS
PRODUCT_TYPE = MAP_PROJECTED_VNIR_HYPERSPECTRAL_RDR
PRODUCT_CREATION_TIME = 2025-03-20T23:56:58
START_TIME = "N/A"
STOP_TIME = "N/A"
SPACECRAFT_CLOCK_START_COUNT = "N/A"
SPACECRAFT_CLOCK_STOP_COUNT = "N/A"
PRODUCT_VERSION_ID = "1"
PRODUCER_INSTITUTION_NAME = "JOHNS HOPKINS UNIVERSITY APPLIED PHYSICS LABORATORY"
SOFTWARE_NAME = "crism_mapping_execute_flow"
SOFTWARE_VERSION_ID = "1.05.41"
MRO:WAVELENGTH_FILE_NAME = "T1153_VRRWV_10N313_0654_1.TAB"
/* This Map Projected VNIR Hyperspectral RDR label describes one data file: */
/* 1. A multiple-band image file of calibrated RDR data in radiance, */
/* reflectance, or quantities derived therein, or related ancillary information. */
/* This RDR represents one latitude-longitude bin in a global map. */
/* See the Map Projection Object below for bin coordinates and resolution. */
/* See the CRISM Data Products SIS for more detailed description. */
/* Description of MAP PROJECTED VNIR HYPERSPECTRAL RDR REFLECTANCE IMAGE file */
/* MRO:FRAME_SET_CORR_FLAG = "ON" */
/* MRO:PHOTOMETRIC_CORR_FLAG = "ON" */
/* MRO:ATMOSPHERIC_CORR_FLAG = "ON" */
/* MRO:RATIO_SHIFT_CORR_FLAG = "ON" */
/* MRO:EMPIRICAL_GEOM_NORM_FLAG = "OFF" */
/* MRO:EMPIRICAL_SMILE_CORR_FLAG = "ON" */
/* MRO:SENSOR_SPACE_TRANSFORM_FLAG = "OFF" */
/* ENVI header description */
/* The ENVI header is a separate ASCII file that includes basic */
/* image data file characteristics and allows the image data to be */
/* loaded directly into the ENVI image processing software available */
/* bands list. */
OBJECT = ENVI_HEADER
  HEADER_TYPE = "ENVI"
  INTERCHANGE_FORMAT = "ASCII"
  BYTES = 3274
  DESCRIPTION = "This text file can be used by ENVI image processing software to read in the image."
END_OBJECT = ENVI_HEADER
OBJECT = IMAGE
  LINES = 3271
  LINE_SAMPLES = 3221
  SAMPLE_TYPE = PC_REAL
  SAMPLE_BITS = 32
  BANDS = 90
  BAND_STORAGE_TYPE = BAND_SEQUENTIAL
  BAND_NAME = ( "371.120", "377.620", "384.120", "410.120", "416.620", "423.120", "429.630", "436.130", "442.630", "449.140", "455.640", "462.150", "468.650", "475.160", "481.670", "488.170", "494.680", "501.190", "507.700", "514.210", "520.720", "527.230", "533.740", "540.250", "546.760", "553.270", "559.780", "566.290", "572.810", "579.320", "585.830", "592.350", "598.860", "605.380", "611.890", "618.410", "624.920", "631.440", "637.960", "690.110", "696.630", "703.160", "709.680", "716.200", "722.720", "729.250", "735.770", "742.300", "748.820", "755.350", "761.870", "768.400", "774.920", "781.450", "787.980", "794.510", "801.040", "807.560", "814.090", "820.620", "827.150", "833.680", "840.220", "846.750", "853.280", "859.810", "866.340", "872.880", "879.410", "885.950", "892.480", "899.020", "905.550", "912.090", "918.620", "925.160", "931.700", "938.240", "944.770", "951.310", "957.850", "964.390", "970.930", "977.470", "984.010", "990.550", "997.100", "1003.64", "1010.18", "1016.72")
  MISSING_CONSTANT = 65535
END_OBJECT = IMAGE
/* Map projection information about this RDR is in the IMAGE_MAP_PROJECTION */
/* object below. */
OBJECT = IMAGE_MAP_PROJECTION
  ^DATA_SET_MAP_PROJECTION = "VRR_MAP.CAT"
  MAP_PROJECTION_TYPE = "EQUIRECTANGULAR"
  A_AXIS_RADIUS = 3395.582000000000
  B_AXIS_RADIUS = 3395.582000000000
  C_AXIS_RADIUS = 3395.582000000000
  POSITIVE_LONGITUDE_DIRECTION = EAST
  CENTER_LATITUDE = 10.0000000
  CENTER_LONGITUDE = -47.5000000
  LINE_FIRST_PIXEL = 1
  LINE_LAST_PIXEL = 3271
  SAMPLE_FIRST_PIXEL = 1
  SAMPLE_LAST_PIXEL = 3221
  MAP_PROJECTION_ROTATION = 0.0000000
  MAP_RESOLUTION = 653.9999883
  MAP_SCALE = 0.0906179
  MINIMUM_LATITUDE = 7.5000000
  MAXIMUM_LATITUDE = 12.5000000
  WESTERNMOST_LONGITUDE = -50.0000000
  EASTERNMOST_LONGITUDE = -45.0000000
  LINE_PROJECTION_OFFSET = 8174.7249407
  SAMPLE_PROJECTION_OFFSET = 1609.4647123
  COORDINATE_SYSTEM_TYPE = "BODY-FIXED ROTATING"
  COORDINATE_SYSTEM_NAME = "PLANETOCENTRIC"
END_OBJECT = IMAGE_MAP_PROJECTION
END
