PDS_VERSION_ID = PDS3
RECORD_TYPE = UNDEFINED
LABEL_REVISION_NOTE = "2003-11-19, S. Slavney (GEO); 2005-09-25, S. Murchie (JHU/APL); 2007-03-09, E. Malaret (ACT Corp.); 2007-09-14, C. Hash (ACT Corp); 2022-04-28 G. Romeo, F. Seelos, K. Hancock, R. Poffenbarger (JHU/APL);"
^ENVI_HEADER = "T1253_VRRDE_20N093_0654_1.HDR"
^IMAGE = "T1253_VRRDE_20N093_0654_1.IMG"
/*VNIR Hyperspectral Reduced Data Record (VRDR) Product Identification */
DATA_SET_ID = "MRO-M-CRISM-5-RDR-VNIRHYPERSPECTRAL-V1.0"
PRODUCT_ID = "T1253_VRRDE_20N093_0654_1"
/*( TNNNN_VRRss_yydxxx_rrrr_v )*/
/*( NNNN = tile number )*/
/*( ss = subtype of image product )*/
/*( yy = latitude of tile center )*/
/*( d = N or S for north or south latitude )*/
/*( xxx = east longitude of tile center (rounded) )*/
/*( rrrr = resolution in pixels/degree )*/
/*( v = version number )*/
INSTRUMENT_HOST_NAME = "MARS RECONNAISSANCE ORBITER"
SPACECRAFT_ID = MRO
INSTRUMENT_NAME = "COMPACT RECONNAISSANCE IMAGING SPECTROMETER FOR MARS"
INSTRUMENT_ID = CRISM
TARGET_NAME = MARS
PRODUCT_TYPE = MAP_PROJECTED_VNIR_HYPERSPECTRAL_RDR
PRODUCT_CREATION_TIME = 2025-04-11T17:10:04
START_TIME = "N/A"
STOP_TIME = "N/A"
SPACECRAFT_CLOCK_START_COUNT = "N/A"
SPACECRAFT_CLOCK_STOP_COUNT = "N/A"
PRODUCT_VERSION_ID = "1"
PRODUCER_INSTITUTION_NAME = "JOHNS HOPKINS UNIVERSITY APPLIED PHYSICS LABORATORY"
SOFTWARE_NAME = "crism_mapping_execute_flow"
SOFTWARE_VERSION_ID = "1.05.41"
MRO:WAVELENGTH_FILE_NAME = "T1253_VRRWV_20N093_0654_1.TAB"
/* This Map Projected VNIR Hyperspectral RDR label describes one data file: */
/* 1. A multiple-band image file of calibrated RDR data in radiance, */
/* reflectance, or quantities derived therein, or related ancillary information. */
/* This RDR represents one latitude-longitude bin in a global map. */
/* See the Map Projection Object below for bin coordinates and resolution. */
/* See the CRISM Data Products SIS for more detailed description. */
/* Description of MAP PROJECTED VNIR HYPERSPECTRAL RDR REFLECTANCE IMAGE file */
/* MRO:FRAME_SET_CORR_FLAG = "ON" */
/* MRO:PHOTOMETRIC_CORR_FLAG = "ON" */
/* MRO:ATMOSPHERIC_CORR_FLAG = "ON" */
/* MRO:RATIO_SHIFT_CORR_FLAG = "ON" */
/* MRO:EMPIRICAL_GEOM_NORM_FLAG = "OFF" */
/* MRO:EMPIRICAL_SMILE_CORR_FLAG = "ON" */
/* MRO:SENSOR_SPACE_TRANSFORM_FLAG = "OFF" */
/* ENVI header description */
/* The ENVI header is a separate ASCII file that includes basic */
/* image data file characteristics and allows the image data to be */
/* loaded directly into the ENVI image processing software available */
/* bands list. */
OBJECT = ENVI_HEADER
  HEADER_TYPE = "ENVI"
  INTERCHANGE_FORMAT = "ASCII"
  BYTES = 1628
  DESCRIPTION = "This text file can be used by ENVI image processing software to read in the image."
END_OBJECT = ENVI_HEADER
OBJECT = IMAGE
  LINES = 3271
  LINE_SAMPLES = 3074
  SAMPLE_TYPE = PC_REAL
  SAMPLE_BITS = 32
  BANDS = 17
  BAND_STORAGE_TYPE = BAND_SEQUENTIAL
  BAND_NAME = ( "Target ID", "Segment ID (Counter)", "Sample", "Line", "INA at areoid - deg", "EMA at areoid - deg", "Phase angle - deg", "Latitude - areocentric - deg N", "Longitude - areocentric - deg E", "INA at surface from MOLA - deg", "EMA at surface from MOLA - deg", "Slope magnitude from MOLA - deg", "MOLA slope azimuth - deg clkwise from N", "Elevation - meters relative to MOLA", "Thermal inertia - J m^-2 K^-1 s^-0.5", "Bolometic albedo", "Local solar time - hours")
  MISSING_CONSTANT = 65535
END_OBJECT = IMAGE
/* Map projection information about this RDR is in the IMAGE_MAP_PROJECTION */
/* object below. */
OBJECT = IMAGE_MAP_PROJECTION
  ^DATA_SET_MAP_PROJECTION = "VRR_MAP.CAT"
  MAP_PROJECTION_TYPE = "EQUIRECTANGULAR"
  A_AXIS_RADIUS = 3393.833300000000
  B_AXIS_RADIUS = 3393.833300000000
  C_AXIS_RADIUS = 3393.833300000000
  POSITIVE_LONGITUDE_DIRECTION = EAST
  CENTER_LATITUDE = 20.0000000
  CENTER_LONGITUDE = 92.5000000
  LINE_FIRST_PIXEL = 1
  LINE_LAST_PIXEL = 3271
  SAMPLE_FIRST_PIXEL = 1
  SAMPLE_LAST_PIXEL = 3074
  MAP_PROJECTION_ROTATION = 0.0000000
  MAP_RESOLUTION = 654.0000061
  MAP_SCALE = 0.0905712
  MINIMUM_LATITUDE = 17.5000000
  MAXIMUM_LATITUDE = 22.5000000
  WESTERNMOST_LONGITUDE = 90.0000000
  EASTERNMOST_LONGITUDE = 95.0000000
  LINE_PROJECTION_OFFSET = 14714.0193638
  SAMPLE_PROJECTION_OFFSET = 1536.2496390
  COORDINATE_SYSTEM_TYPE = "BODY-FIXED ROTATING"
  COORDINATE_SYSTEM_NAME = "PLANETOCENTRIC"
END_OBJECT = IMAGE_MAP_PROJECTION
END
