<?xml version="1.0" encoding="utf-8" standalone="no"?>
<?xml-model href="https://pds.nasa.gov/pds4/pds/v1/PDS4_PDS_1N00.sch" schematypens="http://purl.oclc.org/dsdl/schematron"?>
<?xml-model href="https://pds.nasa.gov/pds4/cart/v1/PDS4_CART_1N00_1970.sch" schematypens="http://purl.oclc.org/dsdl/schematron"?>
<?xml-model href="https://pds.nasa.gov/pds4/disp/v1/PDS4_DISP_1N00_1510.sch" schematypens="http://purl.oclc.org/dsdl/schematron"?>
<?xml-model href="https://pds.nasa.gov/pds4/proc/v1/PDS4_PROC_1N00_1300.sch" schematypens="http://purl.oclc.org/dsdl/schematron"?>
<?xml-model href="https://pds.nasa.gov/pds4/mission/mro/v1/PDS4_MRO_1N00_1400.sch" schematypens="http://purl.oclc.org/dsdl/schematron"?>
<Product_Observational xmlns="http://pds.nasa.gov/pds4/pds/v1" 
    xmlns:cart="http://pds.nasa.gov/pds4/cart/v1" 
    xmlns:disp="http://pds.nasa.gov/pds4/disp/v1" 
    xmlns:mro="http://pds.nasa.gov/pds4/mission/mro/v1" 
    xmlns:proc="http://pds.nasa.gov/pds4/proc/v1" 
    xmlns:xsi="http://www.w3.org/2001/XMLSchema-instance" 
    xsi:schemaLocation="http://pds.nasa.gov/pds4/pds/v1       https://pds.nasa.gov/pds4/pds/v1/PDS4_PDS_1N00.xsd      http://pds.nasa.gov/pds4/cart/v1       https://pds.nasa.gov/pds4/cart/v1/PDS4_CART_1N00_1970.xsd      http://pds.nasa.gov/pds4/disp/v1       https://pds.nasa.gov/pds4/disp/v1/PDS4_DISP_1N00_1510.xsd      http://pds.nasa.gov/pds4/proc/v1       https://pds.nasa.gov/pds4/proc/v1/PDS4_PROC_1N00_1300.xsd     http://pds.nasa.gov/pds4/mission/mro/v1    https://pds.nasa.gov/pds4/mission/mro/v1/PDS4_MRO_1N00_1400.xsd     ">
  <Identification_Area>
    <logical_identifier>urn:nasa:pds:mro_crism_vrdr:data_vrdr:t0187_vrrde_60s337_0654_1</logical_identifier>
    <version_id>1.0</version_id>
    <title>t0187_vrrde_60s337_0654_1 VRDR DE</title>
    <information_model_version>1.23.0.0</information_model_version>
    <product_class>Product_Observational</product_class>
    <Alias_List>
      <Alias>
        <alternate_id>T0187_VRRDE_60S337_0654_1</alternate_id>
        <comment>PDS3 PRODUCT_ID</comment>
      </Alias>
    </Alias_List>
    <Modification_History>
      <Modification_Detail>
        <modification_date>2025-10-13</modification_date>
        <version_id>1.0</version_id>
        <description>PDS4 conversion.</description>
      </Modification_Detail>
    </Modification_History>
  </Identification_Area>
  <Observation_Area>
    <Time_Coordinates>
      <start_date_time nilReason="inapplicable" xsi:nil="true"/>
      <stop_date_time nilReason="inapplicable" xsi:nil="true"/>
    </Time_Coordinates>
    <Investigation_Area>
      <name>MARS RECONNAISSANCE ORBITER</name>
      <type>Mission</type>
      <Internal_Reference>
        <lid_reference>urn:nasa:pds:context:investigation:mission.mars_reconnaissance_orbiter</lid_reference>
        <reference_type>data_to_investigation</reference_type>
      </Internal_Reference>
    </Investigation_Area>
    <Observing_System>
      <Observing_System_Component>
        <name>MARS RECONNAISSANCE ORBITER</name>
        <type>Host</type>
        <Internal_Reference>
          <lid_reference>urn:nasa:pds:context:instrument_host:spacecraft.mro</lid_reference>
          <reference_type>is_instrument_host</reference_type>
        </Internal_Reference>
      </Observing_System_Component>
      <Observing_System_Component>
        <name>COMPACT RECONNAISSANCE IMAGING SPECTROMETER FOR MARS</name>
        <type>Instrument</type>
        <Internal_Reference>
          <lid_reference>urn:nasa:pds:context:instrument:crism.mro</lid_reference>
          <reference_type>is_instrument</reference_type>
        </Internal_Reference>
      </Observing_System_Component>
    </Observing_System>
    <Target_Identification>
      <name>Mars</name>
      <type>Planet</type>
      <Internal_Reference>
        <lid_reference>urn:nasa:pds:context:target:planet.mars</lid_reference>
        <reference_type>data_to_target</reference_type>
      </Internal_Reference>
    </Target_Identification>
    <Mission_Area>
      <mro:MRO_Parameters>
        <mro:product_type>VRDR</mro:product_type>
        <mro:product_version_id>1</mro:product_version_id>
        <mro:producer_institution_name>Johns Hopkins University Applied Physics Laboratory</mro:producer_institution_name>
      </mro:MRO_Parameters>
    </Mission_Area>
    <Discipline_Area>
      <disp:Display_Settings>
        <Local_Internal_Reference>
          <local_identifier_reference>target_id_image</local_identifier_reference>
          <local_identifier_reference>segment_id_image</local_identifier_reference>
          <local_identifier_reference>sample_image</local_identifier_reference>
          <local_identifier_reference>line_image</local_identifier_reference>
          <local_identifier_reference>ina_image</local_identifier_reference>
          <local_identifier_reference>ema_image</local_identifier_reference>
          <local_identifier_reference>phase_image</local_identifier_reference>
          <local_identifier_reference>lat_image</local_identifier_reference>
          <local_identifier_reference>lon_image</local_identifier_reference>
          <local_identifier_reference>ina_mola_image</local_identifier_reference>
          <local_identifier_reference>ema_mola_image</local_identifier_reference>
          <local_identifier_reference>slope_mag_image</local_identifier_reference>
          <local_identifier_reference>slope_az_image</local_identifier_reference>
          <local_identifier_reference>elevation_image</local_identifier_reference>
          <local_identifier_reference>thermal_inertia_image</local_identifier_reference>
          <local_identifier_reference>albedo_image</local_identifier_reference>
          <local_identifier_reference>local_solar_time_image</local_identifier_reference>
          <local_reference_type>display_settings_to_array</local_reference_type>
        </Local_Internal_Reference>
        <disp:Display_Direction>
          <disp:horizontal_display_axis>Sample</disp:horizontal_display_axis>
          <disp:horizontal_display_direction>Left to Right</disp:horizontal_display_direction>
          <disp:vertical_display_axis>Line</disp:vertical_display_axis>
          <disp:vertical_display_direction>Top to Bottom</disp:vertical_display_direction>
        </disp:Display_Direction>
      </disp:Display_Settings>
      <cart:Cartography>
        <Local_Internal_Reference>
          <local_identifier_reference>target_id_image</local_identifier_reference>
          <local_identifier_reference>segment_id_image</local_identifier_reference>
          <local_identifier_reference>sample_image</local_identifier_reference>
          <local_identifier_reference>line_image</local_identifier_reference>
          <local_identifier_reference>ina_image</local_identifier_reference>
          <local_identifier_reference>ema_image</local_identifier_reference>
          <local_identifier_reference>phase_image</local_identifier_reference>
          <local_identifier_reference>lat_image</local_identifier_reference>
          <local_identifier_reference>lon_image</local_identifier_reference>
          <local_identifier_reference>ina_mola_image</local_identifier_reference>
          <local_identifier_reference>ema_mola_image</local_identifier_reference>
          <local_identifier_reference>slope_mag_image</local_identifier_reference>
          <local_identifier_reference>slope_az_image</local_identifier_reference>
          <local_identifier_reference>elevation_image</local_identifier_reference>
          <local_identifier_reference>thermal_inertia_image</local_identifier_reference>
          <local_identifier_reference>albedo_image</local_identifier_reference>
          <local_identifier_reference>local_solar_time_image</local_identifier_reference>
          <local_reference_type>cartography_parameters_to_image_object</local_reference_type>
        </Local_Internal_Reference>
        <cart:Spatial_Domain>
          <cart:Bounding_Coordinates>
            <cart:west_bounding_coordinate unit="deg">333.3333333</cart:west_bounding_coordinate>
            <cart:east_bounding_coordinate unit="deg">340</cart:east_bounding_coordinate>
            <cart:north_bounding_coordinate unit="deg">-57.5000000</cart:north_bounding_coordinate>
            <cart:south_bounding_coordinate unit="deg">-62.5000000</cart:south_bounding_coordinate>
          </cart:Bounding_Coordinates>
        </cart:Spatial_Domain>
        <cart:Spatial_Reference_Information>
          <cart:Horizontal_Coordinate_System_Definition>
            <cart:Planar>
              <cart:Map_Projection>
                <cart:map_projection_name>Equirectangular</cart:map_projection_name>
                <cart:Equirectangular>
                  <cart:latitude_of_projection_origin unit="deg">0</cart:latitude_of_projection_origin>
                  <cart:standard_parallel_1 unit="deg">-60.0000000</cart:standard_parallel_1>
                  <cart:longitude_of_central_meridian unit="deg">-23.3333330</cart:longitude_of_central_meridian>
                </cart:Equirectangular>
              </cart:Map_Projection>
              <cart:Planar_Coordinate_Information>
                <cart:planar_coordinate_encoding_method>Coordinate Pair</cart:planar_coordinate_encoding_method>
                <cart:Coordinate_Representation>
                  <cart:pixel_resolution_x unit="m/pixel">90.2331</cart:pixel_resolution_x>
                  <cart:pixel_resolution_y unit="m/pixel">90.2331</cart:pixel_resolution_y>
                  <cart:pixel_scale_x unit="pixel/deg">653.9999711</cart:pixel_scale_x>
                  <cart:pixel_scale_y unit="pixel/deg">653.9999711</cart:pixel_scale_y>
                </cart:Coordinate_Representation>
              </cart:Planar_Coordinate_Information>
              <cart:Geo_Transformation>
                <cart:upperleft_corner_x unit="m">-98379.2119952987</cart:upperleft_corner_x>
                <cart:upperleft_corner_y unit="m">-3393217.925752933</cart:upperleft_corner_y>
              </cart:Geo_Transformation>
            </cart:Planar>
            <cart:Geodetic_Model>
              <cart:latitude_type>Planetocentric</cart:latitude_type>
              <cart:a_axis_radius unit="m">3381164.4</cart:a_axis_radius>
              <cart:b_axis_radius unit="m">3381164.4</cart:b_axis_radius>
              <cart:c_axis_radius unit="m">3381164.4</cart:c_axis_radius>
              <cart:longitude_direction>Positive East</cart:longitude_direction>
            </cart:Geodetic_Model>
          </cart:Horizontal_Coordinate_System_Definition>
        </cart:Spatial_Reference_Information>
      </cart:Cartography>
      <proc:Processing_Information>
        <Local_Internal_Reference>
          <local_identifier_reference>target_id_image</local_identifier_reference>
          <local_identifier_reference>segment_id_image</local_identifier_reference>
          <local_identifier_reference>sample_image</local_identifier_reference>
          <local_identifier_reference>line_image</local_identifier_reference>
          <local_identifier_reference>ina_image</local_identifier_reference>
          <local_identifier_reference>ema_image</local_identifier_reference>
          <local_identifier_reference>phase_image</local_identifier_reference>
          <local_identifier_reference>lat_image</local_identifier_reference>
          <local_identifier_reference>lon_image</local_identifier_reference>
          <local_identifier_reference>ina_mola_image</local_identifier_reference>
          <local_identifier_reference>ema_mola_image</local_identifier_reference>
          <local_identifier_reference>slope_mag_image</local_identifier_reference>
          <local_identifier_reference>slope_az_image</local_identifier_reference>
          <local_identifier_reference>elevation_image</local_identifier_reference>
          <local_identifier_reference>thermal_inertia_image</local_identifier_reference>
          <local_identifier_reference>albedo_image</local_identifier_reference>
          <local_identifier_reference>local_solar_time_image</local_identifier_reference>
          <local_reference_type>processing_information_to_data_object</local_reference_type>
        </Local_Internal_Reference>
        <proc:Process>
          <proc:Software>
            <proc:Software_Program>
              <proc:name>crism_mapping_execute_flow</proc:name>
              <proc:program_version>1.05.41</proc:program_version>
              <proc:program_stop_date_time>2025-10-08T13:48:10Z</proc:program_stop_date_time>
            </proc:Software_Program>
          </proc:Software>
        </proc:Process>
      </proc:Processing_Information>
    </Discipline_Area>
  </Observation_Area>
  <Reference_List>
    <Internal_Reference>
      <lid_reference>urn:nasa:pds:mro_crism_mtrdr:document:crism_dpsis</lid_reference>
      <reference_type>data_to_document</reference_type>
    </Internal_Reference>
  </Reference_List>
  <File_Area_Observational>
    <File>
      <file_name>t0187_vrrde_60s337_0654_1.img</file_name>
      <creation_date_time>2025-10-08T13:48:10Z</creation_date_time>
      <comment>
                This Map Projected VNIR Hyperspectral RDR label describes a multiple-band
                image file of calibrated RDR data in radiance, reflectance,
                or quantities derived therein, or related ancillary information.
                This RDR represents one latitude-longitude bin in a global map.
                See the CRISM Data Product SIS for more detailed description.
            </comment>
    </File>
    <Array_2D_Image>
      <name>Target ID</name>
      <local_identifier>target_id_image</local_identifier>
      <offset unit="byte">0</offset>
      <axes>2</axes>
      <axis_index_order>Last Index Fastest</axis_index_order>
      <description>
                Map projected "Target ID" derived layer from the DDR product.
            </description>
      <Element_Array>
        <data_type>IEEE754LSBSingle</data_type>
      </Element_Array>
      <Axis_Array>
        <axis_name>Line</axis_name>
        <elements>3271</elements>
        <sequence_number>1</sequence_number>
      </Axis_Array>
      <Axis_Array>
        <axis_name>Sample</axis_name>
        <elements>2181</elements>
        <sequence_number>2</sequence_number>
      </Axis_Array>
      <Special_Constants>
        <missing_constant>65535</missing_constant>
      </Special_Constants>
    </Array_2D_Image>
    <Array_2D_Image>
      <name>Segment ID (Counter)</name>
      <local_identifier>segment_id_image</local_identifier>
      <offset unit="byte">28536204</offset>
      <axes>2</axes>
      <axis_index_order>Last Index Fastest</axis_index_order>
      <description>
                Map projected "Segment ID (Counter)" derived layer from the DDR product.
            </description>
      <Element_Array>
        <data_type>IEEE754LSBSingle</data_type>
      </Element_Array>
      <Axis_Array>
        <axis_name>Line</axis_name>
        <elements>3271</elements>
        <sequence_number>1</sequence_number>
      </Axis_Array>
      <Axis_Array>
        <axis_name>Sample</axis_name>
        <elements>2181</elements>
        <sequence_number>2</sequence_number>
      </Axis_Array>
      <Special_Constants>
        <missing_constant>65535</missing_constant>
      </Special_Constants>
    </Array_2D_Image>
    <Array_2D_Image>
      <name>Sample</name>
      <local_identifier>sample_image</local_identifier>
      <offset unit="byte">57072408</offset>
      <axes>2</axes>
      <axis_index_order>Last Index Fastest</axis_index_order>
      <description>
                Map projected "Sample" derived layer from the DDR product.
            </description>
      <Element_Array>
        <data_type>IEEE754LSBSingle</data_type>
      </Element_Array>
      <Axis_Array>
        <axis_name>Line</axis_name>
        <elements>3271</elements>
        <sequence_number>1</sequence_number>
      </Axis_Array>
      <Axis_Array>
        <axis_name>Sample</axis_name>
        <elements>2181</elements>
        <sequence_number>2</sequence_number>
      </Axis_Array>
      <Special_Constants>
        <missing_constant>65535</missing_constant>
      </Special_Constants>
    </Array_2D_Image>
    <Array_2D_Image>
      <name>Line</name>
      <local_identifier>line_image</local_identifier>
      <offset unit="byte">85608612</offset>
      <axes>2</axes>
      <axis_index_order>Last Index Fastest</axis_index_order>
      <description>
                Map projected "Line" derived layer from the DDR product.
            </description>
      <Element_Array>
        <data_type>IEEE754LSBSingle</data_type>
      </Element_Array>
      <Axis_Array>
        <axis_name>Line</axis_name>
        <elements>3271</elements>
        <sequence_number>1</sequence_number>
      </Axis_Array>
      <Axis_Array>
        <axis_name>Sample</axis_name>
        <elements>2181</elements>
        <sequence_number>2</sequence_number>
      </Axis_Array>
      <Special_Constants>
        <missing_constant>65535</missing_constant>
      </Special_Constants>
    </Array_2D_Image>
    <Array_2D_Image>
      <name>INA at areoid - deg</name>
      <local_identifier>ina_image</local_identifier>
      <offset unit="byte">114144816</offset>
      <axes>2</axes>
      <axis_index_order>Last Index Fastest</axis_index_order>
      <description>
                Map projected "INA at areoid - deg" derived layer from the DDR product.
            </description>
      <Element_Array>
        <data_type>IEEE754LSBSingle</data_type>
        <unit>deg</unit>
      </Element_Array>
      <Axis_Array>
        <axis_name>Line</axis_name>
        <elements>3271</elements>
        <sequence_number>1</sequence_number>
      </Axis_Array>
      <Axis_Array>
        <axis_name>Sample</axis_name>
        <elements>2181</elements>
        <sequence_number>2</sequence_number>
      </Axis_Array>
      <Special_Constants>
        <missing_constant>65535</missing_constant>
      </Special_Constants>
    </Array_2D_Image>
    <Array_2D_Image>
      <name>EMA at areoid - deg</name>
      <local_identifier>ema_image</local_identifier>
      <offset unit="byte">142681020</offset>
      <axes>2</axes>
      <axis_index_order>Last Index Fastest</axis_index_order>
      <description>
                Map projected "EMA at areoid - deg" derived layer from the DDR product.
            </description>
      <Element_Array>
        <data_type>IEEE754LSBSingle</data_type>
        <unit>deg</unit>
      </Element_Array>
      <Axis_Array>
        <axis_name>Line</axis_name>
        <elements>3271</elements>
        <sequence_number>1</sequence_number>
      </Axis_Array>
      <Axis_Array>
        <axis_name>Sample</axis_name>
        <elements>2181</elements>
        <sequence_number>2</sequence_number>
      </Axis_Array>
      <Special_Constants>
        <missing_constant>65535</missing_constant>
      </Special_Constants>
    </Array_2D_Image>
    <Array_2D_Image>
      <name>Phase angle - deg</name>
      <local_identifier>phase_image</local_identifier>
      <offset unit="byte">171217224</offset>
      <axes>2</axes>
      <axis_index_order>Last Index Fastest</axis_index_order>
      <description>
                Map projected "Phase angle - deg" derived layer from the DDR product.
            </description>
      <Element_Array>
        <data_type>IEEE754LSBSingle</data_type>
        <unit>deg</unit>
      </Element_Array>
      <Axis_Array>
        <axis_name>Line</axis_name>
        <elements>3271</elements>
        <sequence_number>1</sequence_number>
      </Axis_Array>
      <Axis_Array>
        <axis_name>Sample</axis_name>
        <elements>2181</elements>
        <sequence_number>2</sequence_number>
      </Axis_Array>
      <Special_Constants>
        <missing_constant>65535</missing_constant>
      </Special_Constants>
    </Array_2D_Image>
    <Array_2D_Image>
      <name>Latitude - areocentric - deg N</name>
      <local_identifier>lat_image</local_identifier>
      <offset unit="byte">199753428</offset>
      <axes>2</axes>
      <axis_index_order>Last Index Fastest</axis_index_order>
      <description>
                Map projected "Latitude - areocentric - deg N" derived layer from the DDR product.
            </description>
      <Element_Array>
        <data_type>IEEE754LSBSingle</data_type>
        <unit>deg</unit>
      </Element_Array>
      <Axis_Array>
        <axis_name>Line</axis_name>
        <elements>3271</elements>
        <sequence_number>1</sequence_number>
      </Axis_Array>
      <Axis_Array>
        <axis_name>Sample</axis_name>
        <elements>2181</elements>
        <sequence_number>2</sequence_number>
      </Axis_Array>
      <Special_Constants>
        <missing_constant>65535</missing_constant>
      </Special_Constants>
    </Array_2D_Image>
    <Array_2D_Image>
      <name>Longitude - areocentric - deg E</name>
      <local_identifier>lon_image</local_identifier>
      <offset unit="byte">228289632</offset>
      <axes>2</axes>
      <axis_index_order>Last Index Fastest</axis_index_order>
      <description>
                Map projected "Longitude - areocentric - deg E" derived layer from the DDR product.
            </description>
      <Element_Array>
        <data_type>IEEE754LSBSingle</data_type>
        <unit>deg</unit>
      </Element_Array>
      <Axis_Array>
        <axis_name>Line</axis_name>
        <elements>3271</elements>
        <sequence_number>1</sequence_number>
      </Axis_Array>
      <Axis_Array>
        <axis_name>Sample</axis_name>
        <elements>2181</elements>
        <sequence_number>2</sequence_number>
      </Axis_Array>
      <Special_Constants>
        <missing_constant>65535</missing_constant>
      </Special_Constants>
    </Array_2D_Image>
    <Array_2D_Image>
      <name>INA at surface from MOLA - deg</name>
      <local_identifier>ina_mola_image</local_identifier>
      <offset unit="byte">256825836</offset>
      <axes>2</axes>
      <axis_index_order>Last Index Fastest</axis_index_order>
      <description>
                Map projected "INA at surface from MOLA - deg" derived layer from the DDR product.
            </description>
      <Element_Array>
        <data_type>IEEE754LSBSingle</data_type>
        <unit>deg</unit>
      </Element_Array>
      <Axis_Array>
        <axis_name>Line</axis_name>
        <elements>3271</elements>
        <sequence_number>1</sequence_number>
      </Axis_Array>
      <Axis_Array>
        <axis_name>Sample</axis_name>
        <elements>2181</elements>
        <sequence_number>2</sequence_number>
      </Axis_Array>
      <Special_Constants>
        <missing_constant>65535</missing_constant>
      </Special_Constants>
    </Array_2D_Image>
    <Array_2D_Image>
      <name>EMA at surface from MOLA - deg</name>
      <local_identifier>ema_mola_image</local_identifier>
      <offset unit="byte">285362040</offset>
      <axes>2</axes>
      <axis_index_order>Last Index Fastest</axis_index_order>
      <description>
                Map projected "EMA at surface from MOLA - deg" derived layer from the DDR product.
            </description>
      <Element_Array>
        <data_type>IEEE754LSBSingle</data_type>
        <unit>deg</unit>
      </Element_Array>
      <Axis_Array>
        <axis_name>Line</axis_name>
        <elements>3271</elements>
        <sequence_number>1</sequence_number>
      </Axis_Array>
      <Axis_Array>
        <axis_name>Sample</axis_name>
        <elements>2181</elements>
        <sequence_number>2</sequence_number>
      </Axis_Array>
      <Special_Constants>
        <missing_constant>65535</missing_constant>
      </Special_Constants>
    </Array_2D_Image>
    <Array_2D_Image>
      <name>Slope magnitude from MOLA - deg</name>
      <local_identifier>slope_mag_image</local_identifier>
      <offset unit="byte">313898244</offset>
      <axes>2</axes>
