PDS_VERSION_ID = PDS3
RECORD_TYPE = FIXED_LENGTH
RECORD_BYTES = 2880
FILE_RECORDS = 360
^IMAGE = ("GGMRO_095A_ANOMERR_080.IMG",1)
INSTRUMENT_HOST_NAME = "MARS RECONNAISSANCE ORBITER"
TARGET_NAME = "MARS"
INSTRUMENT_NAME = "RADIO SCIENCE SUBSYSTEM"
DATA_SET_ID = "MRO-M-RSS-5-SDP-V1.0"
ORIGINAL_PRODUCT_ID = "MRO95A_SANOMALY_TRUNCATE_N=80"
PRODUCT_ID = "GGMRO_095A_ANOMERR_080.IMG"
PRODUCT_RELEASE_DATE = 2009-08-21
DESCRIPTION = " This file contains a digital map of the Mars gravity anomaly formal uncertainty derived from the error covariance matrix for the spherical harmonic coefficients of the GSFC MROMGM0032 Mars gravity field. Each point gives the Mars gravity anomaly error in milligals, which is the error of the model gravity on the grid defined from -89 S to 90 N and 0 E to 359 deg E. The GGMRO_095A_ANOMERR_080 gravity anomaly error map is computed from a truncated MROMGM0032 solution (from degree 2 up to degree 80). The map is produced by Frank G. Lemoine at GSFC for the MRO Gravity Science Team."
START_TIME = 1998-03-27T08:00:00.000
STOP_TIME = 2008-09-01T00:00:00.000
SOFTWARE_NAME = "CGSST;V20030325.0"
PRODUCT_CREATION_TIME = 2009-08-21T13:00:00.000
PRODUCER_ID = "MRO GRAVSCI TEAM"
OBJECT = IMAGE
  LINES = 180
  LINE_SAMPLES = 360
  SAMPLE_TYPE = IEEE_REAL
  SAMPLE_BITS = 64
  UNIT = "MILLIGALS"
  OFFSET = 0.0E+00
  SCALING_FACTOR = 1.0E+00
  DESCRIPTION = "The Digital Map contains values of the gravity anomaly. The values can be obtained by multiplying the sample in the map by SCALING_FACTOR and then adding OFFSET. One milligal equals 0.01 mm/s/s."
END_OBJECT = IMAGE
OBJECT = IMAGE_MAP_PROJECTION
  ^DATA_SET_MAP_PROJECTION = "DSMAP.CAT"
  COORDINATE_SYSTEM_TYPE = "BODY-FIXED ROTATING"
  COORDINATE_SYSTEM_NAME = PLANETOCENTRIC
  MAP_PROJECTION_TYPE = "SIMPLE CYLINDRICAL"
  A_AXIS_RADIUS = 3396.0
  B_AXIS_RADIUS = 3396.0
  C_AXIS_RADIUS = 3396.0
  FIRST_STANDARD_PARALLEL = "N/A"
  SECOND_STANDARD_PARALLEL = "N/A"
  POSITIVE_LONGITUDE_DIRECTION = "EAST"
  CENTER_LATITUDE = 1.0
  CENTER_LONGITUDE = 179.0
  REFERENCE_LATITUDE = 0.0
  REFERENCE_LONGITUDE = 0.0
  LINE_FIRST_PIXEL = 1
  LINE_LAST_PIXEL = 180
  SAMPLE_FIRST_PIXEL = 1
  SAMPLE_LAST_PIXEL = 360
  MAP_PROJECTION_ROTATION = 0.0
  MAP_RESOLUTION = 1.0E+00
  MAP_SCALE = "N/A"
  MAXIMUM_LATITUDE = 90.0
  MINIMUM_LATITUDE = -89.0
  EASTERNMOST_LONGITUDE = 359.0
  WESTERNMOST_LONGITUDE = 0.0
  LINE_PROJECTION_OFFSET = 0.0
  SAMPLE_PROJECTION_OFFSET = 0.0
END_OBJECT = IMAGE_MAP_PROJECTION
END
