<?xml version="1.0" encoding="UTF-8"?>
<?xml-model href="https://pds.nasa.gov/pds4/pds/v1/PDS4_PDS_1G00.sch" schematypens="http://purl.oclc.org/dsdl/schematron"?>
<?xml-model href="https://pds.nasa.gov/pds4/cart/v1/PDS4_CART_1G00_1950.sch" schematypens="http://purl.oclc.org/dsdl/schematron"?>
<?xml-model href="https://pds.nasa.gov/pds4/disp/v1/PDS4_DISP_1G00_1500.sch" schematypens="http://purl.oclc.org/dsdl/schematron"?>
<Product_Observational
    xmlns="http://pds.nasa.gov/pds4/pds/v1"
    xmlns:disp="http://pds.nasa.gov/pds4/disp/v1"
    xmlns:cart="http://pds.nasa.gov/pds4/cart/v1"
    xmlns:xsi="http://www.w3.org/2001/XMLSchema-instance"
    xsi:schemaLocation="http://pds.nasa.gov/pds4/pds/v1 https://pds.nasa.gov/pds4/pds/v1/PDS4_PDS_1G00.xsd
    http://pds.nasa.gov/pds4/disp/v1 https://pds.nasa.gov/pds4/disp/v1/PDS4_DISP_1G00_1500.xsd
    http://pds.nasa.gov/pds4/cart/v1 https://pds.nasa.gov/pds4/cart/v1/PDS4_CART_1G00_1950.xsd">
    <Identification_Area>
        <logical_identifier>urn:nasa:pds:venus_radar_level2:data:venus_2015_north_scp</logical_identifier>
        <version_id>1.0</version_id>
        <title>Venus Earth-Based Level-2 North SCP Map</title>
        <information_model_version>1.16.0.0</information_model_version>
        <product_class>Product_Observational</product_class>
        <Citation_Information>
            <author_list>Bruce Campbell</author_list>
            <publication_year>2021</publication_year>
            <description>Smithsonian Institution</description>
        </Citation_Information>
        <Modification_History>
            <Modification_Detail>
                <modification_date>2021-03-14</modification_date>
                <version_id>1.0</version_id>
                <description>Initial draft.</description>
            </Modification_Detail>
        </Modification_History>
    </Identification_Area>
    <Observation_Area>
        <Time_Coordinates>
            <start_date_time>2015-08-10T16:26:29Z</start_date_time>
            <stop_date_time>2015-08-16T17:11:04Z</stop_date_time>
        </Time_Coordinates>
        <Primary_Result_Summary>
            <purpose>Science</purpose>
            <processing_level>Derived</processing_level>
        </Primary_Result_Summary>
        <Investigation_Area>
            <name>B. Campbell Venus Earth-Based Radar Observations</name>
            <type>Individual Investigation</type>
            <Internal_Reference>
                <lid_reference>urn:nasa:pds:context:investigation:individual.campbell_venus_radar</lid_reference>
                <reference_type>data_to_investigation</reference_type>
            </Internal_Reference>
        </Investigation_Area>
        <Observing_System>
            <name>Arecibo Observatory</name>
            <Observing_System_Component>
                <name>Arecibo Observatory</name>
                <type>Host</type>
                <Internal_Reference>
                    <lid_reference>urn:nasa:pds:context:facility:observatory.arecibo</lid_reference>
                    <reference_type>is_instrument_host</reference_type>
                </Internal_Reference>
            </Observing_System_Component>
            <Observing_System_Component>
                <name>305-m fixed spherical reflecting antenna</name>
                <type>Instrument</type>
                <Internal_Reference>
                    <lid_reference>urn:nasa:pds:context:telescope:arecibo.305m</lid_reference>
                    <reference_type>is_telescope</reference_type>
                </Internal_Reference>
            </Observing_System_Component>
            <Observing_System_Component>
                <name>Arecibo Planetary Radar Transmitter</name>
                <type>Instrument</type>
                <Internal_Reference>
                    <lid_reference>urn:nasa:pds:context:instrument:arecibo.305m.trans_s</lid_reference>
                    <reference_type>is_instrument</reference_type>
                </Internal_Reference>
            </Observing_System_Component>
            <Observing_System_Component>
                <name>Arecibo 2380 MHz Radar Receiver</name>
                <type>Instrument</type>
                <Internal_Reference>
                    <lid_reference>urn:nasa:pds:context:instrument:arecibo.305m.recv_s</lid_reference>
                    <reference_type>is_instrument</reference_type>
                </Internal_Reference>
            </Observing_System_Component>
        </Observing_System>
        <Target_Identification>
            <name>Venus</name>
            <type>Planet</type>
            <Internal_Reference>
                <lid_reference>urn:nasa:pds:context:target:planet.venus</lid_reference>
                <reference_type>data_to_target</reference_type>
            </Internal_Reference>
        </Target_Identification>
        <Discipline_Area>
            <disp:Display_Settings>
                <Local_Internal_Reference>
                    <local_identifier_reference>image_object</local_identifier_reference>
                    <local_reference_type>display_settings_to_array</local_reference_type>
                </Local_Internal_Reference>
                <disp:Display_Direction>
                    <disp:horizontal_display_axis>Sample</disp:horizontal_display_axis>
                    <disp:horizontal_display_direction>Left to Right</disp:horizontal_display_direction>
                    <disp:vertical_display_axis>Line</disp:vertical_display_axis>
                    <disp:vertical_display_direction>Top to Bottom</disp:vertical_display_direction>
                </disp:Display_Direction>
            </disp:Display_Settings>
            <cart:Cartography>
                <Local_Internal_Reference>
                    <local_identifier_reference>image_object</local_identifier_reference>
                    <local_reference_type>cartography_parameters_to_image_object</local_reference_type>
                </Local_Internal_Reference>
                <cart:Spatial_Domain>
                    <cart:Bounding_Coordinates>
                        <cart:west_bounding_coordinate
                            unit="deg">254.256</cart:west_bounding_coordinate> <!-- Based on approximate valid pixel edge --> 
                        <cart:east_bounding_coordinate
                            unit="deg">37.213</cart:east_bounding_coordinate> <!-- Based on approximate valid pixel edge --> 
                        <cart:north_bounding_coordinate
                            unit="deg">80.845</cart:north_bounding_coordinate> <!-- Based on approximate valid pixel edge -->
                        <cart:south_bounding_coordinate
                            unit="deg">-25.0</cart:south_bounding_coordinate>
                    </cart:Bounding_Coordinates>
                </cart:Spatial_Domain>
                <cart:Spatial_Reference_Information>
                    <cart:Horizontal_Coordinate_System_Definition>
                        <cart:Planar>
                            <cart:Map_Projection>
                                <cart:map_projection_name>Sinusoidal</cart:map_projection_name>
                                <cart:Sinusoidal>
                                    <cart:longitude_of_central_meridian
                                        unit="deg">335.0</cart:longitude_of_central_meridian>
                                </cart:Sinusoidal>
                            </cart:Map_Projection>
                            <cart:Planar_Coordinate_Information>
                                <cart:planar_coordinate_encoding_method>Coordinate Pair</cart:planar_coordinate_encoding_method>
                                <cart:Coordinate_Representation>
                                    <cart:pixel_resolution_x unit="m/pixel">1000.0</cart:pixel_resolution_x>
                                    <cart:pixel_resolution_y unit="m/pixel">1000.0</cart:pixel_resolution_y>
                                    <cart:pixel_scale_x unit="pixel/deg">105.609873</cart:pixel_scale_x>
                                    <cart:pixel_scale_y unit="pixel/deg">105.609873</cart:pixel_scale_y>
                                </cart:Coordinate_Representation>
                            </cart:Planar_Coordinate_Information>
                            <cart:Geo_Transformation>
                                <cart:upperleft_corner_x unit="m">-10000000.0</cart:upperleft_corner_x>
                                <cart:upperleft_corner_y unit="m">9359753.174046</cart:upperleft_corner_y>
                            </cart:Geo_Transformation>
                        </cart:Planar>
                        <cart:Geodetic_Model>
                            <cart:latitude_type>Planetocentric</cart:latitude_type>
                            <cart:a_axis_radius unit="km">6051.0</cart:a_axis_radius>
                            <cart:b_axis_radius unit="km">6051.0</cart:b_axis_radius>
                            <cart:c_axis_radius unit="km">6051.0</cart:c_axis_radius>
                            <cart:longitude_direction>Positive East</cart:longitude_direction>
                        </cart:Geodetic_Model>
                    </cart:Horizontal_Coordinate_System_Definition>
                </cart:Spatial_Reference_Information>
            </cart:Cartography>
        </Discipline_Area>
    </Observation_Area>
    <Reference_List>
        <Internal_Reference>
            <lid_reference>urn:nasa:pds:venus_radar_level2:document:user_guide</lid_reference>
            <reference_type>data_to_document</reference_type>
            <comment>Description of the maps and their derivation.</comment>
        </Internal_Reference>
    </Reference_List>
    <File_Area_Observational>
        <File>
            <file_name>venus_2015_north_scp.img</file_name>
            <comment>Same-sense circular polarization image. Units are dimensionless backscatter power normalized to the 
                thermal noise, but do not reflect calibrated radar cross section.</comment>
        </File>
        <Array_2D_Map>
            <local_identifier>image_object</local_identifier>
            <offset unit="byte">0</offset>
            <axes>2</axes>
            <axis_index_order>Last Index Fastest</axis_index_order>
            <Element_Array>
                <data_type>IEEE754LSBSingle</data_type>
            </Element_Array>
            <Axis_Array>
                <axis_name>Line</axis_name>
                <elements>12000</elements>
                <sequence_number>1</sequence_number>
            </Axis_Array>
            <Axis_Array>
                <axis_name>Sample</axis_name>
                <elements>20000</elements>
                <sequence_number>2</sequence_number>
            </Axis_Array>
        </Array_2D_Map>
    </File_Area_Observational>
</Product_Observational>
